Data-Integer v0.004 Perl 5 v5.12.1 i86pc-solaris
- Status
- Pass
- From
- Graham Crookham (GRAHAMC)
- Dist
-
Data-Integer v0.004
- Platform
- Perl 5 v5.12.1 i86pc-solaris
- Date
- 2010-07-28 11:40:22
- ID
- e7cdbe06-9a3c-11df-8cd5-99de95b2b6ae
This distribution has been tested as part of the CPAN Testers
project, supporting the Perl programming language. See
http://wiki.cpantesters.org/ for more information or email
questions to cpan-testers-discuss@perl.org
--
Dear Andrew Main (Zefram),
This is a computer-generated report for Data-Integer-0.004
on perl 5.12.1, created by CPAN-Reporter-1.1711.
Thank you for uploading your work to CPAN. Congratulations!
All tests were successful.
Sections of this report:
* Tester comments
* Program output
* Prerequisites
* Environment and other context
------------------------------
TESTER COMMENTS
------------------------------
Additional comments from tester:
this report is from an automated smoke testing program
and was not reviewed by a human for accuracy
------------------------------
PROGRAM OUTPUT
------------------------------
Output from './Build test':
t/arith.t .... ok
t/bitwise.t .. ok
t/canon.t .... ok
t/const.t .... ok
t/fmt.t ...... ok
t/hex.t ...... ok
t/marith.t ... ok
t/pod_cvg.t .. ok
t/pod_syn.t .. ok
t/shift.t .... ok
All tests successful.
Files=10, Tests=6271, 10 wallclock secs ( 2.65 usr 0.21 sys + 5.58 cusr 0.63 csys = 9.07 CPU)
Result: PASS
------------------------------
PREREQUISITES
------------------------------
Prerequisite modules loaded:
requires:
Module Need Have
------------- ----- --------
Carp 0 1.16
constant 0 1.20
Exporter 0 5.64_01
integer 0 1.00
parent 0 0.223
perl 5.006 5.012001
strict 0 1.04
warnings 0 1.09
build_requires:
Module Need Have
------------- ----- --------
integer 0 1.00
Module::Build 0 0.3607
perl 5.006 5.012001
strict 0 1.04
Test::More 0 0.94
warnings 0 1.09
configure_requires:
Module Need Have
------------- ----- --------
Module::Build 0 0.3607
perl 5.006 5.012001
strict 0 1.04
warnings 0 1.09
------------------------------
ENVIRONMENT AND OTHER CONTEXT
------------------------------
Environment variables:
AUTOMATED_TESTING = 1
LANG = en_US.UTF-8
LC_MESSAGES = en_US.UTF-8
PATH = /export/home/graham/perltest/perl/bin:/usr/gnu/bin:/usr/bin:/usr/X11/bin:/usr/sbin:/sbin:/usr/ccs/bin
PERL5LIB =
PERL5OPT =
PERL5_CPANPLUS_IS_RUNNING = 21776
PERL5_CPAN_IS_RUNNING = 21776
PERL5_CPAN_IS_RUNNING_IN_RECURSION = 866,21776
PERL_CR_SMOKER_CURRENT = Data-Integer-0.004
PERL_EXTUTILS_AUTOINSTALL = --defaultdeps
PERL_MM_USE_DEFAULT = 1
SHELL = /bin/bash
TERM = xterm
Perl special variables (and OS-specific diagnostics, for MSWin32):
$^X = /export/home/graham/perltest/perl/bin/perl
$UID/$EUID = 101 / 101
$GID = 10 10
$EGID = 10 10
Perl module toolchain versions installed:
Module Have
------------------- -------
CPAN 1.94_58
Cwd 3.31_02
ExtUtils::CBuilder 0.27_04
ExtUtils::Command 1.16
ExtUtils::Install 1.55
ExtUtils::MakeMaker 6.56
ExtUtils::Manifest 1.57
ExtUtils::ParseXS 2.2206
File::Spec 3.31_02
Module::Build 0.3607
Module::Signature n/a
Test::Harness 3.21
Test::More 0.94
YAML 0.71
YAML::Syck 1.10
version 0.82
--
Summary of my perl5 (revision 5 version 12 subversion 1) configuration:
Platform:
osname=solaris, osvers=2.11, archname=i86pc-solaris
uname='sunos hidegkuti 5.11 snv_111b i86pc i386 i86pc solaris '
config_args=''
hint=recommended, useposix=true, d_sigaction=define
useithreads=undef, usemultiplicity=undef
useperlio=define, d_sfio=undef, uselargefiles=define, usesocks=undef
use64bitint=undef, use64bitall=undef, uselongdouble=undef
usemymalloc=n, bincompat5005=undef
Compiler:
cc='gcc', ccflags ='-fno-strict-aliasing -pipe -D_LARGEFILE_SOURCE -D_FILE_OFFSET_BITS=64 -DPERL_USE_SAFE_PUTENV -DPERL_USE_SAFE_PUTENV -DPERL_USE_SAFE_PUTENV -DPERL_USE_SAFE_PUTENV',
optimize='-O',
cppflags='-fno-strict-aliasing -pipe'
ccversion='', gccversion='3.4.3 (csl-sol210-3_4-20050802)', gccosandvers='solaris2.11'
intsize=4, longsize=4, ptrsize=4, doublesize=8, byteorder=1234
d_longlong=define, longlongsize=8, d_longdbl=define, longdblsize=12
ivtype='long', ivsize=4, nvtype='double', nvsize=8, Off_t='off_t', lseeksize=8
alignbytes=4, prototype=define
Linker and Libraries:
ld='gcc', ldflags =' '
libpth=/usr/lib /usr/ccs/lib
libs=-lsocket -lnsl -ldl -lm -lc
perllibs=-lsocket -lnsl -ldl -lm -lc
libc=/lib/libc.so, so=so, useshrplib=false, libperl=libperl.a
gnulibc_version=''
Dynamic Linking:
dlsrc=dl_dlopen.xs, dlext=so, d_dlsymun=undef, ccdlflags=' '
cccdlflags='-fPIC', lddlflags='-G'
Characteristics of this binary (from libperl):
Compile-time options: PERL_DONT_CREATE_GVSV PERL_MALLOC_WRAP
PERL_USE_SAFE_PUTENV USE_LARGE_FILES USE_PERLIO
USE_PERL_ATOF
Built under solaris
Compiled at Jul 21 2010 15:14:27
%ENV:
PERL5LIB=""
PERL5OPT=""
PERL5_CPANPLUS_IS_RUNNING="21776"
PERL5_CPAN_IS_RUNNING="21776"
PERL5_CPAN_IS_RUNNING_IN_RECURSION="866,21776"
PERL_CR_SMOKER_CURRENT="Data-Integer-0.004"
PERL_EXTUTILS_AUTOINSTALL="--defaultdeps"
PERL_MM_USE_DEFAULT="1"
@INC:
/export/home/graham/perltest/perl/lib/site_perl/5.12.1/i86pc-solaris
/export/home/graham/perltest/perl/lib/site_perl/5.12.1
/export/home/graham/perltest/perl/lib/5.12.1/i86pc-solaris
/export/home/graham/perltest/perl/lib/5.12.1
.