Report for Web-Scraper-0.37

Back
From: metabase:user:1eed3a18-483e-11e2-a87b-a3931c712682
Subject: PASS Web-Scraper-0.37 v5.18.0 GNU/Linux
Date: 2013-05-25T01:03:26Z

This distribution has been tested as part of the CPAN Testers
project, supporting the Perl programming language.  See
http://wiki.cpantesters.org/ for more information or email
questions to cpan-testers-discuss@perl.org


--
Dear Tatsuhiko Miyagawa,

This is a computer-generated report for Web-Scraper-0.37
on perl 5.18.0, created by CPAN-Reporter-1.2010.

Thank you for uploading your work to CPAN.  Congratulations!
All tests were successful.

Sections of this report:

    * Tester comments
    * Program output
    * Prerequisites
    * Environment and other context

------------------------------
TESTER COMMENTS
------------------------------

Additional comments from tester:

none provided

------------------------------
PROGRAM OUTPUT
------------------------------

Output from '/usr/bin/make test':

PERL_DL_NONLAZY=1 /home/perlbrew/perl5/perlbrew/perls/perl-5.18.0/bin/perl "-MExtUtils::Command::MM" "-e" "test_harness(0, 'inc', 'blib/lib', 'blib/arch')" t/*.t
t/00_compile.t .......... ok
t/01_process.t .......... ok
t/02_process_multi.t .... ok
t/03_scraper_nest.t ..... ok
t/04_callback.t ......... ok
t/05_process_first.t .... ok
t/06_define.t ........... ok
t/07-live.t ............. skipped: LIVE_TEST not enabled
t/08-leak.t ............. skipped: LEAK_TEST is not defined
t/09-process_hash.t ..... ok
t/11_absolute.t ......... ok
t/12_html.t ............. ok
t/13_textnode.t ......... ok
t/14_absolute_nested.t .. ok
t/15_absolute_hash.t .... ok
t/16_filter.t ........... ok
t/17_filter_loop.t ...... ok
t/18_http_response.t .... skipped: LIVE_TEST not enabled
t/19_decode_content.t ... skipped: LIVE_TEST not enabled
t/20_comment_nodes.t .... skipped: Please upgrade HTML::TreeBuilder::XPath and HTML::TreeBuilder::LibXML modules for comment nodes supporting
t/21_html5.t ............ ok
t/redefine.t ............ ok
t/xml-simple.t .......... skipped: Test requires module 'HTML::TreeBuilder::LibXML' but it's not found
All tests successful.
Files=23, Tests=38,  7 wallclock secs ( 0.21 usr  0.15 sys +  5.19 cusr  0.79 csys =  6.34 CPU)
Result: PASS

------------------------------
PREREQUISITES
------------------------------

Prerequisite modules loaded:

requires:

    Module                   Need     Have    
    ------------------------ -------- --------
    HTML::Entities           0        3.69    
    HTML::Selector::XPath    0.03     0.15    
    HTML::Tagset             0        3.20    
    HTML::TreeBuilder        3.23     5.03    
    HTML::TreeBuilder::XPath 0.08     0.14    
    LWP                      5.827    6.05    
    perl                     5.008001 5.018000
    Scalar::Util             0        1.27    
    UNIVERSAL::require       0        0.13    
    URI                      0        1.60    
    XML::XPathEngine         0.08     0.14    
    YAML                     0        0.84    

build_requires:

    Module                   Need     Have    
    ------------------------ -------- --------
    ExtUtils::MakeMaker      6.59     6.66    
    Test::Base               0        0.60    
    Test::More               0        0.98    
    Test::Requires           0        0.06    

configure_requires:

    Module                   Need     Have    
    ------------------------ -------- --------
    ExtUtils::MakeMaker      6.59     6.66    


------------------------------
ENVIRONMENT AND OTHER CONTEXT
------------------------------

Environment variables:

    LANG = en_US.UTF-8
    LC_ALL = en_US.UTF-8
    PATH = /home/perlbrew/perl5/perlbrew/bin:/home/perlbrew/perl5/perlbrew/perls/perl-5.18.0/bin:/usr/local/bin:/usr/bin:/bin:/usr/local/games:/usr/games:/opt/vagrant_ruby/bin
    PERL5LIB = 
    PERL5OPT = 
    PERL5_CPANPLUS_IS_RUNNING = 20960
    PERL5_CPAN_IS_RUNNING = 20960
    PERLBREW_BASHRC_VERSION = 0.63
    PERLBREW_HOME = /home/perlbrew/.perlbrew
    PERLBREW_MANPATH = /home/perlbrew/perl5/perlbrew/perls/perl-5.18.0/man
    PERLBREW_PATH = /home/perlbrew/perl5/perlbrew/bin:/home/perlbrew/perl5/perlbrew/perls/perl-5.18.0/bin
    PERLBREW_PERL = perl-5.18.0
    PERLBREW_ROOT = /home/perlbrew/perl5/perlbrew
    PERLBREW_VERSION = 0.63
    SHELL = /bin/bash
    TERM = screen

Perl special variables (and OS-specific diagnostics, for MSWin32):

    $^X = /home/perlbrew/perl5/perlbrew/perls/perl-5.18.0/bin/perl
    $UID/$EUID = 1001 / 1001
    $GID = 1003 1003
    $EGID = 1003 1003

Perl module toolchain versions installed:

    Module              Have    
    ------------------- --------
    CPAN                2.00    
    CPAN::Meta          2.130880
    Cwd                 3.40    
    ExtUtils::CBuilder  0.280210
    ExtUtils::Command   1.17    
    ExtUtils::Install   1.59    
    ExtUtils::MakeMaker 6.66    
    ExtUtils::Manifest  1.63    
    ExtUtils::ParseXS   3.18    
    File::Spec          3.40    
    JSON                2.58    
    JSON::PP            2.27202 
    Module::Build       0.4005  
    Module::Signature   0.70    
    Parse::CPAN::Meta   1.4404  
    Test::Harness       3.26    
    Test::More          0.98    
    YAML                0.84    
    YAML::Syck          1.27    
    version             0.9902  


--

Summary of my perl5 (revision 5 version 18 subversion 0) configuration:
   
  Platform:
    osname=linux, osvers=3.2.0-23-generic, archname=x86_64-linux
    uname='linux precise64 3.2.0-23-generic #36-ubuntu smp tue apr 10 20:39:51 utc 2012 x86_64 x86_64 x86_64 gnulinux '
    config_args='-de -Dprefix=/home/perlbrew/perl5/perlbrew/perls/perl-5.18.0 -Aeval:scriptdir=/home/perlbrew/perl5/perlbrew/perls/perl-5.18.0/bin'
    hint=recommended, useposix=true, d_sigaction=define
    useithreads=undef, usemultiplicity=undef
    useperlio=define, d_sfio=undef, uselargefiles=define, usesocks=undef
    use64bitint=define, use64bitall=define, uselongdouble=undef
    usemymalloc=n, bincompat5005=undef
  Compiler:
    cc='cc', ccflags ='-fno-strict-aliasing -pipe -fstack-protector -I/usr/local/include -D_LARGEFILE_SOURCE -D_FILE_OFFSET_BITS=64',
    optimize='-O2',
    cppflags='-fno-strict-aliasing -pipe -fstack-protector -I/usr/local/include'
    ccversion='', gccversion='4.6.3', gccosandvers=''
    intsize=4, longsize=8, ptrsize=8, doublesize=8, byteorder=12345678
    d_longlong=define, longlongsize=8, d_longdbl=define, longdblsize=16
    ivtype='long', ivsize=8, nvtype='double', nvsize=8, Off_t='off_t', lseeksize=8
    alignbytes=8, prototype=define
  Linker and Libraries:
    ld='cc', ldflags =' -fstack-protector -L/usr/local/lib'
    libpth=/usr/local/lib /lib/x86_64-linux-gnu /lib/../lib /usr/lib/x86_64-linux-gnu /usr/lib/../lib /lib /usr/lib
    libs=-lnsl -ldb -ldl -lm -lcrypt -lutil -lc
    perllibs=-lnsl -ldl -lm -lcrypt -lutil -lc
    libc=, so=so, useshrplib=false, libperl=libperl.a
    gnulibc_version='2.15'
  Dynamic Linking:
    dlsrc=dl_dlopen.xs, dlext=so, d_dlsymun=undef, ccdlflags='-Wl,-E'
    cccdlflags='-fPIC', lddlflags='-shared -O2 -L/usr/local/lib -fstack-protector'


Characteristics of this binary (from libperl): 
  Compile-time options: HAS_TIMES PERLIO_LAYERS PERL_DONT_CREATE_GVSV
                        PERL_HASH_FUNC_ONE_AT_A_TIME_HARD PERL_MALLOC_WRAP
                        PERL_PRESERVE_IVUV PERL_SAWAMPERSAND USE_64_BIT_ALL
                        USE_64_BIT_INT USE_LARGE_FILES USE_LOCALE
                        USE_LOCALE_COLLATE USE_LOCALE_CTYPE
                        USE_LOCALE_NUMERIC USE_PERLIO USE_PERL_ATOF
  Built under linux
  Compiled at May 24 2013 14:19:55
  %ENV:
    PERL5LIB=""
    PERL5OPT=""
    PERL5_CPANPLUS_IS_RUNNING="20960"
    PERL5_CPAN_IS_RUNNING="20960"
    PERLBREW_BASHRC_VERSION="0.63"
    PERLBREW_HOME="/home/perlbrew/.perlbrew"
    PERLBREW_MANPATH="/home/perlbrew/perl5/perlbrew/perls/perl-5.18.0/man"
    PERLBREW_PATH="/home/perlbrew/perl5/perlbrew/bin:/home/perlbrew/perl5/perlbrew/perls/perl-5.18.0/bin"
    PERLBREW_PERL="perl-5.18.0"
    PERLBREW_ROOT="/home/perlbrew/perl5/perlbrew"
    PERLBREW_VERSION="0.63"
  @INC:
    /home/perlbrew/perl5/perlbrew/perls/perl-5.18.0/lib/site_perl/5.18.0/x86_64-linux
    /home/perlbrew/perl5/perlbrew/perls/perl-5.18.0/lib/site_perl/5.18.0
    /home/perlbrew/perl5/perlbrew/perls/perl-5.18.0/lib/5.18.0/x86_64-linux
    /home/perlbrew/perl5/perlbrew/perls/perl-5.18.0/lib/5.18.0
    .