Perl-Critic v1.156 Perl 5 v5.22.2 amd64-freebsd
- Status
- Pass
- From
- Slaven Rezić
- Dist
-
Perl-Critic v1.156
- Platform
- Perl 5 v5.22.2 amd64-freebsd
- Date
- 2024-10-23 15:10:14
- ID
- e7f0fc16-9150-11ef-bdac-e3416e8775ea
This distribution has been tested as part of the CPAN Testers
project, supporting the Perl programming language. See
http://wiki.cpantesters.org/ for more information or email
questions to cpan-testers-discuss@perl.org
--
Dear Andy Lester,
This is a computer-generated report for Perl-Critic-1.156
on perl 5.22.2, created by CPAN-Reporter-1.2019.
Thank you for uploading your work to CPAN. Congratulations!
All tests were successful.
Sections of this report:
* Tester comments
* Program output
* Prerequisites
* Environment and other context
------------------------------
TESTER COMMENTS
------------------------------
Additional comments from tester:
none provided
------------------------------
PROGRAM OUTPUT
------------------------------
Output from './Build test':
Missing argument in sprintf at /usr/perl5.22.2p/lib/site_perl/5.22.2/Text/Wrap.pm line 15.
# Testing Perl::Critic 1.156 with PPI 1.279 under Perl 5.022002, /usr/perl5.22.2p/bin/perl
t/00_modules.t ................................ ok
Missing argument in sprintf at /usr/perl5.22.2p/lib/site_perl/5.22.2/Text/Wrap.pm line 15.
t/00_versions.t ............................... ok
Missing argument in sprintf at /usr/perl5.22.2p/lib/site_perl/5.22.2/Text/Wrap.pm line 15.
Fehler: No word lists can be found for the language "de_DE".
Fehler: No word lists can be found for the language "de_DE".
Fehler: No word lists can be found for the language "de_DE".
Fehler: No word lists can be found for the language "de_DE".
Fehler: No word lists can be found for the language "de_DE".
Fehler: No word lists can be found for the language "de_DE".
Fehler: No word lists can be found for the language "de_DE".
Fehler: No word lists can be found for the language "de_DE".
Fehler: No word lists can be found for the language "de_DE".
Fehler: No word lists can be found for the language "de_DE".
Fehler: No word lists can be found for the language "de_DE".
Fehler: No word lists can be found for the language "de_DE".
Fehler: No word lists can be found for the language "de_DE".
Fehler: No word lists can be found for the language "de_DE".
t/01_config.t ................................. ok
Missing argument in sprintf at /usr/perl5.22.2p/lib/site_perl/5.22.2/Text/Wrap.pm line 15.
t/01_config_bad_perlcriticrc.t ................ ok
Missing argument in sprintf at /usr/perl5.22.2p/lib/site_perl/5.22.2/Text/Wrap.pm line 15.
t/01_policy_config.t .......................... ok
Missing argument in sprintf at /usr/perl5.22.2p/lib/site_perl/5.22.2/Text/Wrap.pm line 15.
t/02_policy.t ................................. ok
Missing argument in sprintf at /usr/perl5.22.2p/lib/site_perl/5.22.2/Text/Wrap.pm line 15.
t/03_annotations.t ............................ ok
Missing argument in sprintf at /usr/perl5.22.2p/lib/site_perl/5.22.2/Text/Wrap.pm line 15.
t/03_pragmas.t ................................ ok
Missing argument in sprintf at /usr/perl5.22.2p/lib/site_perl/5.22.2/Text/Wrap.pm line 15.
t/04_options_processor.t ...................... ok
Missing argument in sprintf at /usr/perl5.22.2p/lib/site_perl/5.22.2/Text/Wrap.pm line 15.
t/05_utils.t .................................. ok
Missing argument in sprintf at /usr/perl5.22.2p/lib/site_perl/5.22.2/Text/Wrap.pm line 15.
t/05_utils_perl.t ............................. ok
Missing argument in sprintf at /usr/perl5.22.2p/lib/site_perl/5.22.2/Text/Wrap.pm line 15.
t/05_utils_pod.t .............................. ok
Missing argument in sprintf at /usr/perl5.22.2p/lib/site_perl/5.22.2/Text/Wrap.pm line 15.
t/05_utils_ppi.t .............................. ok
Missing argument in sprintf at /usr/perl5.22.2p/lib/site_perl/5.22.2/Text/Wrap.pm line 15.
t/06_violation.t .............................. ok
Missing argument in sprintf at /usr/perl5.22.2p/lib/site_perl/5.22.2/Text/Wrap.pm line 15.
t/07_command.t ................................ ok
Missing argument in sprintf at /usr/perl5.22.2p/lib/site_perl/5.22.2/Text/Wrap.pm line 15.
t/07_perlcritic.t ............................. ok
Missing argument in sprintf at /usr/perl5.22.2p/lib/site_perl/5.22.2/Text/Wrap.pm line 15.
t/08_document.t ............................... ok
Missing argument in sprintf at /usr/perl5.22.2p/lib/site_perl/5.22.2/Text/Wrap.pm line 15.
t/09_theme.t .................................. ok
Missing argument in sprintf at /usr/perl5.22.2p/lib/site_perl/5.22.2/Text/Wrap.pm line 15.
t/10_user_profile.t ........................... ok
Missing argument in sprintf at /usr/perl5.22.2p/lib/site_perl/5.22.2/Text/Wrap.pm line 15.
t/11_policy_factory.t ......................... ok
Missing argument in sprintf at /usr/perl5.22.2p/lib/site_perl/5.22.2/Text/Wrap.pm line 15.
t/12_policy_listing.t ......................... ok
Missing argument in sprintf at /usr/perl5.22.2p/lib/site_perl/5.22.2/Text/Wrap.pm line 15.
t/12_theme_listing.t .......................... ok
Missing argument in sprintf at /usr/perl5.22.2p/lib/site_perl/5.22.2/Text/Wrap.pm line 15.
t/13_bundled_policies.t ....................... ok
Missing argument in sprintf at /usr/perl5.22.2p/lib/site_perl/5.22.2/Text/Wrap.pm line 15.
t/14_policy_parameter_behavior_boolean.t ...... ok
Missing argument in sprintf at /usr/perl5.22.2p/lib/site_perl/5.22.2/Text/Wrap.pm line 15.
t/14_policy_parameter_behavior_enumeration.t .. ok
Missing argument in sprintf at /usr/perl5.22.2p/lib/site_perl/5.22.2/Text/Wrap.pm line 15.
t/14_policy_parameter_behavior_integer.t ...... ok
Missing argument in sprintf at /usr/perl5.22.2p/lib/site_perl/5.22.2/Text/Wrap.pm line 15.
t/14_policy_parameter_behavior_list_string.t .. ok
Missing argument in sprintf at /usr/perl5.22.2p/lib/site_perl/5.22.2/Text/Wrap.pm line 15.
t/14_policy_parameter_behavior_string.t ....... ok
Missing argument in sprintf at /usr/perl5.22.2p/lib/site_perl/5.22.2/Text/Wrap.pm line 15.
Fehler: No word lists can be found for the language "de_DE".
Fehler: No word lists can be found for the language "de_DE".
Fehler: No word lists can be found for the language "de_DE".
t/14_policy_parameters.t ...................... ok
Missing argument in sprintf at /usr/perl5.22.2p/lib/site_perl/5.22.2/Text/Wrap.pm line 15.
Fehler: No word lists can be found for the language "de_DE".
t/15_statistics.t ............................. ok
Missing argument in sprintf at /usr/perl5.22.2p/lib/site_perl/5.22.2/Text/Wrap.pm line 15.
Fehler: No word lists can be found for the language "de_DE".
Fehler: No word lists can be found for the language "de_DE".
t/16_roundtrip_defaults.t ..................... ok
Missing argument in sprintf at /usr/perl5.22.2p/lib/site_perl/5.22.2/Text/Wrap.pm line 15.
t/20_policies.t ............................... ok
Missing argument in sprintf at /usr/perl5.22.2p/lib/site_perl/5.22.2/Text/Wrap.pm line 15.
Fehler: No word lists can be found for the language "de_DE".
Fehler: No word lists can be found for the language "de_DE".
Fehler: No word lists can be found for the language "de_DE".
Fehler: No word lists can be found for the language "de_DE".
t/20_policy_pod_spelling.t .................... ok
Missing argument in sprintf at /usr/perl5.22.2p/lib/site_perl/5.22.2/Text/Wrap.pm line 15.
t/20_policy_prohibit_evil_modules.t ........... ok
Missing argument in sprintf at /usr/perl5.22.2p/lib/site_perl/5.22.2/Text/Wrap.pm line 15.
t/20_policy_prohibit_hard_tabs.t .............. ok
Missing argument in sprintf at /usr/perl5.22.2p/lib/site_perl/5.22.2/Text/Wrap.pm line 15.
t/20_policy_prohibit_trailing_whitespace.t .... ok
Missing argument in sprintf at /usr/perl5.22.2p/lib/site_perl/5.22.2/Text/Wrap.pm line 15.
t/20_policy_require_consistent_newlines.t ..... ok
Missing argument in sprintf at /usr/perl5.22.2p/lib/site_perl/5.22.2/Text/Wrap.pm line 15.
t/20_policy_require_tidy_code.t ............... ok
Missing argument in sprintf at /usr/perl5.22.2p/lib/site_perl/5.22.2/Text/Wrap.pm line 15.
Fehler: No word lists can be found for the language "de_DE".
Unhandled type: REGEXP at /usr/perl5.22.2p/lib/site_perl/5.22.2/Devel/Cycle.pm line 107.
t/92_memory_leaks.t ........................... ok
Missing argument in sprintf at /usr/perl5.22.2p/lib/site_perl/5.22.2/Text/Wrap.pm line 15.
t/gh-734.t .................................... ok
All tests successful.
Files=40, Tests=8211, 60 wallclock secs ( 0.59 usr 0.57 sys + 43.11 cusr 14.22 csys = 58.49 CPU)
Result: PASS
------------------------------
PREREQUISITES
------------------------------
Prerequisite modules loaded:
requires:
Module Need Have
------------------------- -------- --------
B::Keywords 1.23 1.23
Carp 0 1.50
charnames 0 1.43
Config::Tiny 2 2.30
English 0 1.09
Exception::Class 1.23 1.45
Exporter 5.63 5.78
File::Basename 0 2.85
File::Find 0 1.29
File::Path 0 2.18
File::Spec 0 3.75
File::Spec::Unix 0 3.75
File::Temp 0 0.2311
File::Which 0 1.27
Getopt::Long 0 2.55
List::SomeUtils 0.55 0.59
List::Util 0 1.68
Module::Pluggable 3.1 5.2
overload 0 1.26
parent 0 0.239
perl 5.010001 5.022002
Perl::Tidy 0 20240903
Pod::PlainText 0 2.07
Pod::Select 0 1.66
Pod::Spell 1 1.27
Pod::Usage 0 2.03
PPI 1.277 1.279
PPI::Document 1.277 1.279
PPI::Document::File 1.277 1.279
PPI::Node 1.277 1.279
PPI::Token::Quote::Single 1.277 1.279
PPI::Token::Whitespace 1.277 1.279
PPIx::QuoteLike 0 0.022
PPIx::Regexp 0.027 0.088
PPIx::Regexp::Util 0.068 0.088
PPIx::Utils::Traversal 0.003 0.003
Readonly 2 2.05
Scalar::Util 0 1.68
strict 0 1.09
String::Format 1.18 1.18
Term::ANSIColor 2.02 5.01
Test::Builder 0.92 1.302204
Text::ParseWords 3 3.31
version 0.77 0.9933
warnings 0 1.34
build_requires:
Module Need Have
------------------------- -------- --------
lib 0 0.63
Test::More 0 1.302204
configure_requires:
Module Need Have
------------------------- -------- --------
B::Keywords 1.23 1.23
base 0 2.22
Carp 0 1.50
English 0 1.09
Exporter 5.63 5.78
lib 0 0.63
List::SomeUtils 0.55 0.59
Module::Build 0.4204 0.4234
------------------------------
ENVIRONMENT AND OTHER CONTEXT
------------------------------
Environment variables:
LC_ALL = de_DE.ISO8859-1
PATH = /usr/local/bin:/usr/bin:/bin:/usr/local/sbin:/usr/sbin:/sbin:/home/cpansand/bin/freebsd10.3:/home/cpansand/bin/sh:/home/cpansand/bin:/usr/games:/home/cpansand/devel:/home/eserte/src/srezic-misc/scripts
PERL5LIB =
PERL5OPT =
PERL5_CPANPLUS_IS_RUNNING = 27635
PERL5_CPAN_IS_RUNNING = 27635
PERL5_CPAN_IS_RUNNING_IN_RECURSION = 38184,27635
PERLDOC = -MPod::Perldoc::ToTextOverstrike
PERL_BATCH = yes
PERL_CANARY_STABILITY_NOPROMPT = 1
PERL_CPAN_REPORTER_CONFIG = /var/tmp/cpansmoker-1023/2024102309/cpanreporter_000_config.ini
PERL_EXTUTILS_AUTOINSTALL = --defaultdeps
PERL_USE_UNSAFE_INC = 1
SHELL = /usr/local/bin/zsh
TERM = screen
TMPDIR = /var/tmp/cpansmoker-1023/2024102309
Perl special variables (and OS-specific diagnostics, for MSWin32):
$^X = /usr/perl5.22.2p/bin/perl
$UID/$EUID = 1023 / 1023
$GID = 1023 1023
$EGID = 1023 1023
Perl module toolchain versions installed:
Module Have
------------------- --------
CPAN 2.37
CPAN::Meta 2.150010
Cwd 3.75
ExtUtils::CBuilder 0.280236
ExtUtils::Command 7.70
ExtUtils::Install 2.22
ExtUtils::MakeMaker 7.70
ExtUtils::Manifest 1.75
ExtUtils::ParseXS 3.51
File::Spec 3.75
JSON 4.10
JSON::PP 4.16
Module::Build 0.4234
Module::Signature 0.89
Parse::CPAN::Meta 2.150010
Test2 1.302204
Test::Harness 3.50
Test::More 1.302204
YAML 1.30
YAML::Syck 1.34
version 0.9933
--
Summary of my perl5 (revision 5 version 22 subversion 2) configuration:
Platform:
osname=freebsd, osvers=10.1-release, archname=amd64-freebsd
uname='freebsd cvrsnica-freebsd-101.herceg.de 10.1-release freebsd 10.1-release #0 r274401: tue nov 11 21:02:49 utc 2014 root@releng1.nyi.freebsd.org:usrobjusrsrcsysgeneric amd64 '
config_args='-ds -e -Dprefix=/usr/perl5.22.2p -Dcf_email=srezic@cpan.org -Doptimize=-O2 -pipe'
hint=recommended, useposix=true, d_sigaction=define
useithreads=undef, usemultiplicity=undef
use64bitint=define, use64bitall=define, uselongdouble=undef
usemymalloc=n, bincompat5005=undef
Compiler:
cc='cc', ccflags ='-DHAS_FPSETMASK -DHAS_FLOATINGPOINT_H -fno-strict-aliasing -pipe -fstack-protector -I/usr/local/include -D_FORTIFY_SOURCE=2',
optimize='-O2 -pipe',
cppflags='-DHAS_FPSETMASK -DHAS_FLOATINGPOINT_H -fno-strict-aliasing -pipe -fstack-protector -I/usr/local/include'
ccversion='', gccversion='4.2.1 Compatible FreeBSD Clang 3.4.1 (tags/RELEASE_34/dot1-final 208032)', gccosandvers=''
intsize=4, longsize=8, ptrsize=8, doublesize=8, byteorder=12345678, doublekind=3
d_longlong=define, longlongsize=8, d_longdbl=define, longdblsize=16, longdblkind=3
ivtype='long', ivsize=8, nvtype='double', nvsize=8, Off_t='off_t', lseeksize=8
alignbytes=8, prototype=define
Linker and Libraries:
ld='cc', ldflags ='-pthread -Wl,-E -fstack-protector -L/usr/local/lib'
libpth=/usr/lib /usr/local/lib /usr/include/clang/3.4.1 /usr/lib
libs=-lpthread -lgdbm -lm -lcrypt -lutil -lc
perllibs=-lpthread -lm -lcrypt -lutil -lc
libc=, so=so, useshrplib=false, libperl=libperl.a
gnulibc_version=''
Dynamic Linking:
dlsrc=dl_dlopen.xs, dlext=so, d_dlsymun=undef, ccdlflags=' '
cccdlflags='-DPIC -fPIC', lddlflags='-shared -L/usr/local/lib -fstack-protector'
Characteristics of this binary (from libperl):
Compile-time options: HAS_TIMES PERLIO_LAYERS PERL_DONT_CREATE_GVSV
PERL_HASH_FUNC_ONE_AT_A_TIME_HARD PERL_MALLOC_WRAP
PERL_NEW_COPY_ON_WRITE PERL_PRESERVE_IVUV
USE_64_BIT_ALL USE_64_BIT_INT USE_LARGE_FILES
USE_LOCALE USE_LOCALE_COLLATE USE_LOCALE_CTYPE
USE_LOCALE_NUMERIC USE_LOCALE_TIME USE_PERLIO
USE_PERL_ATOF
Built under freebsd
Compiled at May 29 2016 23:34:36
%ENV:
PERL5LIB=""
PERL5OPT=""
PERL5_CPANPLUS_IS_RUNNING="27635"
PERL5_CPAN_IS_RUNNING="27635"
PERL5_CPAN_IS_RUNNING_IN_RECURSION="38184,27635"
PERLDOC="-MPod::Perldoc::ToTextOverstrike"
PERL_BATCH="yes"
PERL_CANARY_STABILITY_NOPROMPT="1"
PERL_CPAN_REPORTER_CONFIG="/var/tmp/cpansmoker-1023/2024102309/cpanreporter_000_config.ini"
PERL_EXTUTILS_AUTOINSTALL="--defaultdeps"
PERL_USE_UNSAFE_INC="1"
@INC:
/usr/perl5.22.2p/lib/site_perl/5.22.2/amd64-freebsd
/usr/perl5.22.2p/lib/site_perl/5.22.2
/usr/perl5.22.2p/lib/5.22.2/amd64-freebsd
/usr/perl5.22.2p/lib/5.22.2
.