Net-SockAddr v1.0.5 Perl 5 v5.22.4 x86_64-linux-thread-multi

Status
Pass
From
David Cantrell (DCANTRELL)
Dist
Net-SockAddr v1.0.5
Platform
Perl 5 v5.22.4 x86_64-linux-thread-multi
Date
2020-11-03 18:53:48
ID
e7f52b78-1e05-11eb-a1e7-11caa1724e2f
This distribution has been tested as part of the CPAN Testers
project, supporting the Perl programming language.  See
http://wiki.cpantesters.org/ for more information or email
questions to cpan-testers-discuss@perl.org


--
Dear Oleg Pronin,

This is a computer-generated report for Net-SockAddr-1.0.5
on perl 5.22.4, created by CPAN-Reporter-1.2018.

Thank you for uploading your work to CPAN.  Congratulations!
All tests were successful.

Sections of this report:

    * Tester comments
    * Program output
    * Prerequisites
    * Environment and other context

------------------------------
TESTER COMMENTS
------------------------------

Additional comments from tester:

this report is from an automated smoke testing program
and was not reviewed by a human for accuracy

------------------------------
PROGRAM OUTPUT
------------------------------

Output from '/usr/bin/make test':

"/home/david/cpantesting/perl-5.22.4/bin/perl" -MExtUtils::Command::MM -e 'cp_nonempty' -- SockAddr.bs blib/arch/auto/Net/SockAddr/SockAddr.bs 644
cd libnet-sockaddr/build && make  net-sockaddr
make[1]: Entering directory '/home/david/cpantesting/perl-5.22.4/.cpan/build/Net-SockAddr-1.0.5-P_nVhe/libnet-sockaddr/build'
make[2]: Entering directory '/home/david/cpantesting/perl-5.22.4/.cpan/build/Net-SockAddr-1.0.5-P_nVhe/libnet-sockaddr/cmake_props'
make[3]: Entering directory '/home/david/cpantesting/perl-5.22.4/.cpan/build/Net-SockAddr-1.0.5-P_nVhe/libnet-sockaddr/cmake_props'
make[4]: Entering directory '/home/david/cpantesting/perl-5.22.4/.cpan/build/Net-SockAddr-1.0.5-P_nVhe/libnet-sockaddr/cmake_props'
make[4]: Leaving directory '/home/david/cpantesting/perl-5.22.4/.cpan/build/Net-SockAddr-1.0.5-P_nVhe/libnet-sockaddr/cmake_props'
[100%] Built target net-sockaddr
make[3]: Leaving directory '/home/david/cpantesting/perl-5.22.4/.cpan/build/Net-SockAddr-1.0.5-P_nVhe/libnet-sockaddr/cmake_props'
make[2]: Leaving directory '/home/david/cpantesting/perl-5.22.4/.cpan/build/Net-SockAddr-1.0.5-P_nVhe/libnet-sockaddr/cmake_props'
make[1]: Leaving directory '/home/david/cpantesting/perl-5.22.4/.cpan/build/Net-SockAddr-1.0.5-P_nVhe/libnet-sockaddr/build'
make[1]: Nothing to be done for 'object'.
Running Mkbootstrap for MyTest ()
chmod 644 "MyTest.bs"
"/home/david/cpantesting/perl-5.22.4/bin/perl" -MExtUtils::Command::MM -e 'cp_nonempty' -- MyTest.bs blib/arch/auto/MyTest/MyTest.bs 644
cd libnet-sockaddr/build && make  lib-tests
[ 25%] Built target net-sockaddr
Scanning dependencies of target lib-tests
[ 37%] Building CXX object ../build/CMakeFiles/lib-tests.dir/tests/base.cc.o
[ 50%] Building CXX object ../build/CMakeFiles/lib-tests.dir/tests/inet4.cc.o
[ 62%] Building CXX object ../build/CMakeFiles/lib-tests.dir/tests/inet6.cc.o
[ 75%] Building CXX object ../build/CMakeFiles/lib-tests.dir/tests/lib/test.cc.o
[ 87%] Building CXX object ../build/CMakeFiles/lib-tests.dir/tests/unix.cc.o
[100%] Linking CXX static library liblib-tests.a
[100%] Built target lib-tests
rm -f blib/arch/auto/MyTest/MyTest.so
c++  -shared -O2 -L/usr/local/lib -fstack-protector-strong   blib/arch/auto/Net/SockAddr/SockAddr.so -Wl,--whole-archive libnet-sockaddr/build/liblib-tests.a  -Wl,--no-whole-archive  -o blib/arch/auto/MyTest/MyTest.so  \
      \
  
chmod 755 blib/arch/auto/MyTest/MyTest.so
Manifying 4 pod documents
PERL_DL_NONLAZY=1 "/home/david/cpantesting/perl-5.22.4/bin/perl" "-MExtUtils::Command::MM" "-MTest::Harness" "-e" "undef *Test::Harness::Switches; test_harness(0, 'blib/lib', 'blib/arch')" t/*.t
t/base.t ....... ok
t/constants.t .. ok
t/inet4.t ...... ok
t/inet6.t ...... ok
t/unix.t ....... ok
All tests successful.
Files=5, Tests=31,  3 wallclock secs ( 0.05 usr  0.00 sys +  0.44 cusr  0.06 csys =  0.55 CPU)
Result: PASS

------------------------------
PREREQUISITES
------------------------------

Prerequisite modules loaded:

requires:

    Module          Need      Have    
    --------------- --------- --------
    Export::XS      v3.0.5    3.0.5   
    next::XS        v1.0.7    1.0.7   
    XS::Framework   v1.3.3    1.3.3   
    XS::Install     v1.2.21   1.2.21  
    XS::libpanda    v1.4.10   1.4.10  

build_requires:

    Module          Need      Have    
    --------------- --------- --------
    Export::XS      v3.0.5    3.0.5   
    next::XS        v1.0.7    1.0.7   
    Test::Catch     v1.0.14   1.0.14  
    Test::Deep      0         1.128   
    Test::Exception 0         0.43    
    Test::More      0         1.302183
    Test::Simple    0.96      1.302183
    XS::Framework   v1.3.3    1.3.3   
    XS::libcatch    v2.12.1.1 2.12.1.1
    XS::libpanda    v1.4.10   1.4.10  

configure_requires:

    Module          Need      Have    
    --------------- --------- --------
    Alien::cmake3   0         0.05    
    Export::XS      v3.0.5    3.0.5   
    next::XS        v1.0.7    1.0.7   
    Test::Catch     v1.0.14   1.0.14  
    XS::Framework   v1.3.3    1.3.3   
    XS::Install     v1.2.21   1.2.21  
    XS::libcatch    v2.12.1.1 2.12.1.1
    XS::libpanda    v1.4.10   1.4.10  


------------------------------
ENVIRONMENT AND OTHER CONTEXT
------------------------------

Environment variables:

    AUTOMATED_TESTING = 1
    LANG = en_US.UTF-8
    NONINTERACTIVE_TESTING = 1
    PATH = /usr/local/bin:/usr/bin:/bin:/usr/local/games:/usr/games
    PERL = 5.22.4
    PERL5LIB = 
    PERL5OPT = 
    PERL5_CPANPLUS_IS_RUNNING = 25645
    PERL5_CPAN_IS_RUNNING = 25645
    PERLVER = 5.22.4
    PERL_INLINE_DIRECTORY = /home/david/.Inline-5.22.4
    PERL_MM_USE_DEFAULT = 1
    PERL_USE_UNSAFE_INC = 0
    SHELL = /bin/bash
    TERM = screen

Perl special variables (and OS-specific diagnostics, for MSWin32):

    $^X = /home/david/cpantesting/perl-5.22.4/bin/perl
    $UID/$EUID = 1000 / 1000
    $GID = 1000 27 1000
    $EGID = 1000 27 1000

Perl module toolchain versions installed:

    Module              Have      
    ------------------- ----------
    CPAN                2.11_01   
    CPAN::Meta          2.150001  
    Cwd                 3.56_02   
    ExtUtils::CBuilder  0.280221  
    ExtUtils::Command   7.50      
    ExtUtils::Install   2.06      
    ExtUtils::MakeMaker 7.50      
    ExtUtils::Manifest  1.70      
    ExtUtils::ParseXS   3.35      
    File::Spec          3.56_02   
    JSON                4.02      
    JSON::PP            2.27300_01
    Module::Build       0.4231    
    Module::Signature   n/a       
    Parse::CPAN::Meta   1.4414_001
    Test::Harness       3.35_01   
    Test::More          1.302183  
    YAML                1.30      
    YAML::Syck          n/a       
    version             0.9928    


--

Summary of my perl5 (revision 5 version 22 subversion 4) configuration:
   
  Platform:
    osname=linux, osvers=4.9.0-8-amd64, archname=x86_64-linux-thread-multi
    uname='linux pigsty 4.9.0-8-amd64 #1 smp debian 4.9.144-3 (2019-02-02) x86_64 gnulinux '
    config_args='-de -Duse64bitall -Dusethreads -Dprefix=/home/david/cpantesting/perl-5.22.4'
    hint=recommended, useposix=true, d_sigaction=define
    useithreads=define, usemultiplicity=define
    use64bitint=define, use64bitall=define, uselongdouble=undef
    usemymalloc=n, bincompat5005=undef
  Compiler:
    cc='cc', ccflags ='-D_REENTRANT -D_GNU_SOURCE -fwrapv -fno-strict-aliasing -pipe -fstack-protector-strong -I/usr/local/include -D_LARGEFILE_SOURCE -D_FILE_OFFSET_BITS=64',
    optimize='-O2',
    cppflags='-D_REENTRANT -D_GNU_SOURCE -fwrapv -fno-strict-aliasing -pipe -fstack-protector-strong -I/usr/local/include'
    ccversion='', gccversion='6.3.0 20170516', gccosandvers=''
    intsize=4, longsize=8, ptrsize=8, doublesize=8, byteorder=12345678, doublekind=3
    d_longlong=define, longlongsize=8, d_longdbl=define, longdblsize=16, longdblkind=3
    ivtype='long', ivsize=8, nvtype='double', nvsize=8, Off_t='off_t', lseeksize=8
    alignbytes=8, prototype=define
  Linker and Libraries:
    ld='cc', ldflags =' -fstack-protector-strong -L/usr/local/lib'
    libpth=/usr/local/lib /usr/lib/gcc/x86_64-linux-gnu/6/include-fixed /usr/include/x86_64-linux-gnu /usr/lib /lib/x86_64-linux-gnu /lib/../lib /usr/lib/x86_64-linux-gnu /usr/lib/../lib /lib
    libs=-lpthread -lnsl -ldb -ldl -lm -lcrypt -lutil -lc
    perllibs=-lpthread -lnsl -ldl -lm -lcrypt -lutil -lc
    libc=libc-2.24.so, so=so, useshrplib=false, libperl=libperl.a
    gnulibc_version='2.24'
  Dynamic Linking:
    dlsrc=dl_dlopen.xs, dlext=so, d_dlsymun=undef, ccdlflags='-Wl,-E'
    cccdlflags='-fPIC', lddlflags='-shared -O2 -L/usr/local/lib -fstack-protector-strong'


Characteristics of this binary (from libperl): 
  Compile-time options: HAS_TIMES MULTIPLICITY PERLIO_LAYERS
                        PERL_DONT_CREATE_GVSV
                        PERL_HASH_FUNC_ONE_AT_A_TIME_HARD
                        PERL_IMPLICIT_CONTEXT PERL_MALLOC_WRAP
                        PERL_NEW_COPY_ON_WRITE PERL_PRESERVE_IVUV
                        USE_64_BIT_ALL USE_64_BIT_INT USE_ITHREADS
                        USE_LARGE_FILES USE_LOCALE USE_LOCALE_COLLATE
                        USE_LOCALE_CTYPE USE_LOCALE_NUMERIC USE_LOCALE_TIME
                        USE_PERLIO USE_PERL_ATOF USE_REENTRANT_API
  Locally applied patches:
	Devel::PatchPerl 1.56
  Built under linux
  Compiled at Apr 25 2019 12:09:05
  %ENV:
    PERL="5.22.4"
    PERL5LIB=""
    PERL5OPT=""
    PERL5_CPANPLUS_IS_RUNNING="25645"
    PERL5_CPAN_IS_RUNNING="25645"
    PERLVER="5.22.4"
    PERL_INLINE_DIRECTORY="/home/david/.Inline-5.22.4"
    PERL_MM_USE_DEFAULT="1"
    PERL_USE_UNSAFE_INC="0"
  @INC:
    /home/david/cpantesting/perl-5.22.4/lib/site_perl/5.22.4/x86_64-linux-thread-multi
    /home/david/cpantesting/perl-5.22.4/lib/site_perl/5.22.4
    /home/david/cpantesting/perl-5.22.4/lib/5.22.4/x86_64-linux-thread-multi
    /home/david/cpantesting/perl-5.22.4/lib/5.22.4
    .