SMS-Net-Send v0.01 Perl 5 v5.22.3 amd64-freebsd
- Status
- Pass
- From
- Slaven Rezić (SREZIC)
- Dist
-
SMS-Net-Send v0.01
- Platform
- Perl 5 v5.22.3 amd64-freebsd
- Date
- 2019-03-11 15:25:30
- ID
- e80d2ea0-4411-11e9-bc18-f1331f24ea8f
This distribution has been tested as part of the CPAN Testers
project, supporting the Perl programming language. See
http://wiki.cpantesters.org/ for more information or email
questions to cpan-testers-discuss@perl.org
--
Dear Kian Meng, Ang,
This is a computer-generated report for SMS-Net-Send-0.01
on perl 5.22.3, created by CPAN-Reporter-1.2018.
Thank you for uploading your work to CPAN. Congratulations!
All tests were successful.
Sections of this report:
* Tester comments
* Program output
* Prerequisites
* Environment and other context
------------------------------
TESTER COMMENTS
------------------------------
Additional comments from tester:
none provided
------------------------------
PROGRAM OUTPUT
------------------------------
Output from './Build test':
t/00-compile.t ............... ok
# Testing with Perl 5.022003, /usr/perl5.22.3p/bin/perl5.22.3
# Carp::Always version is 0.13
# File::Spec version is 3.75
# HTTP::Request::Common version is 6.16
# IO::Handle version is 1.39
# IPC::Open3 version is 1.18
# JSON version is 2.97001
# LWP::UserAgent version is 6.37
# Module::Build::Tiny version is 0.039
# Pod::Coverage::TrustPod version is 0.100003
# SMS::Send::Driver version is 0.06
# Test::CPAN::Meta version is 0.25
# Test::DistManifest version is 1.014
# Test::Exception version is 0.43
# Test::HasVersion version is 0.014
# Test::More version is 1.302162
# Test::Perl::Critic version is 1.04
# Test::Warn version is 0.36
# URL::Encode version is 0.03
# XML::Hash::LX version is 0.0603
t/000-report-versions.t ...... ok
t/00_compile.t ............... ok
t/01_instantiation.t ......... ok
t/02_required.t .............. ok
t/03_to_mocean_field_name.t .. ok
t/04_send_sms_success.t ...... skipped: $ENV for MOCEAN_XXX not set, skipping live tests
t/05_send_sms_errors.t ....... skipped: $ENV for MOCEAN_XXX not set, skipping live tests
t/author-critic.t ............ skipped: these tests are for testing by the author
t/author-eol.t ............... skipped: these tests are for testing by the author
t/author-minimum-version.t ... skipped: these tests are for testing by the author
t/author-pod-coverage.t ...... skipped: these tests are for testing by the author
t/author-pod-syntax.t ........ skipped: these tests are for testing by the author
t/release-distmeta.t ......... skipped: these tests are for release candidate testing
t/release-has-version.t ...... skipped: these tests are for release candidate testing
t/release-kwalitee.t ......... skipped: these tests are for release candidate testing
t/release-unused-vars.t ...... skipped: these tests are for release candidate testing
All tests successful.
Files=17, Tests=29, 2 wallclock secs ( 0.01 usr 0.07 sys + 0.21 cusr 1.41 csys = 1.70 CPU)
Result: PASS
------------------------------
PREREQUISITES
------------------------------
Prerequisite modules loaded:
requires:
Module Need Have
----------------------- -------- --------
Carp::Always 0 0.13
HTTP::Request::Common 0 6.16
JSON 0 2.97001
LWP::UserAgent 0 6.37
perl 5.008005 5.022003
SMS::Send::Driver 0 0.06
URL::Encode 0 0.03
XML::Hash::LX 0 0.0603
build_requires:
Module Need Have
----------------------- -------- --------
File::Spec 0 3.75
IO::Handle 0 1.39
IPC::Open3 0 1.18
Pod::Coverage::TrustPod 0 0.100003
Test::CPAN::Meta 0 0.25
Test::DistManifest 0 1.014
Test::Exception 0 0.43
Test::HasVersion 0 0.014
Test::Kwalitee 0 1.27
Test::More 0 1.302162
Test::Perl::Critic 0 1.04
Test::Pod::Coverage 0 1.10
Test::Warn 0 0.36
configure_requires:
Module Need Have
----------------------- -------- --------
Module::Build::Tiny 0.034 0.039
------------------------------
ENVIRONMENT AND OTHER CONTEXT
------------------------------
Environment variables:
LC_ALL = de_DE.ISO8859-1
PATH = /usr/local/bin:/usr/bin:/bin:/usr/local/sbin:/usr/sbin:/sbin:/home/cpansand/bin/freebsd10.3:/home/cpansand/bin/sh:/home/cpansand/bin:/usr/games:/home/cpansand/devel:/home/eserte/src/srezic-misc/scripts
PERL5LIB = /home/cpansand/.cpan/build/2019031116/Alien-Role-Alt-0.05-3/blib/arch:/home/cpansand/.cpan/build/2019031116/Alien-Role-Alt-0.05-3/blib/lib
PERL5OPT =
PERL5_CPANPLUS_IS_RUNNING = 76960
PERL5_CPAN_IS_RUNNING = 76960
PERL5_CPAN_IS_RUNNING_IN_RECURSION = 75543,76960
PERLDOC = -MPod::Perldoc::ToTextOverstrike
PERL_BATCH = yes
PERL_CANARY_STABILITY_NOPROMPT = 1
PERL_CPAN_REPORTER_CONFIG = /var/tmp/cpansmoker-1023/2019031116/cpanreporter_000_config.ini
PERL_EXTUTILS_AUTOINSTALL = --defaultdeps
SHELL = /usr/local/bin/zsh
TERM = screen
TMPDIR = /var/tmp/cpansmoker-1023/2019031116
Perl special variables (and OS-specific diagnostics, for MSWin32):
$^X = /usr/perl5.22.3p/bin/perl5.22.3
$UID/$EUID = 1023 / 1023
$GID = 1023 1023
$EGID = 1023 1023
Perl module toolchain versions installed:
Module Have
------------------- --------
CPAN 2.16
CPAN::Meta 2.150010
Cwd 3.75
ExtUtils::CBuilder 0.280230
ExtUtils::Command 7.34
ExtUtils::Install 2.14
ExtUtils::MakeMaker 7.34
ExtUtils::Manifest 1.70
ExtUtils::ParseXS 3.35
File::Spec 3.75
JSON 2.97001
JSON::PP 2.97001
Module::Build 0.4224
Module::Signature 0.83
Parse::CPAN::Meta 2.150010
Test::Harness 3.42
Test::More 1.302162
YAML 1.27
YAML::Syck 1.30
version 0.9922
--
Summary of my perl5 (revision 5 version 22 subversion 3) configuration:
Platform:
osname=freebsd, osvers=10.1-release, archname=amd64-freebsd
uname='freebsd cvrsnica-freebsd-101.herceg.de 10.1-release freebsd 10.1-release #0 r274401: tue nov 11 21:02:49 utc 2014 root@releng1.nyi.freebsd.org:usrobjusrsrcsysgeneric amd64 '
config_args='-ds -e -Dprefix=/usr/perl5.22.3p -Dcf_email=srezic@cpan.org -Doptimize=-O2 -pipe'
hint=recommended, useposix=true, d_sigaction=define
useithreads=undef, usemultiplicity=undef
use64bitint=define, use64bitall=define, uselongdouble=undef
usemymalloc=n, bincompat5005=undef
Compiler:
cc='cc', ccflags ='-DHAS_FPSETMASK -DHAS_FLOATINGPOINT_H -fno-strict-aliasing -pipe -fstack-protector -I/usr/local/include -D_FORTIFY_SOURCE=2',
optimize='-O2 -pipe',
cppflags='-DHAS_FPSETMASK -DHAS_FLOATINGPOINT_H -fno-strict-aliasing -pipe -fstack-protector -I/usr/local/include'
ccversion='', gccversion='4.2.1 Compatible FreeBSD Clang 3.4.1 (tags/RELEASE_34/dot1-final 208032)', gccosandvers=''
intsize=4, longsize=8, ptrsize=8, doublesize=8, byteorder=12345678, doublekind=3
d_longlong=define, longlongsize=8, d_longdbl=define, longdblsize=16, longdblkind=3
ivtype='long', ivsize=8, nvtype='double', nvsize=8, Off_t='off_t', lseeksize=8
alignbytes=8, prototype=define
Linker and Libraries:
ld='cc', ldflags ='-pthread -Wl,-E -fstack-protector -L/usr/local/lib'
libpth=/usr/lib /usr/local/lib /usr/include/clang/3.4.1 /usr/lib
libs=-lpthread -lgdbm -lm -lcrypt -lutil -lc
perllibs=-lpthread -lm -lcrypt -lutil -lc
libc=, so=so, useshrplib=false, libperl=libperl.a
gnulibc_version=''
Dynamic Linking:
dlsrc=dl_dlopen.xs, dlext=so, d_dlsymun=undef, ccdlflags=' '
cccdlflags='-DPIC -fPIC', lddlflags='-shared -L/usr/local/lib -fstack-protector'
Characteristics of this binary (from libperl):
Compile-time options: HAS_TIMES PERLIO_LAYERS PERL_DONT_CREATE_GVSV
PERL_HASH_FUNC_ONE_AT_A_TIME_HARD PERL_MALLOC_WRAP
PERL_NEW_COPY_ON_WRITE PERL_PRESERVE_IVUV
USE_64_BIT_ALL USE_64_BIT_INT USE_LARGE_FILES
USE_LOCALE USE_LOCALE_COLLATE USE_LOCALE_CTYPE
USE_LOCALE_NUMERIC USE_LOCALE_TIME USE_PERLIO
USE_PERL_ATOF
Built under freebsd
Compiled at Jan 15 2017 18:31:13
%ENV:
PERL5LIB="/home/cpansand/.cpan/build/2019031116/Alien-Role-Alt-0.05-3/blib/arch:/home/cpansand/.cpan/build/2019031116/Alien-Role-Alt-0.05-3/blib/lib"
PERL5OPT=""
PERL5_CPANPLUS_IS_RUNNING="76960"
PERL5_CPAN_IS_RUNNING="76960"
PERL5_CPAN_IS_RUNNING_IN_RECURSION="75543,76960"
PERLDOC="-MPod::Perldoc::ToTextOverstrike"
PERL_BATCH="yes"
PERL_CANARY_STABILITY_NOPROMPT="1"
PERL_CPAN_REPORTER_CONFIG="/var/tmp/cpansmoker-1023/2019031116/cpanreporter_000_config.ini"
PERL_EXTUTILS_AUTOINSTALL="--defaultdeps"
@INC:
/home/cpansand/.cpan/build/2019031116/Alien-Role-Alt-0.05-3/blib/arch
/home/cpansand/.cpan/build/2019031116/Alien-Role-Alt-0.05-3/blib/lib
/usr/perl5.22.3p/lib/site_perl/5.22.3/amd64-freebsd
/usr/perl5.22.3p/lib/site_perl/5.22.3
/usr/perl5.22.3p/lib/5.22.3/amd64-freebsd
/usr/perl5.22.3p/lib/5.22.3
.