Back
From: metabase:user:d2c9f356-b46f-11df-9a90-20a83c0b7757
Subject: PASS Net-IDN-IDNA2003-1.000 v5.15.7 SunOS/Solaris
Date: 2012-02-06T00:52:56Z
This distribution has been tested as part of the CPAN Testers
project, supporting the Perl programming language. See
http://wiki.cpantesters.org/ for more information or email
questions to cpan-testers-discuss@perl.org
--
Dear Claus Faerber,
This is a computer-generated report for Net-IDN-IDNA2003-1.000
on perl 5.15.7, created by CPAN-Reporter-1.2003.
Thank you for uploading your work to CPAN. Congratulations!
All tests were successful.
Sections of this report:
* Tester comments
* Program output
* Prerequisites
* Environment and other context
------------------------------
TESTER COMMENTS
------------------------------
Additional comments from tester:
this report is from an automated smoke testing program
and was not reviewed by a human for accuracy
------------------------------
PROGRAM OUTPUT
------------------------------
Output from './Build test':
t/00use.t ......... ok
t/10pod.t ......... ok
t/11pod_cover.t ... ok
t/encode_bytes.t .. ok
t/encode_utf8.t ... ok
t/to_ascii.t ...... ok
t/to_unicode.t .... ok
All tests successful.
Files=7, Tests=69, 1 wallclock secs ( 0.04 usr 0.01 sys + 0.77 cusr 0.07 csys = 0.89 CPU)
Result: PASS
------------------------------
PREREQUISITES
------------------------------
Prerequisite modules loaded:
requires:
Module Need Have
------------------ ---- -------
Net::IDN::Nameprep 1.1 1.101
Net::IDN::Punycode 1 1.100
build_requires:
Module Need Have
------------------ ---- -------
Test::More 0 0.98
Test::NoWarnings 0 1.04
configure_requires:
Module Need Have
------------------ ---- -------
Module::Build 0.38 0.39_01
------------------------------
ENVIRONMENT AND OTHER CONTEXT
------------------------------
Environment variables:
AUTOMATED_TESTING = 1
LANG = C
LD_LIBRARY_PATH = /usr/local/lib:
PATH = /export/home/cpant4/perl5/bin:/usr/local/bin:/usr/bin
PERL5LIB = /export/home/cpant4/.cpan/build/Net-IDN-Encode-2.003-f9fR95/blib/arch:/export/home/cpant4/.cpan/build/Net-IDN-Encode-2.003-f9fR95/blib/lib:/export/home/cpant4/.cpan/build/Net-IDN-Nameprep-1.101-o1ESW5/blib/arch:/export/home/cpant4/.cpan/build/Net-IDN-Nameprep-1.101-o1ESW5/blib/lib:/export/home/cpant4/.cpan/build/Unicode-Stringprep-1.104-Mc9bJI/blib/arch:/export/home/cpant4/.cpan/build/Unicode-Stringprep-1.104-Mc9bJI/blib/lib
PERL5OPT =
PERL5_CPANPLUS_IS_RUNNING = 22985
PERL5_CPAN_IS_RUNNING = 22985
PERL5_CPAN_IS_RUNNING_IN_RECURSION = 6333,22985
PERL_CR_SMOKER_CURRENT = Net-IDN-IDNA2003-1.000
PERL_EXTUTILS_AUTOINSTALL = --defaultdeps
PERL_MM_USE_DEFAULT = 1
SHELL = /bin/bash
TERM = xterm
Perl special variables (and OS-specific diagnostics, for MSWin32):
$^X = /export/home/cpant4/perl5/bin/perl5.15.7
$UID/$EUID = 104 / 104
$GID = 1 1
$EGID = 1 1
Perl module toolchain versions installed:
Module Have
------------------- --------
CPAN 1.9800
CPAN::Meta 2.113640
Cwd 3.39_01
ExtUtils::CBuilder 0.280205
ExtUtils::Command 1.17
ExtUtils::Install 1.57
ExtUtils::MakeMaker 6.63_02
ExtUtils::Manifest 1.61
ExtUtils::ParseXS 3.14
File::Spec 3.39_01
JSON 2.53
JSON::PP 2.27200
Module::Build 0.39_01
Module::Signature n/a
Parse::CPAN::Meta 1.4401
Test::Harness 3.23
Test::More 0.98
YAML n/a
YAML::Syck 1.19
version 0.95
--
Summary of my perl5 (revision 5 version 15 subversion 7) configuration:
Platform:
osname=solaris, osvers=2.10, archname=i86pc-solaris-64int
uname='sunos vmrz0046 5.10 generic_141445-09 i86pc i386 i86pc solaris '
config_args='-Dcc=gcc -Dprefix=~/perl5 -Duse64bitint -Dusedevel -d'
hint=recommended, useposix=true, d_sigaction=define
useithreads=undef, usemultiplicity=undef
useperlio=define, d_sfio=undef, uselargefiles=define, usesocks=undef
use64bitint=define, use64bitall=undef, uselongdouble=undef
usemymalloc=n, bincompat5005=undef
Compiler:
cc='gcc', ccflags ='-DPTR_IS_LONG -fno-strict-aliasing -pipe -I/usr/local/include -D_LARGEFILE_SOURCE -D_FILE_OFFSET_BITS=64 -DPERL_USE_SAFE_PUTENV',
optimize='-O',
cppflags='-DPTR_IS_LONG -fno-strict-aliasing -pipe -I/usr/local/include'
ccversion='', gccversion='3.4.6', gccosandvers='solaris2.10'
intsize=4, longsize=4, ptrsize=4, doublesize=8, byteorder=12345678
d_longlong=define, longlongsize=8, d_longdbl=define, longdblsize=12
ivtype='long long', ivsize=8, nvtype='double', nvsize=8, Off_t='off_t', lseeksize=8
alignbytes=4, prototype=define
Linker and Libraries:
ld='gcc', ldflags =' -L/usr/local/lib '
libpth=/usr/local/lib /usr/lib /usr/ccs/lib
libs=-lsocket -lnsl -lgdbm -ldl -lm -lc
perllibs=-lsocket -lnsl -ldl -lm -lc
libc=/lib/libc.so, so=so, useshrplib=false, libperl=libperl.a
gnulibc_version=''
Dynamic Linking:
dlsrc=dl_dlopen.xs, dlext=so, d_dlsymun=undef, ccdlflags=' '
cccdlflags='-fPIC', lddlflags='-G -L/usr/local/lib'
Characteristics of this binary (from libperl):
Compile-time options: HAS_TIMES PERLIO_LAYERS PERL_DONT_CREATE_GVSV
PERL_MALLOC_WRAP PERL_PRESERVE_IVUV PERL_USE_DEVEL
PERL_USE_SAFE_PUTENV USE_64_BIT_INT USE_LARGE_FILES
USE_LOCALE USE_LOCALE_COLLATE USE_LOCALE_CTYPE
USE_LOCALE_NUMERIC USE_PERLIO USE_PERL_ATOF
Built under solaris
Compiled at Feb 1 2012 12:32:41
%ENV:
PERL5LIB="/export/home/cpant4/.cpan/build/Net-IDN-Encode-2.003-f9fR95/blib/arch:/export/home/cpant4/.cpan/build/Net-IDN-Encode-2.003-f9fR95/blib/lib:/export/home/cpant4/.cpan/build/Net-IDN-Nameprep-1.101-o1ESW5/blib/arch:/export/home/cpant4/.cpan/build/Net-IDN-Nameprep-1.101-o1ESW5/blib/lib:/export/home/cpant4/.cpan/build/Unicode-Stringprep-1.104-Mc9bJI/blib/arch:/export/home/cpant4/.cpan/build/Unicode-Stringprep-1.104-Mc9bJI/blib/lib"
PERL5OPT=""
PERL5_CPANPLUS_IS_RUNNING="22985"
PERL5_CPAN_IS_RUNNING="22985"
PERL5_CPAN_IS_RUNNING_IN_RECURSION="6333,22985"
PERL_CR_SMOKER_CURRENT="Net-IDN-IDNA2003-1.000"
PERL_EXTUTILS_AUTOINSTALL="--defaultdeps"
PERL_MM_USE_DEFAULT="1"
@INC:
/export/home/cpant4/.cpan/build/Net-IDN-Encode-2.003-f9fR95/blib/arch
/export/home/cpant4/.cpan/build/Net-IDN-Encode-2.003-f9fR95/blib/lib
/export/home/cpant4/.cpan/build/Net-IDN-Nameprep-1.101-o1ESW5/blib/arch
/export/home/cpant4/.cpan/build/Net-IDN-Nameprep-1.101-o1ESW5/blib/lib
/export/home/cpant4/.cpan/build/Unicode-Stringprep-1.104-Mc9bJI/blib/arch
/export/home/cpant4/.cpan/build/Unicode-Stringprep-1.104-Mc9bJI/blib/lib
/export/home/cpant4/perl5/lib/site_perl/5.15.7/i86pc-solaris-64int
/export/home/cpant4/perl5/lib/site_perl/5.15.7
/export/home/cpant4/perl5/lib/5.15.7/i86pc-solaris-64int
/export/home/cpant4/perl5/lib/5.15.7
/export/home/cpant4/perl5/lib/site_perl
.