Catalyst-Model-LDAP v0.21 Perl 5 v5.16.0 MSWin32-x86-multi-thread
- Status
- Pass
- From
- Alexandr Ciornii (CHORNY)
- Dist
-
Catalyst-Model-LDAP v0.21
- Platform
- Perl 5 v5.16.0 MSWin32-x86-multi-thread
- Date
- 2018-01-24 06:48:50
- ID
- e84a74fa-6c76-1014-9bc9-dfa6de835d9c
This distribution has been tested as part of the CPAN Testers
project, supporting the Perl programming language. See
http://wiki.cpantesters.org/ for more information or email
questions to cpan-testers-discuss@perl.org
--
Dear Gavin Henry,
This is a computer-generated report for Catalyst-Model-LDAP-0.21
on perl 5.16.0, created by CPAN-Reporter-1.2018.
Thank you for uploading your work to CPAN. Congratulations!
All tests were successful.
Sections of this report:
* Tester comments
* Program output
* Prerequisites
* Environment and other context
------------------------------
TESTER COMMENTS
------------------------------
Additional comments from tester:
this report is from an automated smoke testing program
and was not reviewed by a human for accuracy
------------------------------
PROGRAM OUTPUT
------------------------------
Output from 'C:\strawberry160\c\bin\dmake.exe test':
C:\strawberry160\perl\bin\perl.exe "-MExtUtils::Command::MM" "-MTest::Harness" "-e" "undef *Test::Harness::Switches; test_harness(0, 'blib\lib', 'blib\arch')" t/*.t
t/01use.t ......................... ok
t/02pod.t ......................... skipped: set TEST_POD to enable this test
t/03podcoverage.t ................. skipped: set TEST_POD to enable this test
t/author-critic.t ................. skipped: these tests are for testing by the author
t/author-eol.t .................... skipped: these tests are for testing by the author
t/author-no-tabs.t ................ skipped: these tests are for testing by the author
t/author-pod-coverage.t ........... skipped: these tests are for testing by the author
t/author-pod-syntax.t ............. skipped: these tests are for testing by the author
t/live_inherited_component.t ...... skipped: set TEST_AUTHOR to enable this test
t/live_search.t ................... skipped: set TEST_AUTHOR to enable this test
t/unit_Connection.t ............... skipped: set TEST_AUTHOR to enable this test
t/unit_Connection_bind.t .......... skipped: set TEST_AUTHOR, LDAP_BINDDN, and LDAP_PASSWORD to enable this test
t/unit_Connection_search.t ........ skipped: set TEST_AUTHOR to enable this test
t/unit_Connection_search_limit.t .. skipped: set TEST_AUTHOR to enable this test
t/unit_Entry.t .................... ok
All tests successful.
Files=15, Tests=8, 8 wallclock secs ( 0.08 usr + 0.09 sys = 0.17 CPU)
Result: PASS
------------------------------
PREREQUISITES
------------------------------
Prerequisite modules loaded:
requires:
Module Need Have
----------------------------- ----- --------
base 0 2.18
Carp 0 1.26
Catalyst 5.62 5.90051
Catalyst::Model 0 0
Class::Accessor::Fast 0 0.34
Data::Dumper 0 2.135_06
Data::Page 0 2.02
Module::Runtime 0.015 0.016
MRO::Compat 0 0.12
Net::LDAP 0.65 0.65
Net::LDAP::Constant 0 0.23
Net::LDAP::Control::ProxyAuth 1.09 1.09
Net::LDAP::Control::Sort 0 0.04
Net::LDAP::Control::VLV 0 0.06
Net::LDAP::Entry 0 0.27
Net::LDAP::Search 0 0.14
strict 0 1.07
warnings 0 1.13
build_requires:
Module Need Have
----------------------------- ----- --------
Catalyst 5.62 5.90051
Catalyst::Controller 0 0
Catalyst::Test 0 0
ExtUtils::MakeMaker 0 6.84
FindBin 0 1.51
lib 0 0.63
Test::More 0 1.001002
configure_requires:
Module Need Have
----------------------------- ----- --------
ExtUtils::MakeMaker 0 6.84
------------------------------
ENVIRONMENT AND OTHER CONTEXT
------------------------------
Environment variables:
AUTOMATED_TESTING = 1
COMSPEC = C:\WINDOWS\system32\cmd.exe
NUMBER_OF_PROCESSORS = 1
PATH = C:\WINDOWS\system32;C:\WINDOWS;C:\WINDOWS\System32\Wbem;C:\strawberry160\c\bin;C:\strawberry160\perl\site\bin;C:\strawberry160\perl\bin
PERL5LIB = C:\strawberry160\cpan\build\Module-Runtime-0.016-gn6GqK/blib/arch;C:\strawberry160\cpan\build\Module-Runtime-0.016-gn6GqK/blib/lib;C:\strawberry160\cpan\build\perl-ldap-0.65-6oaif9/blib/arch;C:\strawberry160\cpan\build\perl-ldap-0.65-6oaif9/blib/lib
PERL5OPT =
PERL5_CPANPLUS_IS_RUNNING = 124724
PERL5_CPAN_IS_RUNNING = 124724
PERL5_CPAN_IS_RUNNING_IN_RECURSION = 102700,124724
PERL_CR_SMOKER_CURRENT = Catalyst-Model-LDAP-0.21
PERL_CR_SMOKER_RUNONCE = 1
PERL_EXTUTILS_AUTOINSTALL = --defaultdeps
PERL_JSON_BACKEND = JSON::XS
PERL_MM_USE_DEFAULT = 1
PERL_YAML_BACKEND = YAML
PROCESSOR_IDENTIFIER = x86 Family 18 Model 1 Stepping 0, AuthenticAMD
TEMP = C:\DOCUME~1\a\LOCALS~1\Temp
TERM = dumb
Perl special variables (and OS-specific diagnostics, for MSWin32):
$^X = C:\strawberry160\perl\bin\perl.exe
$UID/$EUID = 0 / 0
$GID = 0
$EGID = 0
Win32::GetOSName = WinXP/.Net
Win32::GetOSVersion = Service Pack 3, 5, 1, 2600, 2, 3, 0, 256, 1
Win32::FsType = NTFS
Win32::IsAdminUser = 1
Perl module toolchain versions installed:
Module Have
------------------- --------
CPAN 2.00
CPAN::Meta 2.133380
Cwd 3.40
ExtUtils::CBuilder 0.280206
ExtUtils::Command 1.17
ExtUtils::Install 1.58
ExtUtils::MakeMaker 6.84
ExtUtils::Manifest 1.61
ExtUtils::ParseXS 3.22
File::Spec 3.40
JSON 2.53
JSON::PP 2.27203
Module::Build 0.4203
Module::Signature 0.68
Parse::CPAN::Meta 1.4405
Test::Harness 3.30
Test::More 1.001002
YAML 0.88
YAML::Syck 1.27
version 0.9904
--
Summary of my perl5 (revision 5 version 16 subversion 0) configuration:
Platform:
osname=MSWin32, osvers=4.0, archname=MSWin32-x86-multi-thread
uname='Win32 strawberry-perl 5.16.0.1 #1 Mon May 21 22:07:30 2012 i386'
config_args='undef'
hint=recommended, useposix=true, d_sigaction=undef
useithreads=define, usemultiplicity=define
useperlio=define, d_sfio=undef, uselargefiles=define, usesocks=undef
use64bitint=undef, use64bitall=undef, uselongdouble=undef
usemymalloc=n, bincompat5005=undef
Compiler:
cc='gcc', ccflags =' -s -O2 -DWIN32 -DPERL_TEXTMODE_SCRIPTS -DPERL_IMPLICIT_CONTEXT -DPERL_IMPLICIT_SYS -fno-strict-aliasing -mms-bitfields',
optimize='-s -O2',
cppflags='-DWIN32'
ccversion='', gccversion='4.6.3', gccosandvers=''
intsize=4, longsize=4, ptrsize=4, doublesize=8, byteorder=1234
d_longlong=undef, longlongsize=8, d_longdbl=define, longdblsize=12
ivtype='long', ivsize=4, nvtype='double', nvsize=8, Off_t='long long', lseeksize=8
alignbytes=8, prototype=define
Linker and Libraries:
ld='g++', ldflags ='-s -L"C:\strawberry160\perl\lib\CORE" -L"C:\strawberry160\c\lib"'
libpth=C:\strawberry160\c\lib C:\strawberry160\c\i686-w64-mingw32\lib
libs=-lmoldname -lkernel32 -luser32 -lgdi32 -lwinspool -lcomdlg32 -ladvapi32 -lshell32 -lole32 -loleaut32 -lnetapi32 -luuid -lws2_32 -lmpr -lwinmm -lversion -lodbc32 -lodbccp32 -lcomctl32
perllibs=-lmoldname -lkernel32 -luser32 -lgdi32 -lwinspool -lcomdlg32 -ladvapi32 -lshell32 -lole32 -loleaut32 -lnetapi32 -luuid -lws2_32 -lmpr -lwinmm -lversion -lodbc32 -lodbccp32 -lcomctl32
libc=, so=dll, useshrplib=true, libperl=libperl516.a
gnulibc_version=''
Dynamic Linking:
dlsrc=dl_win32.xs, dlext=dll, d_dlsymun=undef, ccdlflags=' '
cccdlflags=' ', lddlflags='-mdll -s -L"C:\strawberry160\perl\lib\CORE" -L"C:\strawberry160\c\lib"'
Characteristics of this binary (from libperl):
Compile-time options: HAS_TIMES HAVE_INTERP_INTERN MULTIPLICITY
PERLIO_LAYERS PERL_DONT_CREATE_GVSV
PERL_IMPLICIT_CONTEXT PERL_IMPLICIT_SYS
PERL_MALLOC_WRAP PERL_PRESERVE_IVUV PL_OP_SLAB_ALLOC
USE_ITHREADS USE_LARGE_FILES USE_LOCALE
USE_LOCALE_COLLATE USE_LOCALE_CTYPE
USE_LOCALE_NUMERIC USE_PERLIO USE_PERL_ATOF
Built under MSWin32
Compiled at May 21 2012 22:15:38
%ENV:
PERL5LIB="C:\strawberry160\cpan\build\Module-Runtime-0.016-gn6GqK/blib/arch;C:\strawberry160\cpan\build\Module-Runtime-0.016-gn6GqK/blib/lib;C:\strawberry160\cpan\build\perl-ldap-0.65-6oaif9/blib/arch;C:\strawberry160\cpan\build\perl-ldap-0.65-6oaif9/blib/lib"
PERL5_CPANPLUS_IS_RUNNING="124724"
PERL5_CPAN_IS_RUNNING="124724"
PERL5_CPAN_IS_RUNNING_IN_RECURSION="102700,124724"
PERL_CR_SMOKER_CURRENT="Catalyst-Model-LDAP-0.21"
PERL_CR_SMOKER_RUNONCE="1"
PERL_EXTUTILS_AUTOINSTALL="--defaultdeps"
PERL_JSON_BACKEND="JSON::XS"
PERL_MM_USE_DEFAULT="1"
PERL_YAML_BACKEND="YAML"
@INC:
C:\strawberry160\cpan\build\Module-Runtime-0.016-gn6GqK/blib/arch
C:\strawberry160\cpan\build\Module-Runtime-0.016-gn6GqK/blib/lib
C:\strawberry160\cpan\build\perl-ldap-0.65-6oaif9/blib/arch
C:\strawberry160\cpan\build\perl-ldap-0.65-6oaif9/blib/lib
C:/strawberry160/perl/site/lib/MSWin32-x86-multi-thread
C:/strawberry160/perl/site/lib
C:/strawberry160/perl/vendor/lib
C:/strawberry160/perl/lib
.