HTML-Scrubber v0.19 Perl 5 v5.18.2 darwin-thread-multi-2level

Status
Pass
From
Nigel Horne
Dist
HTML-Scrubber v0.19
Platform
Perl 5 v5.18.2 darwin-thread-multi-2level
Date
2020-09-24 12:10:16
ID
e85df07a-fe5e-11ea-8ba7-87b9dcc487a6
This distribution has been tested as part of the CPAN Testers
project, supporting the Perl programming language.  See
http://wiki.cpantesters.org/ for more information or email
questions to cpan-testers-discuss@perl.org


--
Dear Nigel Metheringham,

This is a computer-generated report for HTML-Scrubber-0.19
on perl 5.18.2, created by CPAN-Reporter-1.2018.

Thank you for uploading your work to CPAN.  Congratulations!
All tests were successful.

Sections of this report:

    * Tester comments
    * Program output
    * Prerequisites
    * Environment and other context

------------------------------
TESTER COMMENTS
------------------------------

Additional comments from tester:

this report is from an automated smoke testing program
and was not reviewed by a human for accuracy

------------------------------
PROGRAM OUTPUT
------------------------------

Output from '/usr/bin/make test':

PERL_DL_NONLAZY=1 "/Users/njh/perl5/perlbrew/perls/perl-5.18.2/bin/perl5.18.2" "-MExtUtils::Command::MM" "-MTest::Harness" "-e" "undef *Test::Harness::Switches; test_harness(0, 'blib/lib', 'blib/arch')" t/*.t
t/02_basic.t .................... ok
# Testing HTML::Scrubber 0.19, Perl 5.018002, /Users/njh/perl5/perlbrew/perls/perl-5.18.2/bin/perl5.18.2
t/01_use.t ...................... ok
t/03_more.t ..................... ok
t/04_style_script.t ............. ok
t/05_pi_comment.t ............... ok
t/06_scrub_file.t ............... ok
# 
# Versions for all modules listed in MYMETA.json (including optional ones):
# 
# === Configure Requires ===
# 
#     Module              Want Have
#     ------------------- ---- ----
#     ExtUtils::MakeMaker  any 7.46
# 
# === Build Requires ===
# 
#     Module              Want Have
#     ------------------- ---- ----
#     ExtUtils::MakeMaker  any 7.46
# 
# === Test Requires ===
# 
#     Module              Want     Have
#     ------------------- ---- --------
#     ExtUtils::MakeMaker  any     7.46
#     File::Spec           any     3.75
#     File::Temp           any   0.2304
#     Test                 any     1.26
#     Test::Differences    any     0.62
#     Test::Memory::Cycle  any     1.04
#     Test::More          0.88 1.302177
#     utf8                 any     1.10
# 
# === Test Recommends ===
# 
#     Module         Want     Have
#     ---------- -------- --------
#     CPAN::Meta 2.120900 2.150010
# 
# === Runtime Requires ===
# 
#     Module         Want Have
#     -------------- ---- ----
#     HTML::Entities  any 3.75
#     HTML::Parser   3.47 3.75
#     List::Util     1.33 1.50
#     Scalar::Util    any 1.50
#     strict          any 1.07
#     warnings        any 1.18
# 
t/00-report-prereqs.t ........... ok
t/07_booleans.t ................. ok
t/08_cb_attrs.t ................. ok
t/09_no_scrub_warnings.t ........ ok
t/jvn53973084.t ................. ok
t/09_memory_cycle.t ............. ok
t/rt120384_remove_false_tags.t .. ok
t/rt19063_xhtml.t ............... ok
t/rt25477_self_closing.t ........ ok
t/rt72659_utf8.t ................ ok
t/rt79044_multiple.t ............ ok
All tests successful.
Files=17, Tests=172,  1 wallclock secs ( 0.10 usr  0.04 sys +  2.15 cusr  0.50 csys =  2.79 CPU)
Result: PASS

------------------------------
PREREQUISITES
------------------------------

Prerequisite modules loaded:

requires:

    Module              Need  Have    
    ------------------- ----- --------
    HTML::Entities      0     3.75    
    HTML::Parser        3.47  3.75    
    List::Util          1.33  1.50    
    perl                5.008 5.018002
    Scalar::Util        0     1.50    
    strict              0     1.07    
    warnings            0     1.18    

build_requires:

    Module              Need  Have    
    ------------------- ----- --------
    ExtUtils::MakeMaker 0     7.46    
    File::Spec          0     3.75    
    File::Temp          0     0.2304  
    Test                0     1.26    
    Test::Differences   0     0.62    
    Test::Memory::Cycle 0     1.04    
    Test::More          0.88  1.302177
    utf8                0     1.10    

configure_requires:

    Module              Need  Have    
    ------------------- ----- --------
    ExtUtils::MakeMaker 0     7.46    


------------------------------
ENVIRONMENT AND OTHER CONTEXT
------------------------------

Environment variables:

    AUTOMATED_TESTING = 1
    HARNESS_OPTIONS = j4
    LANG = en_US.UTF-8
    NONINTERACTIVE_TESTING = 1
    PATH = /Users/njh/perl5/perlbrew/bin:/Users/njh/perl5/perlbrew/perls/perl-5.18.2/bin:::/opt/local/bin:/opt/local/sbin:/usr/local/bin:/usr/bin:/bin:/usr/sbin:/sbin:/opt/X11/bin:/Library/Apple/usr/bin:/Users/njh/bin
    PERL5LIB = /Users/njh/.cpan/build/Alien-Tidyp-v1.4.7-1/blib/arch:/Users/njh/.cpan/build/Alien-Tidyp-v1.4.7-1/blib/lib
    PERL5OPT = 
    PERL5_CPANPLUS_IS_RUNNING = 35384
    PERL5_CPAN_IS_RUNNING = 35384
    PERL5_CPAN_IS_RUNNING_IN_RECURSION = 35366,35384
    PERLBREW_HOME = /Users/njh/.perlbrew
    PERLBREW_MANPATH = /Users/njh/perl5/perlbrew/perls/perl-5.18.2/man
    PERLBREW_PATH = /Users/njh/perl5/perlbrew/bin:/Users/njh/perl5/perlbrew/perls/perl-5.18.2/bin
    PERLBREW_PERL = perl-5.18.2
    PERLBREW_ROOT = /Users/njh/perl5/perlbrew
    PERLBREW_SHELLRC_VERSION = 0.87
    PERLBREW_VERSION = 0.87
    PERL_MM_USE_DEFAULT = 1
    PERL_USE_UNSAFE_INC = 1
    SHELL = /bin/bash
    TERM = xterm-256color
    TMPDIR = /var/folders/8v/329gghld15g2ls572lrpg_yw0000gn/T//testwrapper.35368
    VERSIONER_PERL_VERSION = 5.18

Perl special variables (and OS-specific diagnostics, for MSWin32):

    $^X = /Users/njh/perl5/perlbrew/perls/perl-5.18.2/bin/perl5.18.2
    $UID/$EUID = 501 / 501
    $GID = 20 20 12 61 401 102 402 100
    $EGID = 20 20 12 61 401 102 402 100

Perl module toolchain versions installed:

    Module              Have    
    ------------------- --------
    CPAN                2.28    
    CPAN::Meta          2.150010
    Cwd                 3.75    
    ExtUtils::CBuilder  0.280220
    ExtUtils::Command   7.46    
    ExtUtils::Install   2.18    
    ExtUtils::MakeMaker 7.46    
    ExtUtils::Manifest  1.70    
    ExtUtils::ParseXS   3.35    
    File::Spec          3.75    
    JSON                4.02    
    JSON::PP            4.05    
    Module::Build       0.4211  
    Module::Signature   n/a     
    Parse::CPAN::Meta   2.150010
    Test::Harness       3.35    
    Test::More          1.302177
    YAML                1.30    
    YAML::Syck          1.32    
    version             0.9927  


--

Summary of my perl5 (revision 5 version 18 subversion 2) configuration:
   
  Platform:
    osname=darwin, osvers=13.2.0, archname=darwin-thread-multi-2level
    uname='darwin mac.bandsman.co.uk 13.2.0 darwin kernel version 13.2.0: thu apr 17 23:03:13 pdt 2014; root:xnu-2422.100.13~1release_x86_64 x86_64 '
    config_args='-de -Dprefix=/Users/njh/perl5/perlbrew/perls/perl-5.18.2 -Duseithreads -Dusemultiplicity -Dusedevel -Accflags=-O2 -W -Wformat=2 -Wswitch -Wshadow -Wwrite-strings -Wuninitialized -Wall -pipe -mtune=native -march=native -Aeval:scriptdir=/Users/njh/perl5/perlbrew/perls/perl-5.18.2/bin'
    hint=recommended, useposix=true, d_sigaction=define
    useithreads=define, usemultiplicity=define
    useperlio=define, d_sfio=undef, uselargefiles=define, usesocks=undef
    use64bitint=define, use64bitall=define, uselongdouble=undef
    usemymalloc=n, bincompat5005=undef
  Compiler:
    cc='cc', ccflags ='-fno-common -DPERL_DARWIN -O2 -W -Wformat=2 -Wswitch -Wshadow -Wwrite-strings -Wuninitialized -Wall -pipe -mtune=native -march=native -fno-strict-aliasing -fstack-protector',
    optimize='-O3',
    cppflags='-fno-common -DPERL_DARWIN -O2 -W -Wformat=2 -Wswitch -Wshadow -Wwrite-strings -Wuninitialized -Wall -pipe -mtune=native -march=native -fno-strict-aliasing -fstack-protector'
    ccversion='', gccversion='4.2.1 Compatible Apple LLVM 5.1 (clang-503.0.40)', gccosandvers=''
    intsize=4, longsize=8, ptrsize=8, doublesize=8, byteorder=12345678
    d_longlong=define, longlongsize=8, d_longdbl=define, longdblsize=16
    ivtype='long', ivsize=8, nvtype='double', nvsize=8, Off_t='off_t', lseeksize=8
    alignbytes=8, prototype=define
  Linker and Libraries:
    ld='env MACOSX_DEPLOYMENT_TARGET=10.3 cc', ldflags =' -fstack-protector'
    libpth=/usr/lib
    libs=-ldbm -ldl -lm -lutil -lc
    perllibs=-ldl -lm -lutil -lc
    libc=, so=dylib, useshrplib=false, libperl=libperl.a
    gnulibc_version=''
  Dynamic Linking:
    dlsrc=dl_dlopen.xs, dlext=bundle, d_dlsymun=undef, ccdlflags=' '
    cccdlflags=' ', lddlflags=' -bundle -undefined dynamic_lookup -fstack-protector'


Characteristics of this binary (from libperl): 
  Compile-time options: HAS_TIMES MULTIPLICITY PERLIO_LAYERS
                        PERL_DONT_CREATE_GVSV
                        PERL_HASH_FUNC_ONE_AT_A_TIME_HARD
                        PERL_IMPLICIT_CONTEXT PERL_MALLOC_WRAP
                        PERL_PRESERVE_IVUV PERL_SAWAMPERSAND PERL_USE_DEVEL
                        USE_64_BIT_ALL USE_64_BIT_INT USE_ITHREADS
                        USE_LARGE_FILES USE_LOCALE USE_LOCALE_COLLATE
                        USE_LOCALE_CTYPE USE_LOCALE_NUMERIC USE_PERLIO
                        USE_PERL_ATOF USE_REENTRANT_API
  Built under darwin
  Compiled at Sep  1 2014 18:03:36
  %ENV:
    PERL5LIB="/Users/njh/.cpan/build/Alien-Tidyp-v1.4.7-1/blib/arch:/Users/njh/.cpan/build/Alien-Tidyp-v1.4.7-1/blib/lib"
    PERL5OPT=""
    PERL5_CPANPLUS_IS_RUNNING="35384"
    PERL5_CPAN_IS_RUNNING="35384"
    PERL5_CPAN_IS_RUNNING_IN_RECURSION="35366,35384"
    PERLBREW_HOME="/Users/njh/.perlbrew"
    PERLBREW_MANPATH="/Users/njh/perl5/perlbrew/perls/perl-5.18.2/man"
    PERLBREW_PATH="/Users/njh/perl5/perlbrew/bin:/Users/njh/perl5/perlbrew/perls/perl-5.18.2/bin"
    PERLBREW_PERL="perl-5.18.2"
    PERLBREW_ROOT="/Users/njh/perl5/perlbrew"
    PERLBREW_SHELLRC_VERSION="0.87"
    PERLBREW_VERSION="0.87"
    PERL_MM_USE_DEFAULT="1"
    PERL_USE_UNSAFE_INC="1"
  @INC:
    /Users/njh/.cpan/build/Alien-Tidyp-v1.4.7-1/blib/arch
    /Users/njh/.cpan/build/Alien-Tidyp-v1.4.7-1/blib/lib
    /Users/njh/perl5/perlbrew/perls/perl-5.18.2/lib/site_perl/5.18.2/darwin-thread-multi-2level
    /Users/njh/perl5/perlbrew/perls/perl-5.18.2/lib/site_perl/5.18.2
    /Users/njh/perl5/perlbrew/perls/perl-5.18.2/lib/5.18.2/darwin-thread-multi-2level
    /Users/njh/perl5/perlbrew/perls/perl-5.18.2/lib/5.18.2
    .