Web-Scraper v0.38 Perl 5 v5.26.1 x86_64-linux

Status
Pass
From
Nigel Horne
Dist
Web-Scraper v0.38
Platform
Perl 5 v5.26.1 x86_64-linux
Date
2017-12-02 22:48:26
ID
e85f95fe-d7b2-11e7-b8bd-809199b835e7
This distribution has been tested as part of the CPAN Testers
project, supporting the Perl programming language.  See
http://wiki.cpantesters.org/ for more information or email
questions to cpan-testers-discuss@perl.org


--
Dear Tatsuhiko Miyagawa,

This is a computer-generated report for Web-Scraper-0.38
on perl 5.26.1, created by CPAN-Reporter-1.2018.

Thank you for uploading your work to CPAN.  Congratulations!
All tests were successful.

Sections of this report:

    * Tester comments
    * Program output
    * Prerequisites
    * Environment and other context

------------------------------
TESTER COMMENTS
------------------------------

Additional comments from tester:

this report is from an automated smoke testing program
and was not reviewed by a human for accuracy

------------------------------
PROGRAM OUTPUT
------------------------------

Output from './Build test':

t/00_compile.t .......... ok
t/07-live.t ............. skipped: LIVE_TEST not enabled
t/01_process.t .......... ok
t/06_define.t ........... ok
t/08-leak.t ............. skipped: LEAK_TEST is not defined
t/09-process_hash.t ..... ok
t/02_process_multi.t .... ok
t/03_scraper_nest.t ..... ok
t/05_process_first.t .... ok
t/04_callback.t ......... ok
t/13_textnode.t ......... ok
t/12_html.t ............. ok
t/11_absolute.t ......... ok
t/14_absolute_nested.t .. ok
t/15_absolute_hash.t .... ok
t/release-pod-syntax.t .. skipped: these tests are for release candidate testing
t/xml-simple.t .......... skipped: Test requires module 'HTML::TreeBuilder::LibXML' but it's not found
t/16_filter.t ........... ok
t/17_filter_loop.t ...... ok
t/18_http_response.t .... skipped: LIVE_TEST not enabled
t/20_comment_nodes.t .... skipped: Please upgrade HTML::TreeBuilder::XPath and HTML::TreeBuilder::LibXML modules for comment nodes supporting
t/19_decode_content.t ... skipped: LIVE_TEST not enabled
t/redefine.t ............ ok
t/21_html5.t ............ ok
t/22_filter_regex.t ..... ok
All tests successful.
Files=25, Tests=42,  0 wallclock secs ( 0.05 usr  0.01 sys +  1.72 cusr  0.27 csys =  2.05 CPU)
Result: PASS

------------------------------
PREREQUISITES
------------------------------

Prerequisite modules loaded:

requires:

    Module                   Need     Have    
    ------------------------ -------- --------
    HTML::Entities           0        3.69    
    HTML::Selector::XPath    0.03     0.23    
    HTML::Tagset             0        3.20    
    HTML::TreeBuilder        3.23     5.07    
    HTML::TreeBuilder::XPath 0.08     0.14    
    LWP                      5.827    6.27    
    perl                     5.008001 5.026001
    Scalar::Util             0        1.46_02 
    UNIVERSAL::require       0        0.18    
    URI                      0        1.72    
    XML::XPathEngine         0.08     0.14    
    YAML                     0        1.24    

build_requires:

    Module                   Need     Have    
    ------------------------ -------- --------
    ExtUtils::MakeMaker      6.59     7.30    
    Test::Base               0        0.88    
    Test::More               0        1.302096
    Test::Requires           0        0.10    

configure_requires:

    Module                   Need     Have    
    ------------------------ -------- --------
    Module::Build::Tiny      0.039    0.039   


------------------------------
ENVIRONMENT AND OTHER CONTEXT
------------------------------

Environment variables:

    AUTOMATED_TESTING = 1
    HARNESS_OPTIONS = j10
    LANG = en_GB.UTF-8
    PATH = /home/njh/perl5/perlbrew/bin:/home/njh/perl5/perlbrew/perls/perl-5.26.1-clang/bin:/usr/bin:/bin:src/njh/smoker/bin
    PERL5LIB = /tmp/build/HTML-TreeBuilder-XPath-0.14-35/blib/arch:/tmp/build/HTML-TreeBuilder-XPath-0.14-35/blib/lib:/tmp/build/XML-XPathEngine-0.14-35/blib/arch:/tmp/build/XML-XPathEngine-0.14-35/blib/lib:/tmp/build/HTML-Selector-XPath-0.23-38/blib/arch:/tmp/build/HTML-Selector-XPath-0.23-38/blib/lib:/tmp/build/Novel-Robot-Browser-0.20-38/blib/arch:/tmp/build/Novel-Robot-Browser-0.20-38/blib/lib:/tmp/build/Term-ProgressBar-2.21-38/blib/arch:/tmp/build/Term-ProgressBar-2.21-38/blib/lib:/tmp/build/Class-MethodMaker-2.24-38/blib/arch:/tmp/build/Class-MethodMaker-2.24-38/blib/lib:/tmp/build/Parallel-Loops-0.08-38/blib/arch:/tmp/build/Parallel-Loops-0.08-38/blib/lib:/tmp/build/Parallel-ForkManager-1.19-18/blib/arch:/tmp/build/Parallel-ForkManager-1.19-18/blib/lib:/tmp/build/HTML-Tree-5.07-14/blib/arch:/tmp/build/HTML-Tree-5.07-14/blib/lib:/tmp/build/File-Slurp-9999.19-10/blib/arch:/tmp/build/File-Slurp-9999.19-10/blib/lib:/tmp/build/Encode-Detect-CJK-2.0.2-38/blib/arch:/tmp/build/Encode-Detect-CJK-2.0.2-38/blib/lib:/tmp/build/Data-MessagePack-1.00-38/blib/arch:/tmp/build/Data-MessagePack-1.00-38/blib/lib
    PERL5OPT = 
    PERL5_CPANPLUS_IS_RUNNING = 2739
    PERL5_CPAN_IS_RUNNING = 2739
    PERLBREW_BASHRC_VERSION = 0.80
    PERLBREW_HOME = /home/njh/.perlbrew
    PERLBREW_MANPATH = /home/njh/perl5/perlbrew/perls/perl-5.26.1-clang/man
    PERLBREW_PATH = /home/njh/perl5/perlbrew/bin:/home/njh/perl5/perlbrew/perls/perl-5.26.1-clang/bin
    PERLBREW_PERL = perl-5.26.1-clang
    PERLBREW_ROOT = /home/njh/perl5/perlbrew
    PERLBREW_VERSION = 0.80
    PERL_CPAN_REPORTER_DIR = /home/njh/.cpanreporter/perl-5.26.1-clang
    PERL_USE_UNSAFE_INC = 1
    SHELL = /bin/sh

Perl special variables (and OS-specific diagnostics, for MSWin32):

    $^X = /home/njh/perl5/perlbrew/perls/perl-5.26.1-clang/bin/perl5.26.1
    $UID/$EUID = 1000 / 1000
    $GID = 1000 4 24 25 29 30 44 46 107 112 118 1000
    $EGID = 1000 4 24 25 29 30 44 46 107 112 118 1000

Perl module toolchain versions installed:

    Module              Have      
    ------------------- ----------
    CPAN                2.18      
    CPAN::Meta          2.150010  
    Cwd                 3.67      
    ExtUtils::CBuilder  0.280226  
    ExtUtils::Command   7.30      
    ExtUtils::Install   2.06      
    ExtUtils::MakeMaker 7.30      
    ExtUtils::Manifest  1.70      
    ExtUtils::ParseXS   3.34      
    File::Spec          3.67      
    JSON                n/a       
    JSON::PP            2.27400_02
    Module::Build       0.4224    
    Module::Signature   n/a       
    Parse::CPAN::Meta   2.150010  
    Test::Harness       3.39      
    Test::More          1.302096  
    YAML                1.24      
    YAML::Syck          1.30      
    version             0.9917    


--

Summary of my perl5 (revision 5 version 26 subversion 1) configuration:
   
  Platform:
    osname=linux
    osvers=4.12.0-2-amd64
    archname=x86_64-linux
    uname='linux microcenter 4.12.0-2-amd64 #1 smp debian 4.12.13-1 (2017-09-19) x86_64 gnulinux '
    config_args='-de -Dprefix=/home/njh/perl5/perlbrew/perls/perl-5.26.1-clang -Dusedevel -Dcc=clang -Accflags=-O2 -W -Wformat=2 -Wswitch -Wshadow -Wwrite-strings -Wuninitialized -Wall -pipe -fomit-frame-pointer -pedantic -D_FORTIFY_SOURCE=2 -Wpointer-arith -Wstrict-prototypes -fstack-protector -Wstack-protector -Wextra -Wbad-function-cast -Wcast-align -Wcast-qual -Wdisabled-optimization -Wendif-labels -Wfloat-equal -Wformat-nonliteral -Winline -Wmissing-declarations -Wmissing-prototypes -Wnested-externs -Wpointer-arith -Wundef -Wformat-security -ftree-vectorize -msse -mfpmath=sse -msse2 -mssse3 -msse4.1 -msse4.2 -fdiagnostics-color=auto -mtune=native -march=native -Aeval:scriptdir=/home/njh/perl5/perlbrew/perls/perl-5.26.1-clang/bin'
    hint=recommended
    useposix=true
    d_sigaction=define
    useithreads=undef
    usemultiplicity=undef
    use64bitint=define
    use64bitall=define
    uselongdouble=undef
    usemymalloc=n
    default_inc_excludes_dot=define
    bincompat5005=undef
  Compiler:
    cc='clang'
    ccflags ='-O2 -W -Wformat=2 -Wswitch -Wshadow -Wwrite-strings -Wuninitialized -Wall -pipe -fomit-frame-pointer -pedantic -D_FORTIFY_SOURCE=2 -Wpointer-arith -Wstrict-prototypes -fstack-protector -Wstack-protector -Wextra -Wbad-function-cast -Wcast-align -Wcast-qual -Wdisabled-optimization -Wendif-labels -Wfloat-equal -Wformat-nonliteral -Winline -Wmissing-declarations -Wmissing-prototypes -Wnested-externs -Wpointer-arith -Wundef -Wformat-security -ftree-vectorize -msse -mfpmath=sse -msse2 -mssse3 -msse4.1 -msse4.2 -fdiagnostics-color=auto -mtune=native -march=native -fno-strict-aliasing -fstack-protector-strong -I/usr/local/include -D_LARGEFILE_SOURCE -D_FILE_OFFSET_BITS=64'
    optimize='-O2'
    cppflags='-O2 -W -Wformat=2 -Wswitch -Wshadow -Wwrite-strings -Wuninitialized -Wall -pipe -fomit-frame-pointer -pedantic -D_FORTIFY_SOURCE=2 -Wpointer-arith -Wstrict-prototypes -fstack-protector -Wstack-protector -Wextra -Wbad-function-cast -Wcast-align -Wcast-qual -Wdisabled-optimization -Wendif-labels -Wfloat-equal -Wformat-nonliteral -Winline -Wmissing-declarations -Wmissing-prototypes -Wnested-externs -Wpointer-arith -Wundef -Wformat-security -ftree-vectorize -msse -mfpmath=sse -msse2 -mssse3 -msse4.1 -msse4.2 -fdiagnostics-color=auto -mtune=native -march=native -fno-strict-aliasing -fstack-protector-strong -I/usr/local/include'
    ccversion=''
    gccversion='4.2.1 Compatible Clang 3.8.1 (tags/RELEASE_381/final)'
    gccosandvers=''
    intsize=4
    longsize=8
    ptrsize=8
    doublesize=8
    byteorder=12345678
    doublekind=3
    d_longlong=define
    longlongsize=8
    d_longdbl=define
    longdblsize=16
    longdblkind=3
    ivtype='long'
    ivsize=8
    nvtype='double'
    nvsize=8
    Off_t='off_t'
    lseeksize=8
    alignbytes=8
    prototype=define
  Linker and Libraries:
    ld='clang'
    ldflags =' -fstack-protector-strong -L/usr/local/lib'
    libpth=/usr/local/lib /usr/lib/llvm-3.8/bin/../lib/clang/3.8.1/lib /usr/include/x86_64-linux-gnu /usr/lib /lib/x86_64-linux-gnu /lib/../lib /usr/lib/x86_64-linux-gnu /usr/lib/../lib /lib
    libs=-lpthread -lnsl -lgdbm -ldb -ldl -lm -lcrypt -lutil -lc -lgdbm_compat
    perllibs=-lpthread -lnsl -ldl -lm -lcrypt -lutil -lc
    libc=libc-2.24.so
    so=so
    useshrplib=false
    libperl=libperl.a
    gnulibc_version='2.24'
  Dynamic Linking:
    dlsrc=dl_dlopen.xs
    dlext=so
    d_dlsymun=undef
    ccdlflags='-Wl,-E'
    cccdlflags='-fPIC'
    lddlflags='-shared -O2 -L/usr/local/lib -fstack-protector-strong'


Characteristics of this binary (from libperl): 
  Compile-time options:
    HAS_TIMES
    PERLIO_LAYERS
    PERL_COPY_ON_WRITE
    PERL_DONT_CREATE_GVSV
    PERL_MALLOC_WRAP
    PERL_OP_PARENT
    PERL_PRESERVE_IVUV
    PERL_USE_DEVEL
    USE_64_BIT_ALL
    USE_64_BIT_INT
    USE_LARGE_FILES
    USE_LOCALE
    USE_LOCALE_COLLATE
    USE_LOCALE_CTYPE
    USE_LOCALE_NUMERIC
    USE_LOCALE_TIME
    USE_PERLIO
    USE_PERL_ATOF
  Built under linux
  Compiled at Sep 27 2017 12:13:30
  %ENV:
    PERL5LIB="/tmp/build/HTML-TreeBuilder-XPath-0.14-35/blib/arch:/tmp/build/HTML-TreeBuilder-XPath-0.14-35/blib/lib:/tmp/build/XML-XPathEngine-0.14-35/blib/arch:/tmp/build/XML-XPathEngine-0.14-35/blib/lib:/tmp/build/HTML-Selector-XPath-0.23-38/blib/arch:/tmp/build/HTML-Selector-XPath-0.23-38/blib/lib:/tmp/build/Novel-Robot-Browser-0.20-38/blib/arch:/tmp/build/Novel-Robot-Browser-0.20-38/blib/lib:/tmp/build/Term-ProgressBar-2.21-38/blib/arch:/tmp/build/Term-ProgressBar-2.21-38/blib/lib:/tmp/build/Class-MethodMaker-2.24-38/blib/arch:/tmp/build/Class-MethodMaker-2.24-38/blib/lib:/tmp/build/Parallel-Loops-0.08-38/blib/arch:/tmp/build/Parallel-Loops-0.08-38/blib/lib:/tmp/build/Parallel-ForkManager-1.19-18/blib/arch:/tmp/build/Parallel-ForkManager-1.19-18/blib/lib:/tmp/build/HTML-Tree-5.07-14/blib/arch:/tmp/build/HTML-Tree-5.07-14/blib/lib:/tmp/build/File-Slurp-9999.19-10/blib/arch:/tmp/build/File-Slurp-9999.19-10/blib/lib:/tmp/build/Encode-Detect-CJK-2.0.2-38/blib/arch:/tmp/build/Encode-Detect-CJK-2.0.2-38/blib/lib:/tmp/build/Data-MessagePack-1.00-38/blib/arch:/tmp/build/Data-MessagePack-1.00-38/blib/lib"
    PERL5OPT=""
    PERL5_CPANPLUS_IS_RUNNING="2739"
    PERL5_CPAN_IS_RUNNING="2739"
    PERLBREW_BASHRC_VERSION="0.80"
    PERLBREW_HOME="/home/njh/.perlbrew"
    PERLBREW_MANPATH="/home/njh/perl5/perlbrew/perls/perl-5.26.1-clang/man"
    PERLBREW_PATH="/home/njh/perl5/perlbrew/bin:/home/njh/perl5/perlbrew/perls/perl-5.26.1-clang/bin"
    PERLBREW_PERL="perl-5.26.1-clang"
    PERLBREW_ROOT="/home/njh/perl5/perlbrew"
    PERLBREW_VERSION="0.80"
    PERL_CPAN_REPORTER_DIR="/home/njh/.cpanreporter/perl-5.26.1-clang"
    PERL_USE_UNSAFE_INC="1"
  @INC:
    /tmp/build/HTML-TreeBuilder-XPath-0.14-35/blib/arch
    /tmp/build/HTML-TreeBuilder-XPath-0.14-35/blib/lib
    /tmp/build/XML-XPathEngine-0.14-35/blib/arch
    /tmp/build/XML-XPathEngine-0.14-35/blib/lib
    /tmp/build/HTML-Selector-XPath-0.23-38/blib/arch
    /tmp/build/HTML-Selector-XPath-0.23-38/blib/lib
    /tmp/build/Novel-Robot-Browser-0.20-38/blib/arch
    /tmp/build/Novel-Robot-Browser-0.20-38/blib/lib
    /tmp/build/Term-ProgressBar-2.21-38/blib/arch
    /tmp/build/Term-ProgressBar-2.21-38/blib/lib
    /tmp/build/Class-MethodMaker-2.24-38/blib/arch
    /tmp/build/Class-MethodMaker-2.24-38/blib/lib
    /tmp/build/Parallel-Loops-0.08-38/blib/arch
    /tmp/build/Parallel-Loops-0.08-38/blib/lib
    /tmp/build/Parallel-ForkManager-1.19-18/blib/arch
    /tmp/build/Parallel-ForkManager-1.19-18/blib/lib
    /tmp/build/HTML-Tree-5.07-14/blib/arch
    /tmp/build/HTML-Tree-5.07-14/blib/lib
    /tmp/build/File-Slurp-9999.19-10/blib/arch
    /tmp/build/File-Slurp-9999.19-10/blib/lib
    /tmp/build/Encode-Detect-CJK-2.0.2-38/blib/arch
    /tmp/build/Encode-Detect-CJK-2.0.2-38/blib/lib
    /tmp/build/Data-MessagePack-1.00-38/blib/arch
    /tmp/build/Data-MessagePack-1.00-38/blib/lib
    /home/njh/perl5/perlbrew/perls/perl-5.26.1-clang/lib/site_perl/5.26.1/x86_64-linux
    /home/njh/perl5/perlbrew/perls/perl-5.26.1-clang/lib/site_perl/5.26.1
    /home/njh/perl5/perlbrew/perls/perl-5.26.1-clang/lib/5.26.1/x86_64-linux
    /home/njh/perl5/perlbrew/perls/perl-5.26.1-clang/lib/5.26.1
    .