Report for Debug-Client-0.28

Back
From: metabase:user:e099aa30-bf4f-11e0-b0bb-a7aeb748a6a7
Subject: PASS Debug-Client-0.28 v5.16.3 Mac OS X
Date: 2013-08-10T07:46:03Z

This distribution has been tested as part of the CPAN Testers
project, supporting the Perl programming language.  See
http://wiki.cpantesters.org/ for more information or email
questions to cpan-testers-discuss@perl.org


--
Dear Kevin Dawson,

This is a computer-generated report for Debug-Client-0.28
on perl 5.16.3, created by CPAN-Reporter-1.2010.

Thank you for uploading your work to CPAN.  Congratulations!
All tests were successful.

Sections of this report:

    * Tester comments
    * Program output
    * Prerequisites
    * Environment and other context

------------------------------
TESTER COMMENTS
------------------------------

Additional comments from tester:

none provided

------------------------------
PROGRAM OUTPUT
------------------------------

Output from '/usr/bin/make test':

PERL_DL_NONLAZY=1 /usr/local/bin/perl "-MExtUtils::Command::MM" "-e" "test_harness(0, 'inc', 'blib/lib', 'blib/arch')" t/*.t
t/00-check-deps.t ..... ok
# Info: Testing Debug::Client 0.28
# Info: Perl v5.16.3
t/01-compile.t ........ ok
t/02-exports.t ........ ok
t/03-pod.t ............ skipped: Author tests, not required for installation.
t/04-pod-coverage.t ... skipped: Author tests, not required for installation.
# 
# Info: Perl v5.16.3
# Info: OS darwin
# Info: Term::ReadLine::Gnu installed
# Info: Using ReadLine implementation -> Term::ReadLine::Gnu
# INFO: $ENV{TERM} -> xterm
t/06-term.t ........... ok
t/07-initialize.t ..... ok
t/08-io.t ............. ok
t/10-top_tail.t ....... ok
t/10-top_tail_old.t ... ok
t/11-add.t ............ ok
t/13-return.t ......... ok
t/14-run.t ............ ok
# Info: perl5db version 1.37
t/15-run_to_line.t .... ok
t/16-run_to_sub.t ..... ok
t/17-stepin.t ......... ok
t/18-stepout.t ........ ok
t/19-stepover.t ....... ok
t/20-get_value.t ...... ok
t/21-toggle_trace.t ... ok
t/22-subnames.t ....... ok
t/23-breakpoints.t .... ok
t/24-y_zero.t ......... ok
t/25-get_v_vars.t ..... ok
t/26-get_x_vars.t ..... ok
t/27-get_p_exp.t ...... ok
t/28-get_h_var.t ...... ok
# Info: ComamandSet = '580'
t/29-options.t ........ ok
t/40-test_1415-old.t .. ok
t/40-test_1415.t ...... ok
t/99-perldb.t ......... ok
# Prerequisite Report:
#   Version Module               
#   ------- ---------------------
#      1.26 Carp                 
#      5.68 Exporter             
#      6.72 ExtUtils::MakeMaker  
#      1.00 File::HomeDir        
#      3.40 File::Spec           
#      3.40 File::Spec::Functions
#    0.2301 File::Temp           
#      0.22 IO::Socket::IP       
#      1.27 List::Util           
#      1.96 PadWalker            
#      1.10 Term::ReadLine       
#      1.20 Term::ReadLine::Gnu  
#     0.006 Test::CheckDeps      
#      0.39 Test::Class          
#     0.110 Test::Deep           
#   0.98_05 Test::More           
#      1.48 Test::Pod            
#      1.08 Test::Pod::Coverage  
#      0.07 Test::Requires       
#   missing Win32                
#   missing Win32::Process       
#      1.27 constant             
#     0.225 parent               
#    0.9902 version              
t/report-prereqs.t .... ok
All tests successful.
Files=32, Tests=181, 34 wallclock secs ( 0.17 usr  0.07 sys +  3.10 cusr  0.53 csys =  3.87 CPU)
Result: PASS

------------------------------
PREREQUISITES
------------------------------

Prerequisite modules loaded:

requires:

    Module              Need     Have    
    ------------------- -------- --------
    Carp                1.20     1.26    
    constant            1.21     1.27    
    IO::Socket::IP      0.21     0.22    
    PadWalker           1.96     1.96    
    perl                5.010001 5.016003
    Term::ReadLine      1.1      1.10    
    Term::ReadLine::Gnu 1.2      1.20    

build_requires:

    Module              Need     Have    
    ------------------- -------- --------
    Exporter            5.64     5.68    
    ExtUtils::MakeMaker 6.59     6.72    
    File::HomeDir       1        1.00    
    File::Spec          3.4      3.40    
    File::Temp          0.2301   0.2301  
    parent              0.225    0.225   
    Test::CheckDeps     0.006    0.006   
    Test::Class         0.39     0.39    
    Test::Deep          0.11     0.110   
    Test::More          0.98     0.98_05 
    Test::Requires      0.07     0.07    
    version             0.9902   0.9902  

configure_requires:

    Module              Need     Have    
    ------------------- -------- --------
    ExtUtils::MakeMaker 6.59     6.72    


------------------------------
ENVIRONMENT AND OTHER CONTEXT
------------------------------

Environment variables:

    PATH = /usr/local/apache/bin:/usr/local/bin:/Developer/usr/bin:/usr/bin:/bin:/usr/sbin:/sbin:/usr/local/bin:/opt/X11/bin
    PERL5LIB = 
    PERL5OPT = 
    PERL5_CPANPLUS_IS_RUNNING = 99059
    PERL5_CPAN_IS_RUNNING = 99059
    PERL5_CPAN_IS_RUNNING_IN_RECURSION = 36715,99059
    SHELL = /bin/tcsh
    TERM = xterm

Perl special variables (and OS-specific diagnostics, for MSWin32):

    $^X = /usr/local/bin/perl
    $UID/$EUID = 0 / 0
    $GID = 0 0 1 2 3 4 5 8 9 12 20 29 61 80
    $EGID = 0 0 1 2 3 4 5 8 9 12 20 29 61 80

Perl module toolchain versions installed:

    Module              Have    
    ------------------- --------
    CPAN                2.00    
    CPAN::Meta          2.131560
    Cwd                 3.40    
    ExtUtils::CBuilder  0.280206
    ExtUtils::Command   1.17    
    ExtUtils::Install   1.58    
    ExtUtils::MakeMaker 6.72    
    ExtUtils::Manifest  1.61    
    ExtUtils::ParseXS   3.18_04 
    File::Spec          3.40    
    JSON                2.59    
    JSON::PP            2.27202 
    Module::Build       0.4005  
    Module::Signature   0.73    
    Parse::CPAN::Meta   1.4404  
    Test::Harness       3.28    
    Test::More          0.98_05 
    YAML                0.84    
    YAML::Syck          1.27    
    version             0.9902  


--

Summary of my perl5 (revision 5 version 16 subversion 3) configuration:
   
  Platform:
    osname=darwin, osvers=12.2.0, archname=darwin-2level
    uname='darwin tucumcari.local 12.2.0 darwin kernel version 12.2.0: sat aug 25 00:48:52 pdt 2012; root:xnu-2050.18.24~1release_x86_64 x86_64 '
    config_args='-Dprefix=/usr/local'
    hint=recommended, useposix=true, d_sigaction=define
    useithreads=undef, usemultiplicity=undef
    useperlio=define, d_sfio=undef, uselargefiles=define, usesocks=undef
    use64bitint=define, use64bitall=define, uselongdouble=undef
    usemymalloc=n, bincompat5005=undef
  Compiler:
    cc='gcc', ccflags ='-fno-common -DPERL_DARWIN -fno-strict-aliasing -pipe -fstack-protector -I/usr/local/include -I/opt/local/include',
    optimize='-O3',
    cppflags='-fno-common -DPERL_DARWIN -fno-strict-aliasing -pipe -fstack-protector -I/usr/local/include -I/opt/local/include'
    ccversion='', gccversion='4.2.1 (Based on Apple Inc. build 5658) (LLVM build 2336.11.00)', gccosandvers=''
    intsize=4, longsize=8, ptrsize=8, doublesize=8, byteorder=12345678
    d_longlong=define, longlongsize=8, d_longdbl=define, longdblsize=16
    ivtype='long', ivsize=8, nvtype='double', nvsize=8, Off_t='off_t', lseeksize=8
    alignbytes=8, prototype=define
  Linker and Libraries:
    ld='env MACOSX_DEPLOYMENT_TARGET=10.3 cc', ldflags =' -fstack-protector -L/usr/local/lib -L/opt/local/lib'
    libpth=/usr/local/lib /opt/local/lib /usr/lib
    libs=-lgdbm -ldbm -ldl -lm -lutil -lc
    perllibs=-ldl -lm -lutil -lc
    libc=, so=dylib, useshrplib=false, libperl=libperl.a
    gnulibc_version=''
  Dynamic Linking:
    dlsrc=dl_dlopen.xs, dlext=bundle, d_dlsymun=undef, ccdlflags=' '
    cccdlflags=' ', lddlflags=' -bundle -undefined dynamic_lookup -L/usr/local/lib -L/opt/local/lib -fstack-protector'


Characteristics of this binary (from libperl): 
  Compile-time options: HAS_TIMES PERLIO_LAYERS PERL_DONT_CREATE_GVSV
                        PERL_MALLOC_WRAP PERL_PRESERVE_IVUV USE_64_BIT_ALL
                        USE_64_BIT_INT USE_LARGE_FILES USE_LOCALE
                        USE_LOCALE_COLLATE USE_LOCALE_CTYPE
                        USE_LOCALE_NUMERIC USE_PERLIO USE_PERL_ATOF
  Built under darwin
  Compiled at Mar 12 2013 23:34:14
  %ENV:
    PERL5LIB=""
    PERL5OPT=""
    PERL5_CPANPLUS_IS_RUNNING="99059"
    PERL5_CPAN_IS_RUNNING="99059"
    PERL5_CPAN_IS_RUNNING_IN_RECURSION="36715,99059"
  @INC:
    /usr/local/lib/perl5/site_perl/5.16.3/darwin-2level
    /usr/local/lib/perl5/site_perl/5.16.3
    /usr/local/lib/perl5/5.16.3/darwin-2level
    /usr/local/lib/perl5/5.16.3
    .