Config-IniFiles v2.96 Perl 5 v5.18.0 i86pc-solaris-multi

Status
Pass
From
Nigel Horne
Dist
Config-IniFiles v2.96
Platform
Perl 5 v5.18.0 i86pc-solaris-multi
Date
2018-04-07 10:24:52
ID
e8692cce-3a4d-11e8-91ce-d3e3deac0b3f
This distribution has been tested as part of the CPAN Testers
project, supporting the Perl programming language.  See
http://wiki.cpantesters.org/ for more information or email
questions to cpan-testers-discuss@perl.org


--
Dear Shlomi Fish,

This is a computer-generated report for Config-IniFiles-2.96
on perl 5.18.0, created by CPAN-Reporter-1.2018.

Thank you for uploading your work to CPAN.  Congratulations!
All tests were successful.

Sections of this report:

    * Tester comments
    * Program output
    * Prerequisites
    * Environment and other context

------------------------------
TESTER COMMENTS
------------------------------

Additional comments from tester:

this report is from an automated smoke testing program
and was not reviewed by a human for accuracy

------------------------------
PROGRAM OUTPUT
------------------------------

Output from './Build test':

t/00load.t .................................... ok
t/02weird.t ................................... ok
t/01basic.t ................................... ok
t/00-compile.t ................................ ok
t/06oo.t ...................................... ok
t/03comments.t ................................ ok
t/04import.t .................................. ok
t/05hash.t .................................... ok
t/08group.t ................................... ok
t/09case.t .................................... ok
t/07misc.t .................................... ok
t/10delta.t ................................... ok
t/11copy-ties-with-array-vals.t ............... ok
t/13val-in-list-context.t ..................... ok
t/12open-empty-file.t ......................... ok
t/14brackets-within-values.t .................. ok
t/15store-and-retrieve-here-doc-terminator.t .. ok
t/16case-sensitive-default.t .................. ok
t/17untainted-multiline-values.t .............. ok
t/18non-contiguous-groups.t ................... ok
t/19param-found-outside-section.t ............. ok
t/20allowedcommentchars.t ..................... ok
t/22trailing-comment-lines.t .................. ok
t/23scalar-ref.t .............................. ok
t/24case-sensitive-exists.t ................... ok
t/25line-endings.t ............................ ok
t/26scalar-filehandle.t ....................... ok
t/27empty-ini.t ............................... ok
t/28nomultiline.t ............................. ok
t/29end-of-line-comment.t ..................... ok
t/30parameters-with-empty-values.t ............ ok
t/31comments_with_spaces.t .................... ok
t/32mswin-outputs-contain-crs.t ............... skipped: Test is only relevant for Microsoft Windows
untie attempted while 1 inner references still exist at t/33update-using-tied-fh-w-shorter-names.t line 52.
t/33update-using-tied-fh-w-shorter-names.t .... ok
t/author-pod-coverage.t ....................... skipped: these tests are for testing by the author
t/author-pod-syntax.t ......................... skipped: these tests are for testing by the author
t/author-tidyall.t ............................ skipped: these tests are for testing by the author
t/34trailing-comments-double-delimeter.t ...... ok
t/35reload-config-no-file.t ................... ok
t/35section-iterators.t ....................... ok
t/cpan-changes.t .............................. skipped: Test::CPAN::Changes required for this test
t/release-cpan-changes.t ...................... skipped: these tests are for release candidate testing
t/pod-coverage.t .............................. skipped: Test::Pod::Coverage 1.04 required for testing POD coverage
t/pod.t ....................................... skipped: Test::Pod 1.14 required for testing POD
t/style-trailing-space.t ...................... skipped: Test::TrailingSpace required for trailing space test.
All tests successful.
Files=45, Tests=199,  9 wallclock secs ( 0.79 usr  0.46 sys + 25.86 cusr  8.23 csys = 35.34 CPU)
Result: PASS

------------------------------
PREREQUISITES
------------------------------

Prerequisite modules loaded:

requires:

    Module              Need  Have    
    ------------------- ----- --------
    Carp                0     1.29    
    Fcntl               0     1.11    
    File::Basename      0     2.84    
    File::Temp          0     0.23    
    IO::Scalar          0     2.111   
    List::Util          1.33  1.50    
    perl                5.008 5.018000
    strict              0     1.07    
    Symbol              0     1.07    
    vars                0     1.03    
    warnings            0     1.18    

build_requires:

    Module              Need  Have    
    ------------------- ----- --------
    base                0     2.18    
    English             0     1.06    
    Exporter            0     5.68    
    File::Spec          0     3.40    
    File::Temp          0     0.23    
    IO::File            0     1.16    
    IO::Handle          0     1.34    
    IPC::Open3          0     1.13    
    lib                 0     0.63    
    Module::Build       0.28  0.4003  
    parent              0     0.225   
    Scalar::Util        0     1.50    
    Test::More          0     1.302122

configure_requires:

    Module              Need  Have    
    ------------------- ----- --------
    ExtUtils::MakeMaker 0     7.30    
    Module::Build       0.28  0.4003  


------------------------------
ENVIRONMENT AND OTHER CONTEXT
------------------------------

Environment variables:

    AUTOMATED_TESTING = 1
    HARNESS_OPTIONS = j4
    PATH = /export/home/njh/perl5/perlbrew/bin:/export/home/njh/perl5/perlbrew/perls/perl-5.18.0-multi/bin:src/njh/smoker/bin:/usr/bin
    PERL5LIB = /export/home/njh/.cpan/build/IO-stringy-2.111-Hxn0uX/blib/arch:/export/home/njh/.cpan/build/IO-stringy-2.111-Hxn0uX/blib/lib:/export/home/njh/.cpan/build/Scalar-List-Utils-1.50-xiSq0J/blib/arch:/export/home/njh/.cpan/build/Scalar-List-Utils-1.50-xiSq0J/blib/lib
    PERL5OPT = 
    PERL5_CPANPLUS_IS_RUNNING = 10744
    PERL5_CPAN_IS_RUNNING = 10744
    PERLBREW_HOME = /export/home/njh/.perlbrew
    PERLBREW_MANPATH = /export/home/njh/perl5/perlbrew/perls/perl-5.18.0-multi/man
    PERLBREW_PATH = /export/home/njh/perl5/perlbrew/bin:/export/home/njh/perl5/perlbrew/perls/perl-5.18.0-multi/bin
    PERLBREW_PERL = perl-5.18.0-multi
    PERLBREW_ROOT = /export/home/njh/perl5/perlbrew
    PERLBREW_SHELLRC_VERSION = 0.82
    PERLBREW_VERSION = 0.82
    SHELL = /usr/bin/sh
    TERM = dumb

Perl special variables (and OS-specific diagnostics, for MSWin32):

    $^X = /export/home/njh/perl5/perlbrew/perls/perl-5.18.0-multi/bin/perl5.18.0
    $UID/$EUID = 100 / 100
    $GID = 10 10
    $EGID = 10 10

Perl module toolchain versions installed:

    Module              Have    
    ------------------- --------
    CPAN                2.00    
    CPAN::Meta          2.143240
    Cwd                 3.40    
    ExtUtils::CBuilder  0.280210
    ExtUtils::Command   7.30    
    ExtUtils::Install   2.06    
    ExtUtils::MakeMaker 7.30    
    ExtUtils::Manifest  1.70    
    ExtUtils::ParseXS   3.18    
    File::Spec          3.40    
    JSON                n/a     
    JSON::PP            2.27203 
    Module::Build       0.4003  
    Module::Signature   n/a     
    Parse::CPAN::Meta   1.4414  
    Test::Harness       3.26    
    Test::More          1.302122
    YAML                1.24    
    YAML::Syck          n/a     
    version             0.9902  


--

Summary of my perl5 (revision 5 version 18 subversion 0) configuration:
   
  Platform:
    osname=solaris, osvers=2.11, archname=i86pc-solaris-multi
    uname='sunos republic31 5.11 11.3 i86pc i386 i86pc '
    config_args='-de -Dprefix=/export/home/njh/perl5/perlbrew/perls/perl-5.18.0-multi -Dusedevel -Dusemultiplicity -Accflags= -Aeval:scriptdir=/export/home/njh/perl5/perlbrew/perls/perl-5.18.0-multi/bin'
    hint=recommended, useposix=true, d_sigaction=define
    useithreads=undef, usemultiplicity=define
    useperlio=define, d_sfio=undef, uselargefiles=define, usesocks=undef
    use64bitint=undef, use64bitall=undef, uselongdouble=undef
    usemymalloc=n, bincompat5005=undef
  Compiler:
    cc='cc', ccflags ='-fno-strict-aliasing -pipe -fstack-protector -I/usr/gnu/include -D_LARGEFILE_SOURCE -D_FILE_OFFSET_BITS=64 -DPERL_USE_SAFE_PUTENV',
    optimize='-O',
    cppflags='-fno-strict-aliasing -pipe -fstack-protector -I/usr/gnu/include'
    ccversion='', gccversion='4.8.2', gccosandvers=''
    intsize=4, longsize=4, ptrsize=4, doublesize=8, byteorder=1234
    d_longlong=define, longlongsize=8, d_longdbl=define, longdblsize=12
    ivtype='long', ivsize=4, nvtype='double', nvsize=8, Off_t='off_t', lseeksize=8
    alignbytes=4, prototype=define
  Linker and Libraries:
    ld='cc', ldflags =' -fstack-protector -L/usr/gnu/lib '
    libpth=/usr/gnu/lib /usr/lib /usr/ccs/lib
    libs=-lsocket -lnsl -lgdbm -ldb -ldl -lm -lc
    perllibs=-lsocket -lnsl -ldl -lm -lc
    libc=/lib/libc.so, so=so, useshrplib=true, libperl=libperl.so
    gnulibc_version=''
  Dynamic Linking:
    dlsrc=dl_dlopen.xs, dlext=so, d_dlsymun=undef, ccdlflags='  -R /export/home/njh/perl5/perlbrew/perls/perl-5.18.0-multi/lib/5.18.0/i86pc-solaris-multi/CORE'
    cccdlflags='-fPIC', lddlflags='-shared -L/usr/gnu/lib -fstack-protector'


Characteristics of this binary (from libperl): 
  Compile-time options: HAS_TIMES MULTIPLICITY PERLIO_LAYERS
                        PERL_DONT_CREATE_GVSV
                        PERL_HASH_FUNC_ONE_AT_A_TIME_HARD
                        PERL_IMPLICIT_CONTEXT PERL_MALLOC_WRAP
                        PERL_PRESERVE_IVUV PERL_SAWAMPERSAND PERL_USE_DEVEL
                        PERL_USE_SAFE_PUTENV USE_LARGE_FILES USE_LOCALE
                        USE_LOCALE_COLLATE USE_LOCALE_CTYPE
                        USE_LOCALE_NUMERIC USE_PERLIO USE_PERL_ATOF
  Locally applied patches:
	Devel::PatchPerl 1.48
  Built under solaris
  Compiled at Feb  8 2018 14:21:23
  %ENV:
    PERL5LIB="/export/home/njh/.cpan/build/IO-stringy-2.111-Hxn0uX/blib/arch:/export/home/njh/.cpan/build/IO-stringy-2.111-Hxn0uX/blib/lib:/export/home/njh/.cpan/build/Scalar-List-Utils-1.50-xiSq0J/blib/arch:/export/home/njh/.cpan/build/Scalar-List-Utils-1.50-xiSq0J/blib/lib"
    PERL5OPT=""
    PERL5_CPANPLUS_IS_RUNNING="10744"
    PERL5_CPAN_IS_RUNNING="10744"
    PERLBREW_HOME="/export/home/njh/.perlbrew"
    PERLBREW_MANPATH="/export/home/njh/perl5/perlbrew/perls/perl-5.18.0-multi/man"
    PERLBREW_PATH="/export/home/njh/perl5/perlbrew/bin:/export/home/njh/perl5/perlbrew/perls/perl-5.18.0-multi/bin"
    PERLBREW_PERL="perl-5.18.0-multi"
    PERLBREW_ROOT="/export/home/njh/perl5/perlbrew"
    PERLBREW_SHELLRC_VERSION="0.82"
    PERLBREW_VERSION="0.82"
  @INC:
    /export/home/njh/.cpan/build/IO-stringy-2.111-Hxn0uX/blib/arch
    /export/home/njh/.cpan/build/IO-stringy-2.111-Hxn0uX/blib/lib
    /export/home/njh/.cpan/build/Scalar-List-Utils-1.50-xiSq0J/blib/arch
    /export/home/njh/.cpan/build/Scalar-List-Utils-1.50-xiSq0J/blib/lib
    /export/home/njh/perl5/perlbrew/perls/perl-5.18.0-multi/lib/site_perl/5.18.0/i86pc-solaris-multi
    /export/home/njh/perl5/perlbrew/perls/perl-5.18.0-multi/lib/site_perl/5.18.0
    /export/home/njh/perl5/perlbrew/perls/perl-5.18.0-multi/lib/5.18.0/i86pc-solaris-multi
    /export/home/njh/perl5/perlbrew/perls/perl-5.18.0-multi/lib/5.18.0
    .