Compression-Util v0.15 Perl 5 v5.40.3 aarch64-android

Status
Pass
From
Trizen
Dist
Compression-Util v0.15
Platform
Perl 5 v5.40.3 aarch64-android
Date
2025-08-08 08:23:05
ID
e86b034e-7430-11f0-a1af-d6eab32b953c
This distribution has been tested as part of the CPAN Testers
project, supporting the Perl programming language.  See
http://wiki.cpantesters.org/ for more information or email
questions to cpan-testers-discuss@perl.org


--
Dear TRIZEN,

This is a computer-generated report for Compression-Util-0.15
on perl 5.40.3, created by App::cpanminus::reporter 0.22 (1.7048).

Thank you for uploading your work to CPAN.  Congratulations!
All tests were successful.

Sections of this report:

    * Tester comments
    * Program output
    * Prerequisites
    * Environment and other context

------------------------------
TESTER COMMENTS
------------------------------

Additional comments from tester:

none provided

------------------------------
PROGRAM OUTPUT
------------------------------

Output from '':

Building and testing Compression-Util-0.15
Building Compression-Util
# Testing Compression::Util 0.15
t/00.load.t ........................... ok
t/bwt.t ............................... ok
t/bwt_adaptive_arithmetic.t ........... ok
t/bwt_adaptive_arithmetic_symbolic.t .. ok
t/bwt_arithmetic.t .................... ok
t/bwt_arithmetic_symbolic.t ........... ok
t/bwt_symbolic.t ...................... ok
t/bzip2.t ............................. ok
t/fast_lzss.t ......................... ok
t/gzip.t .............................. ok
t/gzip_fast.t ......................... ok
t/lz4.t ............................... ok
t/lz4_fast.t .......................... ok
t/lz77.t .............................. ok
t/lz77_abc_encode.t ................... ok
t/lz77_adaptive_arithmetic.t .......... ok
t/lz77_arithmetic.t ................... ok
t/lz77_bwt_obh.t ...................... ok
t/lz77_delta_encode.t ................. ok
t/lz77_obh_encode.t ................... ok
t/lz77_symbolic.t ..................... ok
t/lz77_symbolic_delta.t ............... ok
t/lz77_with_bwt_symbolic.t ............ ok
t/lz77_with_lz77_symbolic.t ........... ok
t/lz77_with_mrl_symbolic.t ............ ok
t/lzb.t ............................... ok
t/lzb_fast.t .......................... ok
t/lzss.t .............................. ok
t/lzss_adaptive_arithmetic.t .......... ok
t/lzss_arithmetic.t ................... ok
t/lzss_arithmetic_symbolic.t .......... ok
t/lzss_symbolic.t ..................... ok
t/lzss_vs_fast_lzss.t ................. ok
t/lzss_with_bwt_symbolic.t ............ ok
t/lzss_with_lz77_symbolic.t ........... ok
t/lzss_with_mrl_symbolic.t ............ ok
t/lzssf_symbolic.t .................... ok
t/lzw.t ............................... ok
t/lzw_delta.t ......................... ok
t/lzw_elias_gamma.t ................... ok
t/lzw_elias_omega.t ................... ok
t/lzw_fibonacci.t ..................... ok
t/misc.t .............................. ok
t/mrl.t ............................... ok
t/mrl_symbolic.t ...................... ok
t/pod-coverage.t ...................... skipped: Test::Pod::Coverage 1.04 required for testing POD coverage
t/pod.t ............................... skipped: Test::Pod 1.14 required for testing POD
t/zlib.t .............................. ok
All tests successful.
Files=48, Tests=960, 19 wallclock secs ( 0.89 usr  0.19 sys + 16.88 cusr  1.56 csys = 19.52 CPU)
Result: PASS

------------------------------
PREREQUISITES
------------------------------

Prerequisite modules loaded:

    No requirements found

------------------------------
ENVIRONMENT AND OTHER CONTEXT
------------------------------

Environment variables:

    CCFLAGS = -s -march=native -O3 -pipe -fno-plt -fexceptions -Wp,-D_FORTIFY_SOURCE=2 -Wformat -Werror=format-security
    LANG = en_US.UTF-8
    LDFLAGS = -Wl,-O1,--sort-common,--as-needed,-z,relro,-z,now
    PATH = /data/data/com.termux/files/usr/bin
    PERL_MM_OPT = OPTIMIZE="-s -march=native -O3 -pipe -fno-plt"
    PREFIX = /data/data/com.termux/files/usr
    SHELL = /data/data/com.termux/files/usr/bin/zsh
    TEMP = /tmp
    TERM = xterm-256color
    TMPDIR = /data/data/com.termux/files/usr/tmp

Perl special variables (and OS-specific diagnostics, for MSWin32):

    EGID = 10206 1077 3003 9997 20206 50206
    EUID = 10206
    EXECUTABLE_NAME = /data/data/com.termux/files/usr/bin/perl
    GID = 10206 1077 3003 9997 20206 50206
    UID = 10206

Perl module toolchain versions installed:

    Module              Have    
    ------------------- --------
    CPAN                2.36    
    CPAN::Meta          2.150010
    Cwd                 3.91    
    ExtUtils::CBuilder  0.280240
    ExtUtils::Command   7.70    
    ExtUtils::Install   2.22    
    ExtUtils::MakeMaker 7.70    
    ExtUtils::Manifest  1.75    
    ExtUtils::ParseXS   3.51    
    File::Spec          3.91    
    JSON                4.10    
    JSON::PP            4.16    
    Module::Build       0.4234  
    Module::Signature   0.93    
    Parse::CPAN::Meta   2.150010
    Test::Harness       3.48    
    Test::More          1.302199
    YAML                n/a     
    YAML::Syck          n/a     
    version             0.9930  


--

Summary of my perl5 (revision 5 version 40 subversion 3) configuration:
   
  Platform:
    osname=android
    osvers=current
    archname=aarch64-android
    uname=''
    config_args='--target=aarch64-linux-android --with-cc=aarch64-linux-android-clang --with-ranlib=llvm-ranlib -Dosname=android -Dsysroot=-I/data/data/com.termux/files -Dprefix=/data/data/com.termux/files/usr -Dsh=/data/data/com.termux/files/usr/bin/sh -Dld=aarch64-linux-android-clang -Wl,-rpath=/data/data/com.termux/files/usr/lib -Wl,--enable-new-dtags -Dar=llvm-ar -Duseshrplib -Duseithreads -Dusemultiplicity -Doptimize=-O2 --with-libs=-lm -L/data/data/com.termux/files/usr/lib -landroid-utimes --keeplog --mode=target --target=aarch64-linux-android --targetarch=aarch64-unknown-linux-android'
    hint=default
    useposix=true
    d_sigaction=define
    useithreads=define
    usemultiplicity=define
    use64bitint=undef
    use64bitall=undef
    uselongdouble=undef
    usemymalloc=n
    default_inc_excludes_dot=define
  Compiler:
    cc='aarch64-linux-android-clang'
    ccflags ='-I/data/data/com.termux/files/usr/include  -D__USE_BSD=1 -D_LARGEFILE_SOURCE -D_FILE_OFFSET_BITS=64'
    optimize='-O2'
    cppflags='-I/data/data/com.termux/files/usr/include'
    ccversion=''
    gccversion='0.0'
    gccosandvers=''
    intsize=4
    longsize=8
    ptrsize=8
    doublesize=8
    byteorder=12345678
    doublekind=3
    d_longlong=define
    longlongsize=8
    d_longdbl=define
    longdblsize=16
    longdblkind=0
    ivtype='long'
    ivsize=8
    nvtype='double'
    nvsize=8
    Off_t='off_t'
    lseeksize=8
    alignbytes=8
    prototype=define
  Linker and Libraries:
    ld='aarch64-linux-android-clang -Wl,-rpath=/data/data/com.termux/files/usr/lib -Wl,--enable-new-dtags'
    ldflags ='-I/data/data/com.termux/files/usr/include  -Wl,-rpath=/data/data/com.termux/files/usr/lib -L/data/data/com.termux/files/usr/lib -landroid-utimes -lm'
    libpth=/data/data/com.termux/files/usr/lib /data/data/com.termux/files/usr/local/lib
    libs=-lm -L/data/data/com.termux/files/usr/lib -landroid-utimes
    perllibs=-lm
    libc=
    so=so
    useshrplib=true
    libperl=libperl.so
    gnulibc_version=''
  Dynamic Linking:
    dlsrc=dl_dlopen.xs
    dlext=so
    d_dlsymun=undef
    ccdlflags='-Wl,-E'
    cccdlflags='-fPIC -Wno-unused-function'
    lddlflags='-I/data/data/com.termux/files/usr/include -shared -I/data/data/com.termux/files/usr/include  -Wl,-rpath=/data/data/com.termux/files/usr/lib -L/data/data/com.termux/files/usr/lib -landroid-utimes -lm'


Characteristics of this binary (from libperl): 
  Compile-time options:
    HAS_LONG_DOUBLE
    HAS_STRTOLD
    HAS_TIMES
    MULTIPLICITY
    PERLIO_LAYERS
    PERL_COPY_ON_WRITE
    PERL_DONT_CREATE_GVSV
    PERL_HASH_FUNC_SIPHASH13
    PERL_HASH_USE_SBOX32
    PERL_MALLOC_WRAP
    PERL_OP_PARENT
    PERL_PRESERVE_IVUV
    PERL_USE_SAFE_PUTENV
    USE_ITHREADS
    USE_LARGE_FILES
    USE_LOCALE
    USE_LOCALE_COLLATE
    USE_LOCALE_CTYPE
    USE_LOCALE_NUMERIC
    USE_LOCALE_TIME
    USE_PERLIO
    USE_PERL_ATOF
    USE_REENTRANT_API
    USE_THREAD_SAFE_LOCALE
  Built under android
  Compiled at Aug  5 2025 21:52:52
  %ENV:
    PERL_MM_OPT="OPTIMIZE="-s -march=native -O3 -pipe -fno-plt""
  @INC:
    /data/data/com.termux/files/usr/lib/perl5/site_perl/5.40.3/aarch64-android
    /data/data/com.termux/files/usr/lib/perl5/site_perl/5.40.3
    /data/data/com.termux/files/usr/lib/perl5/5.40.3/aarch64-android
    /data/data/com.termux/files/usr/lib/perl5/5.40.3