Report for WebService-Simplenote-0.2.1

Back
From: metabase:user:e667a2a9-6c14-1014-9503-c31448f0d22a
Subject: PASS WebService-Simplenote-0.2.1 v5.20.0 
Date: 2014-12-04T20:39:52Z

This distribution has been tested as part of the CPAN Testers
project, supporting the Perl programming language.  See
http://wiki.cpantesters.org/ for more information or email
questions to cpan-testers-discuss@perl.org


--
Dear Ioan Rogers,

This is a computer-generated report for WebService-Simplenote-0.2.1
on perl 5.20.0, created by CPAN-Reporter-1.2012.

Thank you for uploading your work to CPAN.  Congratulations!
All tests were successful.

Sections of this report:

    * Tester comments
    * Program output
    * Prerequisites
    * Environment and other context

------------------------------
TESTER COMMENTS
------------------------------

Additional comments from tester:

this report is from an automated smoke testing program
and was not reviewed by a human for accuracy

------------------------------
PROGRAM OUTPUT
------------------------------

Output from 'C:\Strawberry\perl\bin\perl.exe ./Build test':

t/00-compile.t .... ok
t/1_simplenote.t .. skipped: Set SIMPLENOTE_USER and SIMPLENOTE_PASS for remote tests
t/2_note.t ........ ok
All tests successful.
Files=3, Tests=10, 14 wallclock secs ( 0.06 usr +  0.08 sys =  0.14 CPU)
Result: PASS

------------------------------
PREREQUISITES
------------------------------

Prerequisite modules loaded:

requires:

    Module                       Need    Have    
    ---------------------------- ------- --------
    DateTime                     0       1.10    
    HTTP::Cookies                0       6.01    
    JSON                         0       2.90    
    Log::Any                     0       0.15    
    LWP::UserAgent               0       5.835   
    Method::Signatures           0       20141021
    MIME::Base64                 0       3.14    
    Moose                        0       2.1402  
    Moose::Role                  0       2.1402  
    Moose::Util::TypeConstraints 0       2.1402  
    MooseX::Types::DateTime      0       0.10    
    MooseX::Types::Path::Class   0       0.06    
    namespace::autoclean         0       0.19    
    open                         0       1.10    
    perl                         v5.10.0 5.020000
    Try::Tiny                    0       0.22    

build_requires:

    Module                       Need    Have    
    ---------------------------- ------- --------
    File::Find                   0       1.27    
    File::Temp                   0       0.2304  
    Module::Build                0.3601  0.4205  
    strict                       0       1.08    
    Test::More                   0       1.001003
    warnings                     0       1.23    


------------------------------
ENVIRONMENT AND OTHER CONTEXT
------------------------------

Environment variables:

    AUTOMATED_TESTING = 1
    COMSPEC = C:\Windows\system32\cmd.exe
    NUMBER_OF_PROCESSORS = 1
    PATH = C:\Windows\system32;C:\Windows;C:\Windows\System32\Wbem;C:\Windows\System32\WindowsPowerShell\v1.0\;C:\Strawberry\c\bin;C:\Strawberry\perl\site\bin;C:\Strawberry\perl\bin;C:\Program Files\Git\cmd
    PERL5LIB = C:\STRAWB~1\cpan\build\Data-Alias-1.18-ctNHsv/blib/arch;C:\STRAWB~1\cpan\build\Data-Alias-1.18-ctNHsv/blib/lib;C:\STRAWB~1\cpan\build\Method-Signatures-20141021-T0aa4v/blib/arch;C:\STRAWB~1\cpan\build\Method-Signatures-20141021-T0aa4v/blib/lib;C:\STRAWB~1\cpan\build\Const-Fast-0.014-o4p5Qm/blib/arch;C:\STRAWB~1\cpan\build\Const-Fast-0.014-o4p5Qm/blib/lib;C:\STRAWB~1\cpan\build\Log-Dispatch-Screen-Color-0.04-tkm5IE/blib/arch;C:\STRAWB~1\cpan\build\Log-Dispatch-Screen-Color-0.04-tkm5IE/blib/lib;C:\STRAWB~1\cpan\build\Log-Any-Adapter-0.11-WJnCVX/blib/arch;C:\STRAWB~1\cpan\build\Log-Any-Adapter-0.11-WJnCVX/blib/lib
    PERL5OPT = 
    PERL5_CPANPLUS_IS_RUNNING = 4332
    PERL5_CPAN_IS_RUNNING = 4332
    PERL5_CPAN_IS_RUNNING_IN_RECURSION = 3944,4332
    PERL_CR_SMOKER_CURRENT = App-SimplenoteSync-0.2.0
    PERL_EXTUTILS_AUTOINSTALL = --defaultdeps
    PERL_MM_USE_DEFAULT = 1
    PROCESSOR_IDENTIFIER = x86 Family 21 Model 1 Stepping 2, AuthenticAMD
    TEMP = C:\Users\albie\AppData\Local\Temp

Perl special variables (and OS-specific diagnostics, for MSWin32):

    $^X = C:\Strawberry\perl\bin\perl.exe
    $UID/$EUID = 0 / 0
    $GID = 0
    $EGID = 0
    Win32::GetOSName = Win7
    Win32::GetOSVersion = Service Pack 1, 6, 1, 7601, 2, 1, 0, 256, 1
    Win32::FsType = NTFS
    Win32::IsAdminUser = 0

Perl module toolchain versions installed:

    Module              Have    
    ------------------- --------
    CPAN                2.05    
    CPAN::Meta          2.141520
    Cwd                 3.47    
    ExtUtils::CBuilder  0.280216
    ExtUtils::Command   1.18    
    ExtUtils::Install   1.68    
    ExtUtils::MakeMaker 6.98    
    ExtUtils::Manifest  1.63    
    ExtUtils::ParseXS   3.24    
    File::Spec          3.47    
    JSON                2.90    
    JSON::PP            2.27203 
    Module::Build       0.4205  
    Module::Signature   n/a     
    Parse::CPAN::Meta   1.4414  
    Test::Harness       3.32    
    Test::More          1.001003
    YAML                0.94    
    YAML::Syck          1.27    
    version             0.9908  


--

Summary of my perl5 (revision 5 version 20 subversion 0) configuration:
   
  Platform:
    osname=MSWin32, osvers=6.2, archname=MSWin32-x86-multi-thread-64int
    uname='Win32 strawberry-perl 5.20.0.1 #1 Fri May 30 23:25:11 2014 i386'
    config_args='undef'
    hint=recommended, useposix=true, d_sigaction=undef
    useithreads=define, usemultiplicity=define
    use64bitint=define, use64bitall=undef, uselongdouble=undef
    usemymalloc=n, bincompat5005=undef
  Compiler:
    cc='gcc', ccflags =' -s -O2 -DWIN32  -DPERL_TEXTMODE_SCRIPTS -DPERL_IMPLICIT_CONTEXT -DPERL_IMPLICIT_SYS -DUSE_PERLIO -fwrapv -fno-strict-aliasing -mms-bitfields',
    optimize='-s -O2',
    cppflags='-DWIN32'
    ccversion='', gccversion='4.8.2', gccosandvers=''
    intsize=4, longsize=4, ptrsize=4, doublesize=8, byteorder=12345678
    d_longlong=define, longlongsize=8, d_longdbl=define, longdblsize=12
    ivtype='long long', ivsize=8, nvtype='double', nvsize=8, Off_t='long long', lseeksize=8
    alignbytes=8, prototype=define
  Linker and Libraries:
    ld='g++', ldflags ='-s -L"C:\STRAWB~1\perl\lib\CORE" -L"C:\STRAWB~1\c\lib"'
    libpth=C:\STRAWB~1\c\lib C:\STRAWB~1\c\i686-w64-mingw32\lib C:\STRAWB~1\c\lib\gcc\i686-w64-mingw32\4.8.2
    libs=-lmoldname -lkernel32 -luser32 -lgdi32 -lwinspool -lcomdlg32 -ladvapi32 -lshell32 -lole32 -loleaut32 -lnetapi32 -luuid -lws2_32 -lmpr -lwinmm -lversion -lodbc32 -lodbccp32 -lcomctl32
    perllibs=-lmoldname -lkernel32 -luser32 -lgdi32 -lwinspool -lcomdlg32 -ladvapi32 -lshell32 -lole32 -loleaut32 -lnetapi32 -luuid -lws2_32 -lmpr -lwinmm -lversion -lodbc32 -lodbccp32 -lcomctl32
    libc=, so=dll, useshrplib=true, libperl=libperl520.a
    gnulibc_version=''
  Dynamic Linking:
    dlsrc=dl_win32.xs, dlext=xs.dll, d_dlsymun=undef, ccdlflags=' '
    cccdlflags=' ', lddlflags='-mdll -s -L"C:\STRAWB~1\perl\lib\CORE" -L"C:\STRAWB~1\c\lib"'


Characteristics of this binary (from libperl): 
  Compile-time options: HAS_TIMES HAVE_INTERP_INTERN MULTIPLICITY
                        PERLIO_LAYERS PERL_DONT_CREATE_GVSV
                        PERL_HASH_FUNC_ONE_AT_A_TIME_HARD
                        PERL_IMPLICIT_CONTEXT PERL_IMPLICIT_SYS
                        PERL_MALLOC_WRAP PERL_NEW_COPY_ON_WRITE
                        PERL_PRESERVE_IVUV USE_64_BIT_INT USE_ITHREADS
                        USE_LARGE_FILES USE_LOCALE USE_LOCALE_COLLATE
                        USE_LOCALE_CTYPE USE_LOCALE_NUMERIC USE_PERLIO
                        USE_PERL_ATOF
  Built under MSWin32
  Compiled at May 30 2014 23:29:27
  %ENV:
    PERL5LIB="C:\STRAWB~1\cpan\build\Data-Alias-1.18-ctNHsv/blib/arch;C:\STRAWB~1\cpan\build\Data-Alias-1.18-ctNHsv/blib/lib;C:\STRAWB~1\cpan\build\Method-Signatures-20141021-T0aa4v/blib/arch;C:\STRAWB~1\cpan\build\Method-Signatures-20141021-T0aa4v/blib/lib;C:\STRAWB~1\cpan\build\Const-Fast-0.014-o4p5Qm/blib/arch;C:\STRAWB~1\cpan\build\Const-Fast-0.014-o4p5Qm/blib/lib;C:\STRAWB~1\cpan\build\Log-Dispatch-Screen-Color-0.04-tkm5IE/blib/arch;C:\STRAWB~1\cpan\build\Log-Dispatch-Screen-Color-0.04-tkm5IE/blib/lib;C:\STRAWB~1\cpan\build\Log-Any-Adapter-0.11-WJnCVX/blib/arch;C:\STRAWB~1\cpan\build\Log-Any-Adapter-0.11-WJnCVX/blib/lib"
    PERL5_CPANPLUS_IS_RUNNING="4332"
    PERL5_CPAN_IS_RUNNING="4332"
    PERL5_CPAN_IS_RUNNING_IN_RECURSION="3944,4332"
    PERL_CR_SMOKER_CURRENT="App-SimplenoteSync-0.2.0"
    PERL_EXTUTILS_AUTOINSTALL="--defaultdeps"
    PERL_MM_USE_DEFAULT="1"
  @INC:
    C:\STRAWB~1\cpan\build\Data-Alias-1.18-ctNHsv/blib/arch
    C:\STRAWB~1\cpan\build\Data-Alias-1.18-ctNHsv/blib/lib
    C:\STRAWB~1\cpan\build\Method-Signatures-20141021-T0aa4v/blib/arch
    C:\STRAWB~1\cpan\build\Method-Signatures-20141021-T0aa4v/blib/lib
    C:\STRAWB~1\cpan\build\Const-Fast-0.014-o4p5Qm/blib/arch
    C:\STRAWB~1\cpan\build\Const-Fast-0.014-o4p5Qm/blib/lib
    C:\STRAWB~1\cpan\build\Log-Dispatch-Screen-Color-0.04-tkm5IE/blib/arch
    C:\STRAWB~1\cpan\build\Log-Dispatch-Screen-Color-0.04-tkm5IE/blib/lib
    C:\STRAWB~1\cpan\build\Log-Any-Adapter-0.11-WJnCVX/blib/arch
    C:\STRAWB~1\cpan\build\Log-Any-Adapter-0.11-WJnCVX/blib/lib
    C:/Strawberry/perl/site/lib/MSWin32-x86-multi-thread-64int
    C:/Strawberry/perl/site/lib
    C:/Strawberry/perl/vendor/lib
    C:/Strawberry/perl/lib
    .