Alien-automake v0.18 Perl 5 v5.40.0 x86_64-linux
- Status
- Pass
- From
- Dan Book
- Dist
-
Alien-automake v0.18
- Platform
- Perl 5 v5.40.0 x86_64-linux
- Date
- 2024-06-11 05:17:33
- ID
- e878b9a2-27b1-11ef-a222-d33ec2ee0a1a
This distribution has been tested as part of the CPAN Testers
project, supporting the Perl programming language. See
http://wiki.cpantesters.org/ for more information or email
questions to cpan-testers-discuss@perl.org
--
Dear PLICEASE,
This is a computer-generated report for Alien-automake-0.18
on perl 5.40.0, created by App::cpanminus::reporter 0.21 (1.7047).
Thank you for uploading your work to CPAN. Congratulations!
All tests were successful.
Sections of this report:
* Tester comments
* Program output
* Prerequisites
* Environment and other context
------------------------------
TESTER COMMENTS
------------------------------
Additional comments from tester:
none provided
------------------------------
PROGRAM OUTPUT
------------------------------
Output from '':
Building and testing Alien-automake-0.18
cp lib/Alien/automake.pm blib/lib/Alien/automake.pm
"/home/grinnz/.plenv/versions/5.40.0/bin/perl5.40.0" -MAlien::Build::MM=cmd -e prefix site /home/grinnz/.plenv/versions/5.40.0/lib/perl5/5.40.0/x86_64-linux /home/grinnz/.plenv/versions/5.40.0/lib/perl5/site_perl/5.40.0/x86_64-linux
main> prefix /home/grinnz/.plenv/versions/5.40.0/lib/perl5/site_perl/5.40.0/x86_64-linux/auto/share/dist/Alien-automake
"/home/grinnz/.plenv/versions/5.40.0/bin/perl5.40.0" -MAlien::Build::MM=cmd -e version 0.18
"/home/grinnz/.plenv/versions/5.40.0/bin/perl5.40.0" -MAlien::Build::MM=cmd -e download
Alien::Build::Plugin::Core::Download> decoding html
Alien::Build::Plugin::Core::Download> candidate *https://ftp.gnu.org/gnu/automake/automake-1.16.5.tar.gz
Alien::Build::Plugin::Core::Download> candidate https://ftp.gnu.org/gnu/automake/automake-1.16.4.tar.gz
Alien::Build::Plugin::Core::Download> candidate https://ftp.gnu.org/gnu/automake/automake-1.16.3.tar.gz
Alien::Build::Plugin::Core::Download> candidate https://ftp.gnu.org/gnu/automake/automake-1.16.2.tar.gz
Alien::Build::Plugin::Core::Download> candidate https://ftp.gnu.org/gnu/automake/automake-1.16.1.tar.gz
Alien::Build::Plugin::Core::Download> candidate https://ftp.gnu.org/gnu/automake/automake-1.16.tar.gz
Alien::Build::Plugin::Core::Download> candidate https://ftp.gnu.org/gnu/automake/automake-1.15.1.tar.gz
Alien::Build::Plugin::Core::Download> candidate https://ftp.gnu.org/gnu/automake/automake-1.15.tar.gz
Alien::Build::Plugin::Core::Download> candidate ...
Alien::Build::Plugin::Core::Download> setting version based on archive to 1.16.5
Alien::Build::Plugin::Core::Download> downloaded automake-1.16.5.tar.gz
"/home/grinnz/.plenv/versions/5.40.0/bin/perl5.40.0" -MAlien::Build::MM=cmd -e build
Alien::Build::CommandSequence> + ./configure --prefix=/home/grinnz/.plenv/versions/5.40.0/lib/perl5/site_perl/5.40.0/x86_64-linux/auto/share/dist/Alien-automake --with-pic --disable-shared
configure: WARNING: unrecognized options: --with-pic, --disable-shared
configure: loading site script /tmp/4ngb2LJsyU/config.site
checking whether make supports nested variables... yes
checking build system type... x86_64-pc-linux-gnu
checking host system type... x86_64-pc-linux-gnu
checking for a BSD-compatible install... /usr/bin/install -c
checking whether build environment is sane... yes
checking for a race-free mkdir -p... /usr/bin/mkdir -p
checking for gawk... gawk
checking whether make sets $(MAKE)... yes
checking whether ln -s works... yes
checking for perl... /home/grinnz/.plenv/versions/5.40.0/bin/perl5.40.0
checking for tex... no
checking for yacc... no
checking for byacc... no
checking for bison... bison -y
checking for lex... lex
checking whether autoconf is installed... yes
checking whether autoconf works... yes
checking whether autoconf is recent enough... yes
checking whether ln works... yes
checking for grep that handles long lines and -e... /usr/bin/grep
checking for egrep... /usr/bin/grep -E
checking for fgrep... /usr/bin/grep -F
configure: will now look for a sturdy POSIX shell, for our testsuite
checking for sh... /usr/bin/sh
checking for sh5... no
checking for dash... /usr/bin/dash
checking for ash... no
checking for bash... /usr/bin/bash
checking for zsh... no
checking for ksh... no
checking for pdksh... no
checking whether /usr/bin/sh supports $(cmd)... yes
checking whether /usr/bin/sh supports $((expr))... yes
checking whether /usr/bin/sh supports ${#var}... yes
checking whether /usr/bin/sh supports ${var#glob} and ${var%glob}... yes
checking whether /usr/bin/sh preserves exit traps with "set -e"... yes
checking whether /usr/bin/sh can define exit traps in a shell function... yes
checking whether /usr/bin/sh corrupts stderr with "set -x"... no
checking whether /usr/bin/sh can return early from "dot-sourced" files... yes
checking whether /usr/bin/sh supports alias named like shell builtins... yes
checking whether /usr/bin/sh supports "test -e"... yes
configure: shell /usr/bin/sh is good enough, stop looking
configure: will use /usr/bin/sh as the testsuite shell
configure: will now look for generic compilers
checking for cc... cc
checking whether the C compiler works... yes
checking for C compiler default output file name... a.out
checking for suffix of executables...
checking whether we are cross compiling... no
checking for suffix of object files... o
checking whether the compiler supports GNU C... yes
checking whether cc accepts -g... yes
checking for cc option to enable C11 features... none needed
checking whether cc understands -c and -o together... yes
checking for aCC... no
checking for CC... no
checking for FCC... no
checking for KCC... no
checking for RCC... no
checking for xlC_r... no
checking for xlC... no
checking for c++... c++
checking whether the C++ compiler works... yes
checking for C++ compiler default output file name... a.out
checking for suffix of executables...
checking whether we are cross compiling... no
checking for suffix of object files... o
checking whether the compiler supports GNU C++... yes
checking whether c++ accepts -g... yes
checking for c++ option to enable C++11 features... none needed
checking for xlf95... no
checking for f95... no
checking for fort... no
checking for ifort... no
checking for ifc... no
checking for efc... no
checking for pgfortran... no
checking for pgf95... no
checking for lf95... no
checking for ftn... no
checking for nagfor... no
checking for xlf90... no
checking for f90... no
checking for armflang... no
checking for flang... no
checking for pgf90... no
checking for pghpf... no
checking for epcf90... no
checking for g95... no
checking for gfortran... no
checking whether the Fortran compiler works... no
configure: WARNING: Fortran compiler cannot create executables
configure: tests requiring the Fortran compiler will be skipped
checking for xlf... no
checking for f77... no
checking for frt... no
checking for pgf77... no
checking for cf77... no
checking for fort77... no
checking for fl32... no
checking for af77... no
checking for g77... no
checking for armflang... no
checking for flang... no
checking for gfortran... no
checking whether the Fortran 77 compiler works... no
configure: WARNING: Fortran 77 compiler cannot create executables
configure: tests requiring the Fortran 77 compiler will be skipped
configure: will now look for GNU compilers
configure: cc is already a GNU C compiler
configure: c++ is already a GNU C++ compiler
checking for gfortran... no
checking for g77... no
checking for gfortran... no
checking for gcj... no
checking that generated files are newer than configure... done
configure: creating ./config.status
config.status: creating Makefile
config.status: creating pre-inst-env
configure: WARNING: unrecognized options: --with-pic, --disable-shared
Alien::Build::CommandSequence> + make
make[1]: Entering directory '/home/grinnz/.cpanm/work/1718070350.576097/Alien-automake-0.18/_alien/build_7Mbj/automake-1.16.5'
make[2]: Entering directory '/home/grinnz/.cpanm/work/1718070350.576097/Alien-automake-0.18/_alien/build_7Mbj/automake-1.16.5'
make[2]: Leaving directory '/home/grinnz/.cpanm/work/1718070350.576097/Alien-automake-0.18/_alien/build_7Mbj/automake-1.16.5'
GEN bin/automake
GEN bin/aclocal
GEN bin/aclocal-1.16
GEN bin/automake-1.16
GEN t/ax/shell-no-trail-bslash
GEN t/ax/cc-no-c-o
GEN runtest
GEN doc/aclocal.1
GEN doc/automake.1
GEN lib/Automake/Config.pm
GEN doc/aclocal-1.16.1
GEN doc/automake-1.16.1
GEN t/ax/test-defs.sh
make[1]: Leaving directory '/home/grinnz/.cpanm/work/1718070350.576097/Alien-automake-0.18/_alien/build_7Mbj/automake-1.16.5'
Alien::Build::CommandSequence> + make install
make[1]: Entering directory '/home/grinnz/.cpanm/work/1718070350.576097/Alien-automake-0.18/_alien/build_7Mbj/automake-1.16.5'
make[2]: Entering directory '/home/grinnz/.cpanm/work/1718070350.576097/Alien-automake-0.18/_alien/build_7Mbj/automake-1.16.5'
/usr/bin/mkdir -p '/home/grinnz/.cpanm/work/1718070350.576097/Alien-automake-0.18/_alien/destdir_38IV/home/grinnz/.plenv/versions/5.40.0/lib/perl5/site_perl/5.40.0/x86_64-linux/auto/share/dist/Alien-automake/bin'
/usr/bin/install -c bin/automake bin/aclocal '/home/grinnz/.cpanm/work/1718070350.576097/Alien-automake-0.18/_alien/destdir_38IV/home/grinnz/.plenv/versions/5.40.0/lib/perl5/site_perl/5.40.0/x86_64-linux/auto/share/dist/Alien-automake/bin'
make install-exec-hook
make[3]: Entering directory '/home/grinnz/.cpanm/work/1718070350.576097/Alien-automake-0.18/_alien/build_7Mbj/automake-1.16.5'
ln '/home/grinnz/.cpanm/work/1718070350.576097/Alien-automake-0.18/_alien/destdir_38IV/home/grinnz/.plenv/versions/5.40.0/lib/perl5/site_perl/5.40.0/x86_64-linux/auto/share/dist/Alien-automake/bin/automake' '/home/grinnz/.cpanm/work/1718070350.576097/Alien-automake-0.18/_alien/destdir_38IV/home/grinnz/.plenv/versions/5.40.0/lib/perl5/site_perl/5.40.0/x86_64-linux/auto/share/dist/Alien-automake/bin/automake-1.16'
ln '/home/grinnz/.cpanm/work/1718070350.576097/Alien-automake-0.18/_alien/destdir_38IV/home/grinnz/.plenv/versions/5.40.0/lib/perl5/site_perl/5.40.0/x86_64-linux/auto/share/dist/Alien-automake/bin/aclocal' '/home/grinnz/.cpanm/work/1718070350.576097/Alien-automake-0.18/_alien/destdir_38IV/home/grinnz/.plenv/versions/5.40.0/lib/perl5/site_perl/5.40.0/x86_64-linux/auto/share/dist/Alien-automake/bin/aclocal-1.16'
make[3]: Leaving directory '/home/grinnz/.cpanm/work/1718070350.576097/Alien-automake-0.18/_alien/build_7Mbj/automake-1.16.5'
/usr/bin/mkdir -p '/home/grinnz/.cpanm/work/1718070350.576097/Alien-automake-0.18/_alien/destdir_38IV/home/grinnz/.plenv/versions/5.40.0/lib/perl5/site_perl/5.40.0/x86_64-linux/auto/share/dist/Alien-automake/share/automake-1.16/am'
/usr/bin/install -c -m 644 lib/am/check.am lib/am/check2.am lib/am/clean-hdr.am lib/am/clean.am lib/am/compile.am lib/am/configure.am lib/am/data.am lib/am/dejagnu.am lib/am/depend.am lib/am/depend2.am lib/am/distdir.am lib/am/footer.am lib/am/header-vars.am lib/am/header.am lib/am/install.am lib/am/inst-vars.am lib/am/java.am lib/am/lang-compile.am lib/am/lex.am lib/am/library.am lib/am/libs.am lib/am/libtool.am lib/am/lisp.am lib/am/ltlib.am lib/am/ltlibrary.am lib/am/mans-vars.am lib/am/mans.am lib/am/program.am lib/am/progs.am lib/am/python.am lib/am/remake-hdr.am lib/am/scripts.am lib/am/subdirs.am lib/am/tags.am lib/am/texi-vers.am lib/am/texibuild.am lib/am/texinfos.am lib/am/vala.am lib/am/yacc.am '/home/grinnz/.cpanm/work/1718070350.576097/Alien-automake-0.18/_alien/destdir_38IV/home/grinnz/.plenv/versions/5.40.0/lib/perl5/site_perl/5.40.0/x86_64-linux/auto/share/dist/Alien-automake/share/automake-1.16/am'
/usr/bin/mkdir -p '/home/grinnz/.cpanm/work/1718070350.576097/Alien-automake-0.18/_alien/destdir_38IV/home/grinnz/.plenv/versions/5.40.0/lib/perl5/site_perl/5.40.0/x86_64-linux/auto/share/dist/Alien-automake/share/aclocal-1.16'
/usr/bin/install -c -m 644 m4/amversion.m4 m4/ar-lib.m4 m4/as.m4 m4/auxdir.m4 m4/cond.m4 m4/cond-if.m4 m4/depend.m4 m4/depout.m4 m4/dmalloc.m4 m4/extra-recurs.m4 m4/gcj.m4 m4/init.m4 m4/install-sh.m4 m4/lead-dot.m4 m4/lex.m4 m4/lispdir.m4 m4/maintainer.m4 m4/make.m4 m4/missing.m4 m4/mkdirp.m4 m4/obsolete.m4 m4/options.m4 m4/python.m4 m4/prog-cc-c-o.m4 m4/runlog.m4 m4/sanity.m4 m4/silent.m4 m4/strip.m4 m4/substnot.m4 m4/tar.m4 m4/upc.m4 m4/vala.m4 '/home/grinnz/.cpanm/work/1718070350.576097/Alien-automake-0.18/_alien/destdir_38IV/home/grinnz/.plenv/versions/5.40.0/lib/perl5/site_perl/5.40.0/x86_64-linux/auto/share/dist/Alien-automake/share/aclocal-1.16'
/usr/bin/mkdir -p '/home/grinnz/.cpanm/work/1718070350.576097/Alien-automake-0.18/_alien/destdir_38IV/home/grinnz/.plenv/versions/5.40.0/lib/perl5/site_perl/5.40.0/x86_64-linux/auto/share/dist/Alien-automake/share/aclocal-1.16/internal'
/usr/bin/install -c -m 644 m4/internal/ac-config-macro-dirs.m4 '/home/grinnz/.cpanm/work/1718070350.576097/Alien-automake-0.18/_alien/destdir_38IV/home/grinnz/.plenv/versions/5.40.0/lib/perl5/site_perl/5.40.0/x86_64-linux/auto/share/dist/Alien-automake/share/aclocal-1.16/internal'
/usr/bin/mkdir -p '/home/grinnz/.cpanm/work/1718070350.576097/Alien-automake-0.18/_alien/destdir_38IV/home/grinnz/.plenv/versions/5.40.0/lib/perl5/site_perl/5.40.0/x86_64-linux/auto/share/dist/Alien-automake/share/doc/automake'
/usr/bin/install -c -m 644 ./doc/amhello-1.0.tar.gz '/home/grinnz/.cpanm/work/1718070350.576097/Alien-automake-0.18/_alien/destdir_38IV/home/grinnz/.plenv/versions/5.40.0/lib/perl5/site_perl/5.40.0/x86_64-linux/auto/share/dist/Alien-automake/share/doc/automake'
/usr/bin/mkdir -p '/home/grinnz/.cpanm/work/1718070350.576097/Alien-automake-0.18/_alien/destdir_38IV/home/grinnz/.plenv/versions/5.40.0/lib/perl5/site_perl/5.40.0/x86_64-linux/auto/share/dist/Alien-automake/share/automake-1.16/Automake'
/usr/bin/install -c -m 644 lib/Automake/ChannelDefs.pm lib/Automake/Channels.pm lib/Automake/Condition.pm lib/Automake/Configure_ac.pm lib/Automake/DisjConditions.pm lib/Automake/FileUtils.pm lib/Automake/General.pm lib/Automake/Getopt.pm lib/Automake/Item.pm lib/Automake/ItemDef.pm lib/Automake/Language.pm lib/Automake/Location.pm lib/Automake/Options.pm lib/Automake/Rule.pm lib/Automake/RuleDef.pm lib/Automake/Variable.pm lib/Automake/VarDef.pm lib/Automake/Version.pm lib/Automake/XFile.pm lib/Automake/Wrap.pm '/home/grinnz/.cpanm/work/1718070350.576097/Alien-automake-0.18/_alien/destdir_38IV/home/grinnz/.plenv/versions/5.40.0/lib/perl5/site_perl/5.40.0/x86_64-linux/auto/share/dist/Alien-automake/share/automake-1.16/Automake'
/usr/bin/mkdir -p '/home/grinnz/.cpanm/work/1718070350.576097/Alien-automake-0.18/_alien/destdir_38IV/home/grinnz/.plenv/versions/5.40.0/lib/perl5/site_perl/5.40.0/x86_64-linux/auto/share/dist/Alien-automake/share/automake-1.16'
/usr/bin/install -c -m 644 lib/COPYING lib/INSTALL lib/texinfo.tex '/home/grinnz/.cpanm/work/1718070350.576097/Alien-automake-0.18/_alien/destdir_38IV/home/grinnz/.plenv/versions/5.40.0/lib/perl5/site_perl/5.40.0/x86_64-linux/auto/share/dist/Alien-automake/share/automake-1.16'
/usr/bin/mkdir -p '/home/grinnz/.cpanm/work/1718070350.576097/Alien-automake-0.18/_alien/destdir_38IV/home/grinnz/.plenv/versions/5.40.0/lib/perl5/site_perl/5.40.0/x86_64-linux/auto/share/dist/Alien-automake/share/automake-1.16'
/usr/bin/install -c -m 644 lib/config.guess lib/config.sub lib/install-sh lib/mdate-sh lib/missing lib/mkinstalldirs lib/ylwrap lib/depcomp lib/compile lib/py-compile lib/ar-lib lib/test-driver lib/tap-driver.sh '/home/grinnz/.cpanm/work/1718070350.576097/Alien-automake-0.18/_alien/destdir_38IV/home/grinnz/.plenv/versions/5.40.0/lib/perl5/site_perl/5.40.0/x86_64-linux/auto/share/dist/Alien-automake/share/automake-1.16'
/usr/bin/mkdir -p '/home/grinnz/.cpanm/work/1718070350.576097/Alien-automake-0.18/_alien/destdir_38IV/home/grinnz/.plenv/versions/5.40.0/lib/perl5/site_perl/5.40.0/x86_64-linux/auto/share/dist/Alien-automake/share/aclocal'
/usr/bin/install -c -m 644 m4/acdir/README '/home/grinnz/.cpanm/work/1718070350.576097/Alien-automake-0.18/_alien/destdir_38IV/home/grinnz/.plenv/versions/5.40.0/lib/perl5/site_perl/5.40.0/x86_64-linux/auto/share/dist/Alien-automake/share/aclocal'
/usr/bin/mkdir -p '/home/grinnz/.cpanm/work/1718070350.576097/Alien-automake-0.18/_alien/destdir_38IV/home/grinnz/.plenv/versions/5.40.0/lib/perl5/site_perl/5.40.0/x86_64-linux/auto/share/dist/Alien-automake/share/info'
/usr/bin/install -c -m 644 ./doc/automake.info ./doc/automake.info-1 ./doc/automake.info-2 ./doc/automake-history.info '/home/grinnz/.cpanm/work/1718070350.576097/Alien-automake-0.18/_alien/destdir_38IV/home/grinnz/.plenv/versions/5.40.0/lib/perl5/site_perl/5.40.0/x86_64-linux/auto/share/dist/Alien-automake/share/info'
install-info --info-dir='/home/grinnz/.cpanm/work/1718070350.576097/Alien-automake-0.18/_alien/destdir_38IV/home/grinnz/.plenv/versions/5.40.0/lib/perl5/site_perl/5.40.0/x86_64-linux/auto/share/dist/Alien-automake/share/info' '/home/grinnz/.cpanm/work/1718070350.576097/Alien-automake-0.18/_alien/destdir_38IV/home/grinnz/.plenv/versions/5.40.0/lib/perl5/site_perl/5.40.0/x86_64-linux/auto/share/dist/Alien-automake/share/info/automake.info'
install-info --info-dir='/home/grinnz/.cpanm/work/1718070350.576097/Alien-automake-0.18/_alien/destdir_38IV/home/grinnz/.plenv/versions/5.40.0/lib/perl5/site_perl/5.40.0/x86_64-linux/auto/share/dist/Alien-automake/share/info' '/home/grinnz/.cpanm/work/1718070350.576097/Alien-automake-0.18/_alien/destdir_38IV/home/grinnz/.plenv/versions/5.40.0/lib/perl5/site_perl/5.40.0/x86_64-linux/auto/share/dist/Alien-automake/share/info/automake-history.info'
/usr/bin/mkdir -p '/home/grinnz/.cpanm/work/1718070350.576097/Alien-automake-0.18/_alien/destdir_38IV/home/grinnz/.plenv/versions/5.40.0/lib/perl5/site_perl/5.40.0/x86_64-linux/auto/share/dist/Alien-automake/share/man/man1'
/usr/bin/install -c -m 644 doc/aclocal.1 doc/automake.1 doc/aclocal-1.16.1 doc/automake-1.16.1 '/home/grinnz/.cpanm/work/1718070350.576097/Alien-automake-0.18/_alien/destdir_38IV/home/grinnz/.plenv/versions/5.40.0/lib/perl5/site_perl/5.40.0/x86_64-linux/auto/share/dist/Alien-automake/share/man/man1'
/usr/bin/mkdir -p '/home/grinnz/.cpanm/work/1718070350.576097/Alien-automake-0.18/_alien/destdir_38IV/home/grinnz/.plenv/versions/5.40.0/lib/perl5/site_perl/5.40.0/x86_64-linux/auto/share/dist/Alien-automake/share/automake-1.16/Automake'
/usr/bin/install -c -m 644 lib/Automake/Config.pm '/home/grinnz/.cpanm/work/1718070350.576097/Alien-automake-0.18/_alien/destdir_38IV/home/grinnz/.plenv/versions/5.40.0/lib/perl5/site_perl/5.40.0/x86_64-linux/auto/share/dist/Alien-automake/share/automake-1.16/Automake'
make install-data-hook
make[3]: Entering directory '/home/grinnz/.cpanm/work/1718070350.576097/Alien-automake-0.18/_alien/build_7Mbj/automake-1.16.5'
chmod +x '/home/grinnz/.cpanm/work/1718070350.576097/Alien-automake-0.18/_alien/destdir_38IV/home/grinnz/.plenv/versions/5.40.0/lib/perl5/site_perl/5.40.0/x86_64-linux/auto/share/dist/Alien-automake/share/automake-1.16/config.guess'
chmod +x '/home/grinnz/.cpanm/work/1718070350.576097/Alien-automake-0.18/_alien/destdir_38IV/home/grinnz/.plenv/versions/5.40.0/lib/perl5/site_perl/5.40.0/x86_64-linux/auto/share/dist/Alien-automake/share/automake-1.16/config.sub'
chmod +x '/home/grinnz/.cpanm/work/1718070350.576097/Alien-automake-0.18/_alien/destdir_38IV/home/grinnz/.plenv/versions/5.40.0/lib/perl5/site_perl/5.40.0/x86_64-linux/auto/share/dist/Alien-automake/share/automake-1.16/install-sh'
chmod +x '/home/grinnz/.cpanm/work/1718070350.576097/Alien-automake-0.18/_alien/destdir_38IV/home/grinnz/.plenv/versions/5.40.0/lib/perl5/site_perl/5.40.0/x86_64-linux/auto/share/dist/Alien-automake/share/automake-1.16/mdate-sh'
chmod +x '/home/grinnz/.cpanm/work/1718070350.576097/Alien-automake-0.18/_alien/destdir_38IV/home/grinnz/.plenv/versions/5.40.0/lib/perl5/site_perl/5.40.0/x86_64-linux/auto/share/dist/Alien-automake/share/automake-1.16/missing'
chmod +x '/home/grinnz/.cpanm/work/1718070350.576097/Alien-automake-0.18/_alien/destdir_38IV/home/grinnz/.plenv/versions/5.40.0/lib/perl5/site_perl/5.40.0/x86_64-linux/auto/share/dist/Alien-automake/share/automake-1.16/mkinstalldirs'
chmod +x '/home/grinnz/.cpanm/work/1718070350.576097/Alien-automake-0.18/_alien/destdir_38IV/home/grinnz/.plenv/versions/5.40.0/lib/perl5/site_perl/5.40.0/x86_64-linux/auto/share/dist/Alien-automake/share/automake-1.16/ylwrap'
chmod +x '/home/grinnz/.cpanm/work/1718070350.576097/Alien-automake-0.18/_alien/destdir_38IV/home/grinnz/.plenv/versions/5.40.0/lib/perl5/site_perl/5.40.0/x86_64-linux/auto/share/dist/Alien-automake/share/automake-1.16/depcomp'
chmod +x '/home/grinnz/.cpanm/work/1718070350.576097/Alien-automake-0.18/_alien/destdir_38IV/home/grinnz/.plenv/versions/5.40.0/lib/perl5/site_perl/5.40.0/x86_64-linux/auto/share/dist/Alien-automake/share/automake-1.16/compile'
chmod +x '/home/grinnz/.cpanm/work/1718070350.576097/Alien-automake-0.18/_alien/destdir_38IV/home/grinnz/.plenv/versions/5.40.0/lib/perl5/site_perl/5.40.0/x86_64-linux/auto/share/dist/Alien-automake/share/automake-1.16/py-compile'
chmod +x '/home/grinnz/.cpanm/work/1718070350.576097/Alien-automake-0.18/_alien/destdir_38IV/home/grinnz/.plenv/versions/5.40.0/lib/perl5/site_perl/5.40.0/x86_64-linux/auto/share/dist/Alien-automake/share/automake-1.16/ar-lib'
chmod +x '/home/grinnz/.cpanm/work/1718070350.576097/Alien-automake-0.18/_alien/destdir_38IV/home/grinnz/.plenv/versions/5.40.0/lib/perl5/site_perl/5.40.0/x86_64-linux/auto/share/dist/Alien-automake/share/automake-1.16/test-driver'
chmod +x '/home/grinnz/.cpanm/work/1718070350.576097/Alien-automake-0.18/_alien/destdir_38IV/home/grinnz/.plenv/versions/5.40.0/lib/perl5/site_perl/5.40.0/x86_64-linux/auto/share/dist/Alien-automake/share/automake-1.16/tap-driver.sh'
make[3]: Leaving directory '/home/grinnz/.cpanm/work/1718070350.576097/Alien-automake-0.18/_alien/build_7Mbj/automake-1.16.5'
make[2]: Leaving directory '/home/grinnz/.cpanm/work/1718070350.576097/Alien-automake-0.18/_alien/build_7Mbj/automake-1.16.5'
make[1]: Leaving directory '/home/grinnz/.cpanm/work/1718070350.576097/Alien-automake-0.18/_alien/build_7Mbj/automake-1.16.5'
Alien::Build::Plugin::Core::Legacy> adding legacy hash to config
Alien::Build::Plugin::Core::Gather> mirror /home/grinnz/.cpanm/work/1718070350.576097/Alien-automake-0.18/_alien/destdir_38IV/home/grinnz/.plenv/versions/5.40.0/lib/perl5/site_perl/5.40.0/x86_64-linux/auto/share/dist/Alien-automake => /home/grinnz/.cpanm/work/1718070350.576097/Alien-automake-0.18/blib/lib/auto/share/dist/Alien-automake
Alien::Build::Util> mkdir -p /home/grinnz/.cpanm/work/1718070350.576097/Alien-automake-0.18/blib/lib/auto/share/dist/Alien-automake/bin
Alien::Build::Util> cp /home/grinnz/.cpanm/work/1718070350.576097/Alien-automake-0.18/_alien/destdir_38IV/home/grinnz/.plenv/versions/5.40.0/lib/perl5/site_perl/5.40.0/x86_64-linux/auto/share/dist/Alien-automake/bin/automake-1.16 /home/grinnz/.cpanm/work/1718070350.576097/Alien-automake-0.18/blib/lib/auto/share/dist/Alien-automake/bin/automake-1.16
Alien::Build::Util> cp /home/grinnz/.cpanm/work/1718070350.576097/Alien-automake-0.18/_alien/destdir_38IV/home/grinnz/.plenv/versions/5.40.0/lib/perl5/site_perl/5.40.0/x86_64-linux/auto/share/dist/Alien-automake/bin/aclocal-1.16 /home/grinnz/.cpanm/work/1718070350.576097/Alien-automake-0.18/blib/lib/auto/share/dist/Alien-automake/bin/aclocal-1.16
Alien::Build::Util> cp /home/grinnz/.cpanm/work/1718070350.576097/Alien-automake-0.18/_alien/destdir_38IV/home/grinnz/.plenv/versions/5.40.0/lib/perl5/site_perl/5.40.0/x86_64-linux/auto/share/dist/Alien-automake/bin/aclocal /home/grinnz/.cpanm/work/1718070350.576097/Alien-automake-0.18/blib/lib/auto/share/dist/Alien-automake/bin/aclocal
Alien::Build::Util> cp /home/grinnz/.cpanm/work/1718070350.576097/Alien-automake-0.18/_alien/destdir_38IV/home/grinnz/.plenv/versions/5.40.0/lib/perl5/site_perl/5.40.0/x86_64-linux/auto/share/dist/Alien-automake/bin/automake /home/grinnz/.cpanm/work/1718070350.576097/Alien-automake-0.18/blib/lib/auto/share/dist/Alien-automake/bin/automake
Alien::Build::Util> mkdir -p /home/grinnz/.cpanm/work/1718070350.576097/Alien-automake-0.18/blib/lib/auto/share/dist/Alien-automake/share/info
Alien::Build::Util> cp /home/grinnz/.cpanm/work/1718070350.576097/Alien-automake-0.18/_alien/destdir_38IV/home/grinnz/.plenv/versions/5.40.0/lib/perl5/site_perl/5.40.0/x86_64-linux/auto/share/dist/Alien-automake/share/info/dir /home/grinnz/.cpanm/work/1718070350.576097/Alien-automake-0.18/blib/lib/auto/share/dist/Alien-automake/share/info/dir
Alien::Build::Util> cp /home/grinnz/.cpanm/work/1718070350.576097/Alien-automake-0.18/_alien/destdir_38IV/home/grinnz/.plenv/versions/5.40.0/lib/perl5/site_perl/5.40.0/x86_64-linux/auto/share/dist/Alien-automake/share/info/automake.info /home/grinnz/.cpanm/work/1718070350.576097/Alien-automake-0.18/blib/lib/auto/share/dist/Alien-automake/share/info/automake.info
Alien::Build::Util> cp /home/grinnz/.cpanm/work/1718070350.576097/Alien-automake-0.18/_alien/destdir_38IV/home/grinnz/.plenv/versions/5.40.0/lib/perl5/site_perl/5.40.0/x86_64-linux/auto/share/dist/Alien-automake/share/info/automake-history.info /home/grinnz/.cpanm/work/1718070350.576097/Alien-automake-0.18/blib/lib/auto/share/dist/Alien-automake/share/info/automake-history.info
Alien::Build::Util> cp /home/grinnz/.cpanm/work/1718070350.576097/Alien-automake-0.18/_alien/destdir_38IV/home/grinnz/.plenv/versions/5.40.0/lib/perl5/site_perl/5.40.0/x86_64-linux/auto/share/dist/Alien-automake/share/info/automake.info-2 /home/grinnz/.cpanm/work/1718070350.576097/Alien-automake-0.18/blib/lib/auto/share/dist/Alien-automake/share/info/automake.info-2
Alien::Build::Util> cp /home/grinnz/.cpanm/work/1718070350.576097/Alien-automake-0.18/_alien/destdir_38IV/home/grinnz/.plenv/versions/5.40.0/lib/perl5/site_perl/5.40.0/x86_64-linux/auto/share/dist/Alien-automake/share/info/automake.info-1 /home/grinnz/.cpanm/work/1718070350.576097/Alien-automake-0.18/blib/lib/auto/share/dist/Alien-automake/share/info/automake.info-1
Alien::Build::Util> mkdir -p /home/grinnz/.cpanm/work/1718070350.576097/Alien-automake-0.18/blib/lib/auto/share/dist/Alien-automake/share/automake-1.16
Alien::Build::Util> cp /home/grinnz/.cpanm/work/1718070350.576097/Alien-automake-0.18/_alien/destdir_38IV/home/grinnz/.plenv/versions/5.40.0/lib/perl5/site_perl/5.40.0/x86_64-linux/auto/share/dist/Alien-automake/share/automake-1.16/depcomp /home/grinnz/.cpanm/work/1718070350.576097/Alien-automake-0.18/blib/lib/auto/share/dist/Alien-automake/share/automake-1.16/depcomp
Alien::Build::Util> cp /home/grinnz/.cpanm/work/1718070350.576097/Alien-automake-0.18/_alien/destdir_38IV/home/grinnz/.plenv/versions/5.40.0/lib/perl5/site_perl/5.40.0/x86_64-linux/auto/share/dist/Alien-automake/share/automake-1.16/mdate-sh /home/grinnz/.cpanm/work/1718070350.576097/Alien-automake-0.18/blib/lib/auto/share/dist/Alien-automake/share/automake-1.16/mdate-sh
Alien::Build::Util> cp /home/grinnz/.cpanm/work/1718070350.576097/Alien-automake-0.18/_alien/destdir_38IV/home/grinnz/.plenv/versions/5.40.0/lib/perl5/site_perl/5.40.0/x86_64-linux/auto/share/dist/Alien-automake/share/automake-1.16/compile /home/grinnz/.cpanm/work/1718070350.576097/Alien-automake-0.18/blib/lib/auto/share/dist/Alien-automake/share/automake-1.16/compile
Alien::Build::Util> cp /home/grinnz/.cpanm/work/1718070350.576097/Alien-automake-0.18/_alien/destdir_38IV/home/grinnz/.plenv/versions/5.40.0/lib/perl5/site_perl/5.40.0/x86_64-linux/auto/share/dist/Alien-automake/share/automake-1.16/missing /home/grinnz/.cpanm/work/1718070350.576097/Alien-automake-0.18/blib/lib/auto/share/dist/Alien-automake/share/automake-1.16/missing
Alien::Build::Util> cp /home/grinnz/.cpanm/work/1718070350.576097/Alien-automake-0.18/_alien/destdir_38IV/home/grinnz/.plenv/versions/5.40.0/lib/perl5/site_perl/5.40.0/x86_64-linux/auto/share/dist/Alien-automake/share/automake-1.16/COPYING /home/grinnz/.cpanm/work/1718070350.576097/Alien-automake-0.18/blib/lib/auto/share/dist/Alien-automake/share/automake-1.16/COPYING
Alien::Build::Util> cp /home/grinnz/.cpanm/work/1718070350.576097/Alien-automake-0.18/_alien/destdir_38IV/home/grinnz/.plenv/versions/5.40.0/lib/perl5/site_perl/5.40.0/x86_64-linux/auto/share/dist/Alien-automake/share/automake-1.16/test-driver /home/grinnz/.cpanm/work/1718070350.576097/Alien-automake-0.18/blib/lib/auto/share/dist/Alien-automake/share/automake-1.16/test-driver
Alien::Build::Util> cp /home/grinnz/.cpanm/work/1718070350.576097/Alien-automake-0.18/_alien/destdir_38IV/home/grinnz/.plenv/versions/5.40.0/lib/perl5/site_perl/5.40.0/x86_64-linux/auto/share/dist/Alien-automake/share/automake-1.16/py-compile /home/grinnz/.cpanm/work/1718070350.576097/Alien-automake-0.18/blib/lib/auto/share/dist/Alien-automake/share/automake-1.16/py-compile
Alien::Build::Util> cp /home/grinnz/.cpanm/work/1718070350.576097/Alien-automake-0.18/_alien/destdir_38IV/home/grinnz/.plenv/versions/5.40.0/lib/perl5/site_perl/5.40.0/x86_64-linux/auto/share/dist/Alien-automake/share/automake-1.16/INSTALL /home/grinnz/.cpanm/work/1718070350.576097/Alien-automake-0.18/blib/lib/auto/share/dist/Alien-automake/share/automake-1.16/INSTALL
Alien::Build::Util> cp /home/grinnz/.cpanm/work/1718070350.576097/Alien-automake-0.18/_alien/destdir_38IV/home/grinnz/.plenv/versions/5.40.0/lib/perl5/site_perl/5.40.0/x86_64-linux/auto/share/dist/Alien-automake/share/automake-1.16/texinfo.tex /home/grinnz/.cpanm/work/1718070350.576097/Alien-automake-0.18/blib/lib/auto/share/dist/Alien-automake/share/automake-1.16/texinfo.tex
Alien::Build::Util> cp /home/grinnz/.cpanm/work/1718070350.576097/Alien-automake-0.18/_alien/destdir_38IV/home/grinnz/.plenv/versions/5.40.0/lib/perl5/site_perl/5.40.0/x86_64-linux/auto/share/dist/Alien-automake/share/automake-1.16/config.sub /home/grinnz/.cpanm/work/1718070350.576097/Alien-automake-0.18/blib/lib/auto/share/dist/Alien-automake/share/automake-1.16/config.sub
Alien::Build::Util> cp /home/grinnz/.cpanm/work/1718070350.576097/Alien-automake-0.18/_alien/destdir_38IV/home/grinnz/.plenv/versions/5.40.0/lib/perl5/site_perl/5.40.0/x86_64-linux/auto/share/dist/Alien-automake/share/automake-1.16/tap-driver.sh /home/grinnz/.cpanm/work/1718070350.576097/Alien-automake-0.18/blib/lib/auto/share/dist/Alien-automake/share/automake-1.16/tap-driver.sh
Alien::Build::Util> cp /home/grinnz/.cpanm/work/1718070350.576097/Alien-automake-0.18/_alien/destdir_38IV/home/grinnz/.plenv/versions/5.40.0/lib/perl5/site_perl/5.40.0/x86_64-linux/auto/share/dist/Alien-automake/share/automake-1.16/config.guess /home/grinnz/.cpanm/work/1718070350.576097/Alien-automake-0.18/blib/lib/auto/share/dist/Alien-automake/share/automake-1.16/config.guess
Alien::Build::Util> cp /home/grinnz/.cpanm/work/1718070350.576097/Alien-automake-0.18/_alien/destdir_38IV/home/grinnz/.plenv/versions/5.40.0/lib/perl5/site_perl/5.40.0/x86_64-linux/auto/share/dist/Alien-automake/share/automake-1.16/ar-lib /home/grinnz/.cpanm/work/1718070350.576097/Alien-automake-0.18/blib/lib/auto/share/dist/Alien-automake/share/automake-1.16/ar-lib
Alien::Build::Util> cp /home/grinnz/.cpanm/work/1718070350.576097/Alien-automake-0.18/_alien/destdir_38IV/home/grinnz/.plenv/versions/5.40.0/lib/perl5/site_perl/5.40.0/x86_64-linux/auto/share/dist/Alien-automake/share/automake-1.16/install-sh /home/grinnz/.cpanm/work/1718070350.576097/Alien-automake-0.18/blib/lib/auto/share/dist/Alien-automake/share/automake-1.16/install-sh
Alien::Build::Util> cp /home/grinnz/.cpanm/work/1718070350.576097/Alien-automake-0.18/_alien/destdir_38IV/home/grinnz/.plenv/versions/5.40.0/lib/perl5/site_perl/5.40.0/x86_64-linux/auto/share/dist/Alien-automake/share/automake-1.16/ylwrap /home/grinnz/.cpanm/work/1718070350.576097/Alien-automake-0.18/blib/lib/auto/share/dist/Alien-automake/share/automake-1.16/ylwrap
Alien::Build::Util> cp /home/grinnz/.cpanm/work/1718070350.576097/Alien-automake-0.18/_alien/destdir_38IV/home/grinnz/.plenv/versions/5.40.0/lib/perl5/site_perl/5.40.0/x86_64-linux/auto/share/dist/Alien-automake/share/automake-1.16/mkinstalldirs /home/grinnz/.cpanm/work/1718070350.576097/Alien-automake-0.18/blib/lib/auto/share/dist/Alien-automake/share/automake-1.16/mkinstalldirs
Alien::Build::Util> mkdir -p /home/grinnz/.cpanm/work/1718070350.576097/Alien-automake-0.18/blib/lib/auto/share/dist/Alien-automake/share/automake-1.16/Automake
Alien::Build::Util> cp /home/grinnz/.cpanm/work/1718070350.576097/Alien-automake-0.18/_alien/destdir_38IV/home/grinnz/.plenv/versions/5.40.0/lib/perl5/site_perl/5.40.0/x86_64-linux/auto/share/dist/Alien-automake/share/automake-1.16/Automake/VarDef.pm /home/grinnz/.cpanm/work/1718070350.576097/Alien-automake-0.18/blib/lib/auto/share/dist/Alien-automake/share/automake-1.16/Automake/VarDef.pm
Alien::Build::Util> cp /home/grinnz/.cpanm/work/1718070350.576097/Alien-automake-0.18/_alien/destdir_38IV/home/grinnz/.plenv/versions/5.40.0/lib/perl5/site_perl/5.40.0/x86_64-linux/auto/share/dist/Alien-automake/share/automake-1.16/Automake/Version.pm /home/grinnz/.cpanm/work/1718070350.576097/Alien-automake-0.18/blib/lib/auto/share/dist/Alien-automake/share/automake-1.16/Automake/Version.pm
Alien::Build::Util> cp /home/grinnz/.cpanm/work/1718070350.576097/Alien-automake-0.18/_alien/destdir_38IV/home/grinnz/.plenv/versions/5.40.0/lib/perl5/site_perl/5.40.0/x86_64-linux/auto/share/dist/Alien-automake/share/automake-1.16/Automake/Channels.pm /home/grinnz/.cpanm/work/1718070350.576097/Alien-automake-0.18/blib/lib/auto/share/dist/Alien-automake/share/automake-1.16/Automake/Channels.pm
Alien::Build::Util> cp /home/grinnz/.cpanm/work/1718070350.576097/Alien-automake-0.18/_alien/destdir_38IV/home/grinnz/.plenv/versions/5.40.0/lib/perl5/site_perl/5.40.0/x86_64-linux/auto/share/dist/Alien-automake/share/automake-1.16/Automake/ChannelDefs.pm /home/grinnz/.cpanm/work/1718070350.576097/Alien-automake-0.18/blib/lib/auto/share/dist/Alien-automake/share/automake-1.16/Automake/ChannelDefs.pm
Alien::Build::Util> cp /home/grinnz/.cpanm/work/1718070350.576097/Alien-automake-0.18/_alien/destdir_38IV/home/grinnz/.plenv/versions/5.40.0/lib/perl5/site_perl/5.40.0/x86_64-linux/auto/share/dist/Alien-automake/share/automake-1.16/Automake/Location.pm /home/grinnz/.cpanm/work/1718070350.576097/Alien-automake-0.18/blib/lib/auto/share/dist/Alien-automake/share/automake-1.16/Automake/Location.pm
Alien::Build::Util> cp /home/grinnz/.cpanm/work/1718070350.576097/Alien-automake-0.18/_alien/destdir_38IV/home/grinnz/.plenv/versions/5.40.0/lib/perl5/site_perl/5.40.0/x86_64-linux/auto/share/dist/Alien-automake/share/automake-1.16/Automake/Options.pm /home/grinnz/.cpanm/work/1718070350.576097/Alien-automake-0.18/blib/lib/auto/share/dist/Alien-automake/share/automake-1.16/Automake/Options.pm
Alien::Build::Util> cp /home/grinnz/.cpanm/work/1718070350.576097/Alien-automake-0.18/_alien/destdir_38IV/home/grinnz/.plenv/versions/5.40.0/lib/perl5/site_perl/5.40.0/x86_64-linux/auto/share/dist/Alien-automake/share/automake-1.16/Automake/Item.pm /home/grinnz/.cpanm/work/1718070350.576097/Alien-automake-0.18/blib/lib/auto/share/dist/Alien-automake/share/automake-1.16/Automake/Item.pm
Alien::Build::Util> cp /home/grinnz/.cpanm/work/1718070350.576097/Alien-automake-0.18/_alien/destdir_38IV/home/grinnz/.plenv/versions/5.40.0/lib/perl5/site_perl/5.40.0/x86_64-linux/auto/share/dist/Alien-automake/share/automake-1.16/Automake/Config.pm /home/grinnz/.cpanm/work/1718070350.576097/Alien-automake-0.18/blib/lib/auto/share/dist/Alien-automake/share/automake-1.16/Automake/Config.pm
Alien::Build::Util> cp /home/grinnz/.cpanm/work/1718070350.576097/Alien-automake-0.18/_alien/destdir_38IV/home/grinnz/.plenv/versions/5.40.0/lib/perl5/site_perl/5.40.0/x86_64-linux/auto/share/dist/Alien-automake/share/automake-1.16/Automake/General.pm /home/grinnz/.cpanm/work/1718070350.576097/Alien-automake-0.18/blib/lib/auto/share/dist/Alien-automake/share/automake-1.16/Automake/General.pm
Alien::Build::Util> cp /home/grinnz/.cpanm/work/1718070350.576097/Alien-automake-0.18/_alien/destdir_38IV/home/grinnz/.plenv/versions/5.40.0/lib/perl5/site_perl/5.40.0/x86_64-linux/auto/share/dist/Alien-automake/share/automake-1.16/Automake/Wrap.pm /home/grinnz/.cpanm/work/1718070350.576097/Alien-automake-0.18/blib/lib/auto/share/dist/Alien-automake/share/automake-1.16/Automake/Wrap.pm
Alien::Build::Util> cp /home/grinnz/.cpanm/work/1718070350.576097/Alien-automake-0.18/_alien/destdir_38IV/home/grinnz/.plenv/versions/5.40.0/lib/perl5/site_perl/5.40.0/x86_64-linux/auto/share/dist/Alien-automake/share/automake-1.16/Automake/XFile.pm /home/grinnz/.cpanm/work/1718070350.576097/Alien-automake-0.18/blib/lib/auto/share/dist/Alien-automake/share/automake-1.16/Automake/XFile.pm
Alien::Build::Util> cp /home/grinnz/.cpanm/work/1718070350.576097/Alien-automake-0.18/_alien/destdir_38IV/home/grinnz/.plenv/versions/5.40.0/lib/perl5/site_perl/5.40.0/x86_64-linux/auto/share/dist/Alien-automake/share/automake-1.16/Automake/RuleDef.pm /home/grinnz/.cpanm/work/1718070350.576097/Alien-automake-0.18/blib/lib/auto/share/dist/Alien-automake/share/automake-1.16/Automake/RuleDef.pm
Alien::Build::Util> cp /home/grinnz/.cpanm/work/1718070350.576097/Alien-automake-0.18/_alien/destdir_38IV/home/grinnz/.plenv/versions/5.40.0/lib/perl5/site_perl/5.40.0/x86_64-linux/auto/share/dist/Alien-automake/share/automake-1.16/Automake/ItemDef.pm /home/grinnz/.cpanm/work/1718070350.576097/Alien-automake-0.18/blib/lib/auto/share/dist/Alien-automake/share/automake-1.16/Automake/ItemDef.pm
Alien::Build::Util> cp /home/grinnz/.cpanm/work/1718070350.576097/Alien-automake-0.18/_alien/destdir_38IV/home/grinnz/.plenv/versions/5.40.0/lib/perl5/site_perl/5.40.0/x86_64-linux/auto/share/dist/Alien-automake/share/automake-1.16/Automake/Getopt.pm /home/grinnz/.cpanm/work/1718070350.576097/Alien-automake-0.18/blib/lib/auto/share/dist/Alien-automake/share/automake-1.16/Automake/Getopt.pm
Alien::Build::Util> cp /home/grinnz/.cpanm/work/1718070350.576097/Alien-automake-0.18/_alien/destdir_38IV/home/grinnz/.plenv/versions/5.40.0/lib/perl5/site_perl/5.40.0/x86_64-linux/auto/share/dist/Alien-automake/share/automake-1.16/Automake/Rule.pm /home/grinnz/.cpanm/work/1718070350.576097/Alien-automake-0.18/blib/lib/auto/share/dist/Alien-automake/share/automake-1.16/Automake/Rule.pm
Alien::Build::Util> cp /home/grinnz/.cpanm/work/1718070350.576097/Alien-automake-0.18/_alien/destdir_38IV/home/grinnz/.plenv/versions/5.40.0/lib/perl5/site_perl/5.40.0/x86_64-linux/auto/share/dist/Alien-automake/share/automake-1.16/Automake/DisjConditions.pm /home/grinnz/.cpanm/work/1718070350.576097/Alien-automake-0.18/blib/lib/auto/share/dist/Alien-automake/share/automake-1.16/Automake/DisjConditions.pm
Alien::Build::Util> cp /home/grinnz/.cpanm/work/1718070350.576097/Alien-automake-0.18/_alien/destdir_38IV/home/grinnz/.plenv/versions/5.40.0/lib/perl5/site_perl/5.40.0/x86_64-linux/auto/share/dist/Alien-automake/share/automake-1.16/Automake/Language.pm /home/grinnz/.cpanm/work/1718070350.576097/Alien-automake-0.18/blib/lib/auto/share/dist/Alien-automake/share/automake-1.16/Automake/Language.pm
Alien::Build::Util> cp /home/grinnz/.cpanm/work/1718070350.576097/Alien-automake-0.18/_alien/destdir_38IV/home/grinnz/.plenv/versions/5.40.0/lib/perl5/site_perl/5.40.0/x86_64-linux/auto/share/dist/Alien-automake/share/automake-1.16/Automake/Configure_ac.pm /home/grinnz/.cpanm/work/1718070350.576097/Alien-automake-0.18/blib/lib/auto/share/dist/Alien-automake/share/automake-1.16/Automake/Configure_ac.pm
Alien::Build::Util> cp /home/grinnz/.cpanm/work/1718070350.576097/Alien-automake-0.18/_alien/destdir_38IV/home/grinnz/.plenv/versions/5.40.0/lib/perl5/site_perl/5.40.0/x86_64-linux/auto/share/dist/Alien-automake/share/automake-1.16/Automake/Condition.pm /home/grinnz/.cpanm/work/1718070350.576097/Alien-automake-0.18/blib/lib/auto/share/dist/Alien-automake/share/automake-1.16/Automake/Condition.pm
Alien::Build::Util> cp /home/grinnz/.cpanm/work/1718070350.576097/Alien-automake-0.18/_alien/destdir_38IV/home/grinnz/.plenv/versions/5.40.0/lib/perl5/site_perl/5.40.0/x86_64-linux/auto/share/dist/Alien-automake/share/automake-1.16/Automake/Variable.pm /home/grinnz/.cpanm/work/1718070350.576097/Alien-automake-0.18/blib/lib/auto/share/dist/Alien-automake/share/automake-1.16/Automake/Variable.pm
Alien::Build::Util> cp /home/grinnz/.cpanm/work/1718070350.576097/Alien-automake-0.18/_alien/destdir_38IV/home/grinnz/.plenv/versions/5.40.0/lib/perl5/site_perl/5.40.0/x86_64-linux/auto/share/dist/Alien-automake/share/automake-1.16/Automake/FileUtils.pm /home/grinnz/.cpanm/work/1718070350.576097/Alien-automake-0.18/blib/lib/auto/share/dist/Alien-automake/share/automake-1.16/Automake/FileUtils.pm
Alien::Build::Util> mkdir -p /home/grinnz/.cpanm/work/1718070350.576097/Alien-automake-0.18/blib/lib/auto/share/dist/Alien-automake/share/automake-1.16/am
Alien::Build::Util> cp /home/grinnz/.cpanm/work/1718070350.576097/Alien-automake-0.18/_alien/destdir_38IV/home/grinnz/.plenv/versions/5.40.0/lib/perl5/site_perl/5.40.0/x86_64-linux/auto/share/dist/Alien-automake/share/automake-1.16/am/data.am /home/grinnz/.cpanm/work/1718070350.576097/Alien-automake-0.18/blib/lib/auto/share/dist/Alien-automake/share/automake-1.16/am/data.am
Alien::Build::Util> cp /home/grinnz/.cpanm/work/1718070350.576097/Alien-automake-0.18/_alien/destdir_38IV/home/grinnz/.plenv/versions/5.40.0/lib/perl5/site_perl/5.40.0/x86_64-linux/auto/share/dist/Alien-automake/share/automake-1.16/am/vala.am /home/grinnz/.cpanm/work/1718070350.576097/Alien-automake-0.18/blib/lib/auto/share/dist/Alien-automake/share/automake-1.16/am/vala.am
Alien::Build::Util> cp /home/grinnz/.cpanm/work/1718070350.576097/Alien-automake-0.18/_alien/destdir_38IV/home/grinnz/.plenv/versions/5.40.0/lib/perl5/site_perl/5.40.0/x86_64-linux/auto/share/dist/Alien-automake/share/automake-1.16/am/scripts.am /home/grinnz/.cpanm/work/1718070350.576097/Alien-automake-0.18/blib/lib/auto/share/dist/Alien-automake/share/automake-1.16/am/scripts.am
Alien::Build::Util> cp /home/grinnz/.cpanm/work/1718070350.576097/Alien-automake-0.18/_alien/destdir_38IV/home/grinnz/.plenv/versions/5.40.0/lib/perl5/site_perl/5.40.0/x86_64-linux/auto/share/dist/Alien-automake/share/automake-1.16/am/libtool.am /home/grinnz/.cpanm/work/1718070350.576097/Alien-automake-0.18/blib/lib/auto/share/dist/Alien-automake/share/automake-1.16/am/libtool.am
Alien::Build::Util> cp /home/grinnz/.cpanm/work/1718070350.576097/Alien-automake-0.18/_alien/destdir_38IV/home/grinnz/.plenv/versions/5.40.0/lib/perl5/site_perl/5.40.0/x86_64-linux/auto/share/dist/Alien-automake/share/automake-1.16/am/footer.am /home/grinnz/.cpanm/work/1718070350.576097/Alien-automake-0.18/blib/lib/auto/share/dist/Alien-automake/share/automake-1.16/am/footer.am
Alien::Build::Util> cp /home/grinnz/.cpanm/work/1718070350.576097/Alien-automake-0.18/_alien/destdir_38IV/home/grinnz/.plenv/versions/5.40.0/lib/perl5/site_perl/5.40.0/x86_64-linux/auto/share/dist/Alien-automake/share/automake-1.16/am/texinfos.am /home/grinnz/.cpanm/work/1718070350.576097/Alien-automake-0.18/blib/lib/auto/share/dist/Alien-automake/share/automake-1.16/am/texinfos.am
Alien::Build::Util> cp /home/grinnz/.cpanm/work/1718070350.576097/Alien-automake-0.18/_alien/destdir_38IV/home/grinnz/.plenv/versions/5.40.0/lib/perl5/site_perl/5.40.0/x86_64-linux/auto/share/dist/Alien-automake/share/automake-1.16/am/header-vars.am /home/grinnz/.cpanm/work/1718070350.576097/Alien-automake-0.18/blib/lib/auto/share/dist/Alien-automake/share/automake-1.16/am/header-vars.am
Alien::Build::Util> cp /home/grinnz/.cpanm/work/1718070350.576097/Alien-automake-0.18/_alien/destdir_38IV/home/grinnz/.plenv/versions/5.40.0/lib/perl5/site_perl/5.40.0/x86_64-linux/auto/share/dist/Alien-automake/share/automake-1.16/am/mans.am /home/grinnz/.cpanm/work/1718070350.576097/Alien-automake-0.18/blib/lib/auto/share/dist/Alien-automake/share/automake-1.16/am/mans.am
Alien::Build::Util> cp /home/grinnz/.cpanm/work/1718070350.576097/Alien-automake-0.18/_alien/destdir_38IV/home/grinnz/.plenv/versions/5.40.0/lib/perl5/site_perl/5.40.0/x86_64-linux/auto/share/dist/Alien-automake/share/automake-1.16/am/ltlib.am /home/grinnz/.cpanm/work/1718070350.576097/Alien-automake-0.18/blib/lib/auto/share/dist/Alien-automake/share/automake-1.16/am/ltlib.am
Alien::Build::Util> cp /home/grinnz/.cpanm/work/1718070350.576097/Alien-automake-0.18/_alien/destdir_38IV/home/grinnz/.plenv/versions/5.40.0/lib/perl5/site_perl/5.40.0/x86_64-linux/auto/share/dist/Alien-automake/share/automake-1.16/am/dejagnu.am /home/grinnz/.cpanm/work/1718070350.576097/Alien-automake-0.18/blib/lib/auto/share/dist/Alien-automake/share/automake-1.16/am/dejagnu.am
Alien::Build::Util> cp /home/grinnz/.cpanm/work/1718070350.576097/Alien-automake-0.18/_alien/destdir_38IV/home/grinnz/.plenv/versions/5.40.0/lib/perl5/site_perl/5.40.0/x86_64-linux/auto/share/dist/Alien-automake/share/automake-1.16/am/lang-compile.am /home/grinnz/.cpanm/work/1718070350.576097/Alien-automake-0.18/blib/lib/auto/share/dist/Alien-automake/share/automake-1.16/am/lang-compile.am
Alien::Build::Util> cp /home/grinnz/.cpanm/work/1718070350.576097/Alien-automake-0.18/_alien/destdir_38IV/home/grinnz/.plenv/versions/5.40.0/lib/perl5/site_perl/5.40.0/x86_64-linux/auto/share/dist/Alien-automake/share/automake-1.16/am/texibuild.am /home/grinnz/.cpanm/work/1718070350.576097/Alien-automake-0.18/blib/lib/auto/share/dist/Alien-automake/share/automake-1.16/am/texibuild.am
Alien::Build::Util> cp /home/grinnz/.cpanm/work/1718070350.576097/Alien-automake-0.18/_alien/destdir_38IV/home/grinnz/.plenv/versions/5.40.0/lib/perl5/site_perl/5.40.0/x86_64-linux/auto/share/dist/Alien-automake/share/automake-1.16/am/libs.am /home/grinnz/.cpanm/work/1718070350.576097/Alien-automake-0.18/blib/lib/auto/share/dist/Alien-automake/share/automake-1.16/am/libs.am
Alien::Build::Util> cp /home/grinnz/.cpanm/work/1718070350.576097/Alien-automake-0.18/_alien/destdir_38IV/home/grinnz/.plenv/versions/5.40.0/lib/perl5/site_perl/5.40.0/x86_64-linux/auto/share/dist/Alien-automake/share/automake-1.16/am/ltlibrary.am /home/grinnz/.cpanm/work/1718070350.576097/Alien-automake-0.18/blib/lib/auto/share/dist/Alien-automake/share/automake-1.16/am/ltlibrary.am
Alien::Build::Util> cp /home/grinnz/.cpanm/work/1718070350.576097/Alien-automake-0.18/_alien/destdir_38IV/home/grinnz/.plenv/versions/5.40.0/lib/perl5/site_perl/5.40.0/x86_64-linux/auto/share/dist/Alien-automake/share/automake-1.16/am/remake-hdr.am /home/grinnz/.cpanm/work/1718070350.576097/Alien-automake-0.18/blib/lib/auto/share/dist/Alien-automake/share/automake-1.16/am/remake-hdr.am
Alien::Build::Util> cp /home/grinnz/.cpanm/work/1718070350.576097/Alien-automake-0.18/_alien/destdir_38IV/home/grinnz/.plenv/versions/5.40.0/lib/perl5/site_perl/5.40.0/x86_64-linux/auto/share/dist/Alien-automake/share/automake-1.16/am/install.am /home/grinnz/.cpanm/work/1718070350.576097/Alien-automake-0.18/blib/lib/auto/share/dist/Alien-automake/share/automake-1.16/am/install.am
Alien::Build::Util> cp /home/grinnz/.cpanm/work/1718070350.576097/Alien-automake-0.18/_alien/destdir_38IV/home/grinnz/.plenv/versions/5.40.0/lib/perl5/site_perl/5.40.0/x86_64-linux/auto/share/dist/Alien-automake/share/automake-1.16/am/python.am /home/grinnz/.cpanm/work/1718070350.576097/Alien-automake-0.18/blib/lib/auto/share/dist/Alien-automake/share/automake-1.16/am/python.am
Alien::Build::Util> cp /home/grinnz/.cpanm/work/1718070350.576097/Alien-automake-0.18/_alien/destdir_38IV/home/grinnz/.plenv/versions/5.40.0/lib/perl5/site_perl/5.40.0/x86_64-linux/auto/share/dist/Alien-automake/share/automake-1.16/am/yacc.am /home/grinnz/.cpanm/work/1718070350.576097/Alien-automake-0.18/blib/lib/auto/share/dist/Alien-automake/share/automake-1.16/am/yacc.am
Alien::Build::Util> cp /home/grinnz/.cpanm/work/1718070350.576097/Alien-automake-0.18/_alien/destdir_38IV/home/grinnz/.plenv/versions/5.40.0/lib/perl5/site_perl/5.40.0/x86_64-linux/auto/share/dist/Alien-automake/share/automake-1.16/am/configure.am /home/grinnz/.cpanm/work/1718070350.576097/Alien-automake-0.18/blib/lib/auto/share/dist/Alien-automake/share/automake-1.16/am/configure.am
Alien::Build::Util> cp /home/grinnz/.cpanm/work/1718070350.576097/Alien-automake-0.18/_alien/destdir_38IV/home/grinnz/.plenv/versions/5.40.0/lib/perl5/site_perl/5.40.0/x86_64-linux/auto/share/dist/Alien-automake/share/automake-1.16/am/check2.am /home/grinnz/.cpanm/work/1718070350.576097/Alien-automake-0.18/blib/lib/auto/share/dist/Alien-automake/share/automake-1.16/am/check2.am
Alien::Build::Util> cp /home/grinnz/.cpanm/work/1718070350.576097/Alien-automake-0.18/_alien/destdir_38IV/home/grinnz/.plenv/versions/5.40.0/lib/perl5/site_perl/5.40.0/x86_64-linux/auto/share/dist/Alien-automake/share/automake-1.16/am/compile.am /home/grinnz/.cpanm/work/1718070350.576097/Alien-automake-0.18/blib/lib/auto/share/dist/Alien-automake/share/automake-1.16/am/compile.am
Alien::Build::Util> cp /home/grinnz/.cpanm/work/1718070350.576097/Alien-automake-0.18/_alien/destdir_38IV/home/grinnz/.plenv/versions/5.40.0/lib/perl5/site_perl/5.40.0/x86_64-linux/auto/share/dist/Alien-automake/share/automake-1.16/am/depend.am /home/grinnz/.cpanm/work/1718070350.576097/Alien-automake-0.18/blib/lib/auto/share/dist/Alien-automake/share/automake-1.16/am/depend.am
Alien::Build::Util> cp /home/grinnz/.cpanm/work/1718070350.576097/Alien-automake-0.18/_alien/destdir_38IV/home/grinnz/.plenv/versions/5.40.0/lib/perl5/site_perl/5.40.0/x86_64-linux/auto/share/dist/Alien-automake/share/automake-1.16/am/progs.am /home/grinnz/.cpanm/work/1718070350.576097/Alien-automake-0.18/blib/lib/auto/share/dist/Alien-automake/share/automake-1.16/am/progs.am
Alien::Build::Util> cp /home/grinnz/.cpanm/work/1718070350.576097/Alien-automake-0.18/_alien/destdir_38IV/home/grinnz/.plenv/versions/5.40.0/lib/perl5/site_perl/5.40.0/x86_64-linux/auto/share/dist/Alien-automake/share/automake-1.16/am/lisp.am /home/grinnz/.cpanm/work/1718070350.576097/Alien-automake-0.18/blib/lib/auto/share/dist/Alien-automake/share/automake-1.16/am/lisp.am
Alien::Build::Util> cp /home/grinnz/.cpanm/work/1718070350.576097/Alien-automake-0.18/_alien/destdir_38IV/home/grinnz/.plenv/versions/5.40.0/lib/perl5/site_perl/5.40.0/x86_64-linux/auto/share/dist/Alien-automake/share/automake-1.16/am/texi-vers.am /home/grinnz/.cpanm/work/1718070350.576097/Alien-automake-0.18/blib/lib/auto/share/dist/Alien-automake/share/automake-1.16/am/texi-vers.am
Alien::Build::Util> cp /home/grinnz/.cpanm/work/1718070350.576097/Alien-automake-0.18/_alien/destdir_38IV/home/grinnz/.plenv/versions/5.40.0/lib/perl5/site_perl/5.40.0/x86_64-linux/auto/share/dist/Alien-automake/share/automake-1.16/am/java.am /home/grinnz/.cpanm/work/1718070350.576097/Alien-automake-0.18/blib/lib/auto/share/dist/Alien-automake/share/automake-1.16/am/java.am
Alien::Build::Util> cp /home/grinnz/.cpanm/work/1718070350.576097/Alien-automake-0.18/_alien/destdir_38IV/home/grinnz/.plenv/versions/5.40.0/lib/perl5/site_perl/5.40.0/x86_64-linux/auto/share/dist/Alien-automake/share/automake-1.16/am/check.am /home/grinnz/.cpanm/work/1718070350.576097/Alien-automake-0.18/blib/lib/auto/share/dist/Alien-automake/share/automake-1.16/am/check.am
Alien::Build::Util> cp /home/grinnz/.cpanm/work/1718070350.576097/Alien-automake-0.18/_alien/destdir_38IV/home/grinnz/.plenv/versions/5.40.0/lib/perl5/site_perl/5.40.0/x86_64-linux/auto/share/dist/Alien-automake/share/automake-1.16/am/depend2.am /home/grinnz/.cpanm/work/1718070350.576097/Alien-automake-0.18/blib/lib/auto/share/dist/Alien-automake/share/automake-1.16/am/depend2.am
Alien::Build::Util> cp /home/grinnz/.cpanm/work/1718070350.576097/Alien-automake-0.18/_alien/destdir_38IV/home/grinnz/.plenv/versions/5.40.0/lib/perl5/site_perl/5.40.0/x86_64-linux/auto/share/dist/Alien-automake/share/automake-1.16/am/library.am /home/grinnz/.cpanm/work/1718070350.576097/Alien-automake-0.18/blib/lib/auto/share/dist/Alien-automake/share/automake-1.16/am/library.am
Alien::Build::Util> cp /home/grinnz/.cpanm/work/1718070350.576097/Alien-automake-0.18/_alien/destdir_38IV/home/grinnz/.plenv/versions/5.40.0/lib/perl5/site_perl/5.40.0/x86_64-linux/auto/share/dist/Alien-automake/share/automake-1.16/am/program.am /home/grinnz/.cpanm/work/1718070350.576097/Alien-automake-0.18/blib/lib/auto/share/dist/Alien-automake/share/automake-1.16/am/program.am
Alien::Build::Util> cp /home/grinnz/.cpanm/work/1718070350.576097/Alien-automake-0.18/_alien/destdir_38IV/home/grinnz/.plenv/versions/5.40.0/lib/perl5/site_perl/5.40.0/x86_64-linux/auto/share/dist/Alien-automake/share/automake-1.16/am/inst-vars.am /home/grinnz/.cpanm/work/1718070350.576097/Alien-automake-0.18/blib/lib/auto/share/dist/Alien-automake/share/automake-1.16/am/inst-vars.am
Alien::Build::Util> cp /home/grinnz/.cpanm/work/1718070350.576097/Alien-automake-0.18/_alien/destdir_38IV/home/grinnz/.plenv/versions/5.40.0/lib/perl5/site_perl/5.40.0/x86_64-linux/auto/share/dist/Alien-automake/share/automake-1.16/am/mans-vars.am /home/grinnz/.cpanm/work/1718070350.576097/Alien-automake-0.18/blib/lib/auto/share/dist/Alien-automake/share/automake-1.16/am/mans-vars.am
Alien::Build::Util> cp /home/grinnz/.cpanm/work/1718070350.576097/Alien-automake-0.18/_alien/destdir_38IV/home/grinnz/.plenv/versions/5.40.0/lib/perl5/site_perl/5.40.0/x86_64-linux/auto/share/dist/Alien-automake/share/automake-1.16/am/distdir.am /home/grinnz/.cpanm/work/1718070350.576097/Alien-automake-0.18/blib/lib/auto/share/dist/Alien-automake/share/automake-1.16/am/distdir.am
Alien::Build::Util> cp /home/grinnz/.cpanm/work/1718070350.576097/Alien-automake-0.18/_alien/destdir_38IV/home/grinnz/.plenv/versions/5.40.0/lib/perl5/site_perl/5.40.0/x86_64-linux/auto/share/dist/Alien-automake/share/automake-1.16/am/header.am /home/grinnz/.cpanm/work/1718070350.576097/Alien-automake-0.18/blib/lib/auto/share/dist/Alien-automake/share/automake-1.16/am/header.am
Alien::Build::Util> cp /home/grinnz/.cpanm/work/1718070350.576097/Alien-automake-0.18/_alien/destdir_38IV/home/grinnz/.plenv/versions/5.40.0/lib/perl5/site_perl/5.40.0/x86_64-linux/auto/share/dist/Alien-automake/share/automake-1.16/am/subdirs.am /home/grinnz/.cpanm/work/1718070350.576097/Alien-automake-0.18/blib/lib/auto/share/dist/Alien-automake/share/automake-1.16/am/subdirs.am
Alien::Build::Util> cp /home/grinnz/.cpanm/work/1718070350.576097/Alien-automake-0.18/_alien/destdir_38IV/home/grinnz/.plenv/versions/5.40.0/lib/perl5/site_perl/5.40.0/x86_64-linux/auto/share/dist/Alien-automake/share/automake-1.16/am/clean-hdr.am /home/grinnz/.cpanm/work/1718070350.576097/Alien-automake-0.18/blib/lib/auto/share/dist/Alien-automake/share/automake-1.16/am/clean-hdr.am
Alien::Build::Util> cp /home/grinnz/.cpanm/work/1718070350.576097/Alien-automake-0.18/_alien/destdir_38IV/home/grinnz/.plenv/versions/5.40.0/lib/perl5/site_perl/5.40.0/x86_64-linux/auto/share/dist/Alien-automake/share/automake-1.16/am/lex.am /home/grinnz/.cpanm/work/1718070350.576097/Alien-automake-0.18/blib/lib/auto/share/dist/Alien-automake/share/automake-1.16/am/lex.am
Alien::Build::Util> cp /home/grinnz/.cpanm/work/1718070350.576097/Alien-automake-0.18/_alien/destdir_38IV/home/grinnz/.plenv/versions/5.40.0/lib/perl5/site_perl/5.40.0/x86_64-linux/auto/share/dist/Alien-automake/share/automake-1.16/am/clean.am /home/grinnz/.cpanm/work/1718070350.576097/Alien-automake-0.18/blib/lib/auto/share/dist/Alien-automake/share/automake-1.16/am/clean.am
Alien::Build::Util> cp /home/grinnz/.cpanm/work/1718070350.576097/Alien-automake-0.18/_alien/destdir_38IV/home/grinnz/.plenv/versions/5.40.0/lib/perl5/site_perl/5.40.0/x86_64-linux/auto/share/dist/Alien-automake/share/automake-1.16/am/tags.am /home/grinnz/.cpanm/work/1718070350.576097/Alien-automake-0.18/blib/lib/auto/share/dist/Alien-automake/share/automake-1.16/am/tags.am
Alien::Build::Util> mkdir -p /home/grinnz/.cpanm/work/1718070350.576097/Alien-automake-0.18/blib/lib/auto/share/dist/Alien-automake/share/aclocal-1.16
Alien::Build::Util> cp /home/grinnz/.cpanm/work/1718070350.576097/Alien-automake-0.18/_alien/destdir_38IV/home/grinnz/.plenv/versions/5.40.0/lib/perl5/site_perl/5.40.0/x86_64-linux/auto/share/dist/Alien-automake/share/aclocal-1.16/auxdir.m4 /home/grinnz/.cpanm/work/1718070350.576097/Alien-automake-0.18/blib/lib/auto/share/dist/Alien-automake/share/aclocal-1.16/auxdir.m4
Alien::Build::Util> cp /home/grinnz/.cpanm/work/1718070350.576097/Alien-automake-0.18/_alien/destdir_38IV/home/grinnz/.plenv/versions/5.40.0/lib/perl5/site_perl/5.40.0/x86_64-linux/auto/share/dist/Alien-automake/share/aclocal-1.16/dmalloc.m4 /home/grinnz/.cpanm/work/1718070350.576097/Alien-automake-0.18/blib/lib/auto/share/dist/Alien-automake/share/aclocal-1.16/dmalloc.m4
Alien::Build::Util> cp /home/grinnz/.cpanm/work/1718070350.576097/Alien-automake-0.18/_alien/destdir_38IV/home/grinnz/.plenv/versions/5.40.0/lib/perl5/site_perl/5.40.0/x86_64-linux/auto/share/dist/Alien-automake/share/aclocal-1.16/cond-if.m4 /home/grinnz/.cpanm/work/1718070350.576097/Alien-automake-0.18/blib/lib/auto/share/dist/Alien-automake/share/aclocal-1.16/cond-if.m4
Alien::Build::Util> cp /home/grinnz/.cpanm/work/1718070350.576097/Alien-automake-0.18/_alien/destdir_38IV/home/grinnz/.plenv/versions/5.40.0/lib/perl5/site_perl/5.40.0/x86_64-linux/auto/share/dist/Alien-automake/share/aclocal-1.16/depend.m4 /home/grinnz/.cpanm/work/1718070350.576097/Alien-automake-0.18/blib/lib/auto/share/dist/Alien-automake/share/aclocal-1.16/depend.m4
Alien::Build::Util> cp /home/grinnz/.cpanm/work/1718070350.576097/Alien-automake-0.18/_alien/destdir_38IV/home/grinnz/.plenv/versions/5.40.0/lib/perl5/site_perl/5.40.0/x86_64-linux/auto/share/dist/Alien-automake/share/aclocal-1.16/missing.m4 /home/grinnz/.cpanm/work/1718070350.576097/Alien-automake-0.18/blib/lib/auto/share/dist/Alien-automake/share/aclocal-1.16/missing.m4
Alien::Build::Util> cp /home/grinnz/.cpanm/work/1718070350.576097/Alien-automake-0.18/_alien/destdir_38IV/home/grinnz/.plenv/versions/5.40.0/lib/perl5/site_perl/5.40.0/x86_64-linux/auto/share/dist/Alien-automake/share/aclocal-1.16/strip.m4 /home/grinnz/.cpanm/work/1718070350.576097/Alien-automake-0.18/blib/lib/auto/share/dist/Alien-automake/share/aclocal-1.16/strip.m4
Alien::Build::Util> cp /home/grinnz/.cpanm/work/1718070350.576097/Alien-automake-0.18/_alien/destdir_38IV/home/grinnz/.plenv/versions/5.40.0/lib/perl5/site_perl/5.40.0/x86_64-linux/auto/share/dist/Alien-automake/share/aclocal-1.16/as.m4 /home/grinnz/.cpanm/work/1718070350.576097/Alien-automake-0.18/blib/lib/auto/share/dist/Alien-automake/share/aclocal-1.16/as.m4
Alien::Build::Util> cp /home/grinnz/.cpanm/work/1718070350.576097/Alien-automake-0.18/_alien/destdir_38IV/home/grinnz/.plenv/versions/5.40.0/lib/perl5/site_perl/5.40.0/x86_64-linux/auto/share/dist/Alien-automake/share/aclocal-1.16/make.m4 /home/grinnz/.cpanm/work/1718070350.576097/Alien-automake-0.18/blib/lib/auto/share/dist/Alien-automake/share/aclocal-1.16/make.m4
Alien::Build::Util> cp /home/grinnz/.cpanm/work/1718070350.576097/Alien-automake-0.18/_alien/destdir_38IV/home/grinnz/.plenv/versions/5.40.0/lib/perl5/site_perl/5.40.0/x86_64-linux/auto/share/dist/Alien-automake/share/aclocal-1.16/python.m4 /home/grinnz/.cpanm/work/1718070350.576097/Alien-automake-0.18/blib/lib/auto/share/dist/Alien-automake/share/aclocal-1.16/python.m4
Alien::Build::Util> cp /home/grinnz/.cpanm/work/1718070350.576097/Alien-automake-0.18/_alien/destdir_38IV/home/grinnz/.plenv/versions/5.40.0/lib/perl5/site_perl/5.40.0/x86_64-linux/auto/share/dist/Alien-automake/share/aclocal-1.16/substnot.m4 /home/grinnz/.cpanm/work/1718070350.576097/Alien-automake-0.18/blib/lib/auto/share/dist/Alien-automake/share/aclocal-1.16/substnot.m4
Alien::Build::Util> cp /home/grinnz/.cpanm/work/1718070350.576097/Alien-automake-0.18/_alien/destdir_38IV/home/grinnz/.plenv/versions/5.40.0/lib/perl5/site_perl/5.40.0/x86_64-linux/auto/share/dist/Alien-automake/share/aclocal-1.16/lead-dot.m4 /home/grinnz/.cpanm/work/1718070350.576097/Alien-automake-0.18/blib/lib/auto/share/dist/Alien-automake/share/aclocal-1.16/lead-dot.m4
Alien::Build::Util> cp /home/grinnz/.cpanm/work/1718070350.576097/Alien-automake-0.18/_alien/destdir_38IV/home/grinnz/.plenv/versions/5.40.0/lib/perl5/site_perl/5.40.0/x86_64-linux/auto/share/dist/Alien-automake/share/aclocal-1.16/upc.m4 /home/grinnz/.cpanm/work/1718070350.576097/Alien-automake-0.18/blib/lib/auto/share/dist/Alien-automake/share/aclocal-1.16/upc.m4
Alien::Build::Util> cp /home/grinnz/.cpanm/work/1718070350.576097/Alien-automake-0.18/_alien/destdir_38IV/home/grinnz/.plenv/versions/5.40.0/lib/perl5/site_perl/5.40.0/x86_64-linux/auto/share/dist/Alien-automake/share/aclocal-1.16/prog-cc-c-o.m4 /home/grinnz/.cpanm/work/1718070350.576097/Alien-automake-0.18/blib/lib/auto/share/dist/Alien-automake/share/aclocal-1.16/prog-cc-c-o.m4
Alien::Build::Util> cp /home/grinnz/.cpanm/work/1718070350.576097/Alien-automake-0.18/_alien/destdir_38IV/home/grinnz/.plenv/versions/5.40.0/lib/perl5/site_perl/5.40.0/x86_64-linux/auto/share/dist/Alien-automake/share/aclocal-1.16/maintainer.m4 /home/grinnz/.cpanm/work/1718070350.576097/Alien-automake-0.18/blib/lib/auto/share/dist/Alien-automake/share/aclocal-1.16/maintainer.m4
Alien::Build::Util> cp /home/grinnz/.cpanm/work/1718070350.576097/Alien-automake-0.18/_alien/destdir_38IV/home/grinnz/.plenv/versions/5.40.0/lib/perl5/site_perl/5.40.0/x86_64-linux/auto/share/dist/Alien-automake/share/aclocal-1.16/install-sh.m4 /home/grinnz/.cpanm/work/1718070350.576097/Alien-automake-0.18/blib/lib/auto/share/dist/Alien-automake/share/aclocal-1.16/install-sh.m4
Alien::Build::Util> cp /home/grinnz/.cpanm/work/1718070350.576097/Alien-automake-0.18/_alien/destdir_38IV/home/grinnz/.plenv/versions/5.40.0/lib/perl5/site_perl/5.40.0/x86_64-linux/auto/share/dist/Alien-automake/share/aclocal-1.16/tar.m4 /home/grinnz/.cpanm/work/1718070350.576097/Alien-automake-0.18/blib/lib/auto/share/dist/Alien-automake/share/aclocal-1.16/tar.m4
Alien::Build::Util> cp /home/grinnz/.cpanm/work/1718070350.576097/Alien-automake-0.18/_alien/destdir_38IV/home/grinnz/.plenv/versions/5.40.0/lib/perl5/site_perl/5.40.0/x86_64-linux/auto/share/dist/Alien-automake/share/aclocal-1.16/obsolete.m4 /home/grinnz/.cpanm/work/1718070350.576097/Alien-automake-0.18/blib/lib/auto/share/dist/Alien-automake/share/aclocal-1.16/obsolete.m4
Alien::Build::Util> cp /home/grinnz/.cpanm/work/1718070350.576097/Alien-automake-0.18/_alien/destdir_38IV/home/grinnz/.plenv/versions/5.40.0/lib/perl5/site_perl/5.40.0/x86_64-linux/auto/share/dist/Alien-automake/share/aclocal-1.16/cond.m4 /home/grinnz/.cpanm/work/1718070350.576097/Alien-automake-0.18/blib/lib/auto/share/dist/Alien-automake/share/aclocal-1.16/cond.m4
Alien::Build::Util> cp /home/grinnz/.cpanm/work/1718070350.576097/Alien-automake-0.18/_alien/destdir_38IV/home/grinnz/.plenv/versions/5.40.0/lib/perl5/site_perl/5.40.0/x86_64-linux/auto/share/dist/Alien-automake/share/aclocal-1.16/amversion.m4 /home/grinnz/.cpanm/work/1718070350.576097/Alien-automake-0.18/blib/lib/auto/share/dist/Alien-automake/share/aclocal-1.16/amversion.m4
Alien::Build::Util> cp /home/grinnz/.cpanm/work/1718070350.576097/Alien-automake-0.18/_alien/destdir_38IV/home/grinnz/.plenv/versions/5.40.0/lib/perl5/site_perl/5.40.0/x86_64-linux/auto/share/dist/Alien-automake/share/aclocal-1.16/options.m4 /home/grinnz/.cpanm/work/1718070350.576097/Alien-automake-0.18/blib/lib/auto/share/dist/Alien-automake/share/aclocal-1.16/options.m4
Alien::Build::Util> cp /home/grinnz/.cpanm/work/1718070350.576097/Alien-automake-0.18/_alien/destdir_38IV/home/grinnz/.plenv/versions/5.40.0/lib/perl5/site_perl/5.40.0/x86_64-linux/auto/share/dist/Alien-automake/share/aclocal-1.16/depout.m4 /home/grinnz/.cpanm/work/1718070350.576097/Alien-automake-0.18/blib/lib/auto/share/dist/Alien-automake/share/aclocal-1.16/depout.m4
Alien::Build::Util> cp /home/grinnz/.cpanm/work/1718070350.576097/Alien-automake-0.18/_alien/destdir_38IV/home/grinnz/.plenv/versions/5.40.0/lib/perl5/site_perl/5.40.0/x86_64-linux/auto/share/dist/Alien-automake/share/aclocal-1.16/gcj.m4 /home/grinnz/.cpanm/work/1718070350.576097/Alien-automake-0.18/blib/lib/auto/share/dist/Alien-automake/share/aclocal-1.16/gcj.m4
Alien::Build::Util> cp /home/grinnz/.cpanm/work/1718070350.576097/Alien-automake-0.18/_alien/destdir_38IV/home/grinnz/.plenv/versions/5.40.0/lib/perl5/site_perl/5.40.0/x86_64-linux/auto/share/dist/Alien-automake/share/aclocal-1.16/mkdirp.m4 /home/grinnz/.cpanm/work/1718070350.576097/Alien-automake-0.18/blib/lib/auto/share/dist/Alien-automake/share/aclocal-1.16/mkdirp.m4
Alien::Build::Util> cp /home/grinnz/.cpanm/work/1718070350.576097/Alien-automake-0.18/_alien/destdir_38IV/home/grinnz/.plenv/versions/5.40.0/lib/perl5/site_perl/5.40.0/x86_64-linux/auto/share/dist/Alien-automake/share/aclocal-1.16/init.m4 /home/grinnz/.cpanm/work/1718070350.576097/Alien-automake-0.18/blib/lib/auto/share/dist/Alien-automake/share/aclocal-1.16/init.m4
Alien::Build::Util> cp /home/grinnz/.cpanm/work/1718070350.576097/Alien-automake-0.18/_alien/destdir_38IV/home/grinnz/.plenv/versions/5.40.0/lib/perl5/site_perl/5.40.0/x86_64-linux/auto/share/dist/Alien-automake/share/aclocal-1.16/vala.m4 /home/grinnz/.cpanm/work/1718070350.576097/Alien-automake-0.18/blib/lib/auto/share/dist/Alien-automake/share/aclocal-1.16/vala.m4
Alien::Build::Util> cp /home/grinnz/.cpanm/work/1718070350.576097/Alien-automake-0.18/_alien/destdir_38IV/home/grinnz/.plenv/versions/5.40.0/lib/perl5/site_perl/5.40.0/x86_64-linux/auto/share/dist/Alien-automake/share/aclocal-1.16/ar-lib.m4 /home/grinnz/.cpanm/work/1718070350.576097/Alien-automake-0.18/blib/lib/auto/share/dist/Alien-automake/share/aclocal-1.16/ar-lib.m4
Alien::Build::Util> cp /home/grinnz/.cpanm/work/1718070350.576097/Alien-automake-0.18/_alien/destdir_38IV/home/grinnz/.plenv/versions/5.40.0/lib/perl5/site_perl/5.40.0/x86_64-linux/auto/share/dist/Alien-automake/share/aclocal-1.16/runlog.m4 /home/grinnz/.cpanm/work/1718070350.576097/Alien-automake-0.18/blib/lib/auto/share/dist/Alien-automake/share/aclocal-1.16/runlog.m4
Alien::Build::Util> cp /home/grinnz/.cpanm/work/1718070350.576097/Alien-automake-0.18/_alien/destdir_38IV/home/grinnz/.plenv/versions/5.40.0/lib/perl5/site_perl/5.40.0/x86_64-linux/auto/share/dist/Alien-automake/share/aclocal-1.16/silent.m4 /home/grinnz/.cpanm/work/1718070350.576097/Alien-automake-0.18/blib/lib/auto/share/dist/Alien-automake/share/aclocal-1.16/silent.m4
Alien::Build::Util> cp /home/grinnz/.cpanm/work/1718070350.576097/Alien-automake-0.18/_alien/destdir_38IV/home/grinnz/.plenv/versions/5.40.0/lib/perl5/site_perl/5.40.0/x86_64-linux/auto/share/dist/Alien-automake/share/aclocal-1.16/lispdir.m4 /home/grinnz/.cpanm/work/1718070350.576097/Alien-automake-0.18/blib/lib/auto/share/dist/Alien-automake/share/aclocal-1.16/lispdir.m4
Alien::Build::Util> cp /home/grinnz/.cpanm/work/1718070350.576097/Alien-automake-0.18/_alien/destdir_38IV/home/grinnz/.plenv/versions/5.40.0/lib/perl5/site_perl/5.40.0/x86_64-linux/auto/share/dist/Alien-automake/share/aclocal-1.16/sanity.m4 /home/grinnz/.cpanm/work/1718070350.576097/Alien-automake-0.18/blib/lib/auto/share/dist/Alien-automake/share/aclocal-1.16/sanity.m4
Alien::Build::Util> cp /home/grinnz/.cpanm/work/1718070350.576097/Alien-automake-0.18/_alien/destdir_38IV/home/grinnz/.plenv/versions/5.40.0/lib/perl5/site_perl/5.40.0/x86_64-linux/auto/share/dist/Alien-automake/share/aclocal-1.16/extra-recurs.m4 /home/grinnz/.cpanm/work/1718070350.576097/Alien-automake-0.18/blib/lib/auto/share/dist/Alien-automake/share/aclocal-1.16/extra-recurs.m4
Alien::Build::Util> cp /home/grinnz/.cpanm/work/1718070350.576097/Alien-automake-0.18/_alien/destdir_38IV/home/grinnz/.plenv/versions/5.40.0/lib/perl5/site_perl/5.40.0/x86_64-linux/auto/share/dist/Alien-automake/share/aclocal-1.16/lex.m4 /home/grinnz/.cpanm/work/1718070350.576097/Alien-automake-0.18/blib/lib/auto/share/dist/Alien-automake/share/aclocal-1.16/lex.m4
Alien::Build::Util> mkdir -p /home/grinnz/.cpanm/work/1718070350.576097/Alien-automake-0.18/blib/lib/auto/share/dist/Alien-automake/share/aclocal-1.16/internal
Alien::Build::Util> cp /home/grinnz/.cpanm/work/1718070350.576097/Alien-automake-0.18/_alien/destdir_38IV/home/grinnz/.plenv/versions/5.40.0/lib/perl5/site_perl/5.40.0/x86_64-linux/auto/share/dist/Alien-automake/share/aclocal-1.16/internal/ac-config-macro-dirs.m4 /home/grinnz/.cpanm/work/1718070350.576097/Alien-automake-0.18/blib/lib/auto/share/dist/Alien-automake/share/aclocal-1.16/internal/ac-config-macro-dirs.m4
Alien::Build::Util> mkdir -p /home/grinnz/.cpanm/work/1718070350.576097/Alien-automake-0.18/blib/lib/auto/share/dist/Alien-automake/share/aclocal
Alien::Build::Util> cp /home/grinnz/.cpanm/work/1718070350.576097/Alien-automake-0.18/_alien/destdir_38IV/home/grinnz/.plenv/versions/5.40.0/lib/perl5/site_perl/5.40.0/x86_64-linux/auto/share/dist/Alien-automake/share/aclocal/README /home/grinnz/.cpanm/work/1718070350.576097/Alien-automake-0.18/blib/lib/auto/share/dist/Alien-automake/share/aclocal/README
Alien::Build::Util> mkdir -p /home/grinnz/.cpanm/work/1718070350.576097/Alien-automake-0.18/blib/lib/auto/share/dist/Alien-automake/share/man/man1
Alien::Build::Util> cp /home/grinnz/.cpanm/work/1718070350.576097/Alien-automake-0.18/_alien/destdir_38IV/home/grinnz/.plenv/versions/5.40.0/lib/perl5/site_perl/5.40.0/x86_64-linux/auto/share/dist/Alien-automake/share/man/man1/automake.1 /home/grinnz/.cpanm/work/1718070350.576097/Alien-automake-0.18/blib/lib/auto/share/dist/Alien-automake/share/man/man1/automake.1
Alien::Build::Util> cp /home/grinnz/.cpanm/work/1718070350.576097/Alien-automake-0.18/_alien/destdir_38IV/home/grinnz/.plenv/versions/5.40.0/lib/perl5/site_perl/5.40.0/x86_64-linux/auto/share/dist/Alien-automake/share/man/man1/aclocal-1.16.1 /home/grinnz/.cpanm/work/1718070350.576097/Alien-automake-0.18/blib/lib/auto/share/dist/Alien-automake/share/man/man1/aclocal-1.16.1
Alien::Build::Util> cp /home/grinnz/.cpanm/work/1718070350.576097/Alien-automake-0.18/_alien/destdir_38IV/home/grinnz/.plenv/versions/5.40.0/lib/perl5/site_perl/5.40.0/x86_64-linux/auto/share/dist/Alien-automake/share/man/man1/automake-1.16.1 /home/grinnz/.cpanm/work/1718070350.576097/Alien-automake-0.18/blib/lib/auto/share/dist/Alien-automake/share/man/man1/automake-1.16.1
Alien::Build::Util> cp /home/grinnz/.cpanm/work/1718070350.576097/Alien-automake-0.18/_alien/destdir_38IV/home/grinnz/.plenv/versions/5.40.0/lib/perl5/site_perl/5.40.0/x86_64-linux/auto/share/dist/Alien-automake/share/man/man1/aclocal.1 /home/grinnz/.cpanm/work/1718070350.576097/Alien-automake-0.18/blib/lib/auto/share/dist/Alien-automake/share/man/man1/aclocal.1
Alien::Build::Util> mkdir -p /home/grinnz/.cpanm/work/1718070350.576097/Alien-automake-0.18/blib/lib/auto/share/dist/Alien-automake/share/doc/automake
Alien::Build::Util> cp /home/grinnz/.cpanm/work/1718070350.576097/Alien-automake-0.18/_alien/destdir_38IV/home/grinnz/.plenv/versions/5.40.0/lib/perl5/site_perl/5.40.0/x86_64-linux/auto/share/dist/Alien-automake/share/doc/automake/amhello-1.0.tar.gz /home/grinnz/.cpanm/work/1718070350.576097/Alien-automake-0.18/blib/lib/auto/share/dist/Alien-automake/share/doc/automake/amhello-1.0.tar.gz
Alien::Build::Plugin::Core::Gather> mkdir -p /home/grinnz/.cpanm/work/1718070350.576097/Alien-automake-0.18/blib/lib/auto/share/dist/Alien-automake/_alien
Manifying 1 pod document
"/home/grinnz/.plenv/versions/5.40.0/bin/perl5.40.0" -MAlien::Build::MM=cmd -e test
PERL_DL_NONLAZY=1 "/home/grinnz/.plenv/versions/5.40.0/bin/perl5.40.0" "-MExtUtils::Command::MM" "-MTest::Harness" "-e" "undef *Test::Harness::Switches; test_harness(0, 'blib/lib', 'blib/arch')" t/*.t
#
#
#
# HARNESS_ACTIVE=1
# HARNESS_VERSION=3.48
# LANG=en_US.UTF-8
# PERL5LIB=/home/grinnz/.cpanm/work/1718070350.576097/Alien-automake-0.18/blib/lib:/home/grinnz/.cpanm/work/1718070350.576097/Alien-automake-0.18/blib/arch
# PERL_DL_NONLAZY=1
# PERL_MM_USE_DEFAULT=1
# PERL_USE_UNSAFE_INC=1
# SHELL=/usr/bin/fish
#
#
#
# PERL5LIB path
# /home/grinnz/.cpanm/work/1718070350.576097/Alien-automake-0.18/blib/lib
# /home/grinnz/.cpanm/work/1718070350.576097/Alien-automake-0.18/blib/arch
#
#
#
# perl 5.040000 linux x86_64-linux
# Alien::Base 2.83
# Alien::Build 2.83
# Alien::Build::MM 2.83
# Alien::Build::Plugin::Build::Autoconf 2.83
# Alien::Build::Plugin::Build::MSYS 2.83
# Alien::autoconf 0.20
# Env 1.06
# ExtUtils::MakeMaker 7.70
# Test2::V0 0.000162
# Test::Alien 2.83
# Test::More 1.302199
#
#
#
t/00_diag.t ......... ok
t/01_use.t .......... ok
t/alien_automake.t .. ok
All tests successful.
Files=3, Tests=7, 1 wallclock secs ( 0.03 usr 0.02 sys + 0.69 cusr 0.10 csys = 0.84 CPU)
Result: PASS
------------------------------
PREREQUISITES
------------------------------
Prerequisite modules loaded:
No requirements found
------------------------------
ENVIRONMENT AND OTHER CONTEXT
------------------------------
Environment variables:
LANG = en_US.UTF-8
PATH = /home/grinnz/.plenv/versions/5.40.0/bin:/home/grinnz/.plenv/libexec:/home/grinnz/.plenv/plugins/perl-build/bin:/home/grinnz/.plenv/plugins/plenv-contrib/bin:/home/grinnz/.plenv/shims:/home/grinnz/.plenv/bin:/usr/local/cuda/bin:/home/grinnz/.plenv/bin:/usr/local/cuda/bin:/usr/local/bin:/usr/bin:/usr/local/sbin:/usr/sbin
SHELL = /usr/bin/fish
TERM = tmux-256color
Perl special variables (and OS-specific diagnostics, for MSWin32):
EGID = 1000 10 26 135 974 1000
EUID = 1000
EXECUTABLE_NAME = /home/grinnz/.plenv/versions/5.40.0/bin/perl5.40.0
GID = 1000 10 26 135 974 1000
UID = 1000
Perl module toolchain versions installed:
Module Have
------------------- --------
CPAN 2.36
CPAN::Meta 2.150010
Cwd 3.90
ExtUtils::CBuilder 0.280240
ExtUtils::Command 7.70
ExtUtils::Install 2.22
ExtUtils::MakeMaker 7.70
ExtUtils::Manifest 1.75
ExtUtils::ParseXS 3.51
File::Spec 3.90
JSON 4.10
JSON::PP 4.16
Module::Build 0.4234
Module::Signature 0.88
Parse::CPAN::Meta 2.150010
Test::Harness 3.48
Test::More 1.302199
YAML 1.31
YAML::Syck 1.34
version 0.9930
--
Summary of my perl5 (revision 5 version 40 subversion 0) configuration:
Platform:
osname=linux
osvers=6.3.8-200.fc38.x86_64
archname=x86_64-linux
uname='linux home.grinnz.com 6.3.8-200.fc38.x86_64 #1 smp preempt_dynamic thu jun 15 02:15:40 utc 2023 x86_64 gnulinux '
config_args='-Dprefix=/home/grinnz/.plenv/versions/5.40.0 -de -Dversiononly -A'eval:scriptdir=/home/grinnz/.plenv/versions/5.40.0/bin''
hint=recommended
useposix=true
d_sigaction=define
useithreads=undef
usemultiplicity=undef
use64bitint=define
use64bitall=define
uselongdouble=undef
usemymalloc=n
default_inc_excludes_dot=define
Compiler:
cc='cc'
ccflags ='-fwrapv -fno-strict-aliasing -pipe -fstack-protector-strong -I/usr/local/include -D_LARGEFILE_SOURCE -D_FILE_OFFSET_BITS=64 -D_FORTIFY_SOURCE=2'
optimize='-O2'
cppflags='-fwrapv -fno-strict-aliasing -pipe -fstack-protector-strong -I/usr/local/include'
ccversion=''
gccversion='13.2.1 20231011 (Red Hat 13.2.1-4)'
gccosandvers=''
intsize=4
longsize=8
ptrsize=8
doublesize=8
byteorder=12345678
doublekind=3
d_longlong=define
longlongsize=8
d_longdbl=define
longdblsize=16
longdblkind=3
ivtype='long'
ivsize=8
nvtype='double'
nvsize=8
Off_t='off_t'
lseeksize=8
alignbytes=8
prototype=define
Linker and Libraries:
ld='cc'
ldflags =' -fstack-protector-strong -L/usr/local/lib'
libpth=/usr/local/lib /usr/lib /usr/lib64 /usr/local/lib64
libs=-lpthread -lgdbm -ldb -ldl -lm -lcrypt -lutil -lc -lgdbm_compat
perllibs=-lpthread -ldl -lm -lcrypt -lutil -lc
libc=/lib/../lib64/libc.so.6
so=so
useshrplib=false
libperl=libperl.a
gnulibc_version='2.37'
Dynamic Linking:
dlsrc=dl_dlopen.xs
dlext=so
d_dlsymun=undef
ccdlflags='-Wl,-E'
cccdlflags='-fPIC'
lddlflags='-shared -O2 -L/usr/local/lib -fstack-protector-strong'
Characteristics of this binary (from libperl):
Compile-time options:
HAS_LONG_DOUBLE
HAS_STRTOLD
HAS_TIMES
PERLIO_LAYERS
PERL_COPY_ON_WRITE
PERL_DONT_CREATE_GVSV
PERL_HASH_FUNC_SIPHASH13
PERL_HASH_USE_SBOX32
PERL_MALLOC_WRAP
PERL_OP_PARENT
PERL_PRESERVE_IVUV
PERL_USE_SAFE_PUTENV
USE_64_BIT_ALL
USE_64_BIT_INT
USE_LARGE_FILES
USE_LOCALE
USE_LOCALE_COLLATE
USE_LOCALE_CTYPE
USE_LOCALE_NUMERIC
USE_LOCALE_TIME
USE_PERLIO
USE_PERL_ATOF
Built under linux
Compiled at Jun 10 2024 21:21:12
@INC:
/home/grinnz/.plenv/versions/5.40.0/lib/perl5/site_perl/5.40.0/x86_64-linux
/home/grinnz/.plenv/versions/5.40.0/lib/perl5/site_perl/5.40.0
/home/grinnz/.plenv/versions/5.40.0/lib/perl5/5.40.0/x86_64-linux
/home/grinnz/.plenv/versions/5.40.0/lib/perl5/5.40.0