Back
From: metabase:user:e45047bb-6c03-1014-98e0-c05e9855645b
Subject: PASS Soar-WM-0.03 v5.16.1
Date: 2012-12-18T09:04:04Z
This distribution has been tested as part of the CPAN Testers
project, supporting the Perl programming language. See
http://wiki.cpantesters.org/ for more information or email
questions to cpan-testers-discuss@perl.org
--
Dear Nathan Gary Glenn,
This is a computer-generated report for Soar-WM-0.03
on perl 5.16.1, created by CPAN-Reporter-1.2007.
Thank you for uploading your work to CPAN. Congratulations!
All tests were successful.
Sections of this report:
* Tester comments
* Program output
* Prerequisites
* Environment and other context
------------------------------
TESTER COMMENTS
------------------------------
Additional comments from tester:
this report is from an automated smoke testing program
and was not reviewed by a human for accuracy
------------------------------
PROGRAM OUTPUT
------------------------------
Output from 'nmake.exe test':
Microsoft (R) Program Maintenance Utility Version 6.00.8168.0
Copyright (C) Microsoft Corp 1988-1998. All rights reserved.
C:\CPANTesters\Perl5.16.1\bin\perl.exe "-MExtUtils::Command::MM" "-e" "test_harness(0, 'blib\lib', 'blib\arch')" t/*.t
t/00-compile.t ................ ok
#
#
# Generated by Dist::Zilla::Plugin::ReportVersions::Tiny v1.08
# perl: 5.016001 (wanted 5.010) on MSWin32 from C:\CPANTesters\Perl5.16.1\bin\perl.exe
#
# Carp => 1.26 (want any version)
# Data::Dumper => 2.139 (want any version)
# Data::Section::Simple => 0.03 (want any version)
# Exporter => 5.66 (want any version)
# File::Find => 1.20 (want any version)
# File::Spec => 3.39_02 (want any version)
# File::Temp => 0.22 (want any version)
# FindBin => 1.51 (want any version)
# Module::Build => 0.4003 (want 0.3601)
# Pod::Coverage::TrustPod => module not found. (want any version)
# Test::CPAN::Meta => module not found. (want any version)
# Test::Deep => 0.11 (want any version)
# Test::More => 0.98 (want 0.88)
# Test::NoWarnings => 1.04 (want any version)
# Test::Pod => 1.45 (want 1.41)
# Test::Pod::Coverage => 1.08 (want 1.08)
# Test::Warn => 0.24 (want any version)
# autodie => 2.10 (want any version)
# base => 2.18 (want any version)
# strict => 1.07 (want any version)
# version => 0.99 (want 0.9901)
# warnings => 1.13 (want any version)
#
# Thanks for using my code. I hope it works for you.
# If not, please try and include this output in the bug report.
# That will help me reproduce the issue and solve your problem.
#
t/000-report-versions-tiny.t .. ok
t/01-slurp.t .................. ok
t/02-wm.t ..................... ok
t/03-traversal.t .............. ok
t/04-errors.t ................. ok
All tests successful.
Files=6, Tests=34, 4 wallclock secs ( 0.14 usr + 0.09 sys = 0.23 CPU)
Result: PASS
------------------------------
PREREQUISITES
------------------------------
Prerequisite modules loaded:
requires:
Module Need Have
--------------------- ------ -------
autodie 0 2.10
base 0 2.18
Carp 0 1.26
Exporter 0 5.66
strict 0 1.07
warnings 0 1.13
build_requires:
Module Need Have
--------------------- ------ -------
Data::Dumper 0 2.139
Data::Section::Simple 0 0.03
File::Find 0 1.20
File::Spec 0 3.39_02
File::Temp 0 0.22
FindBin 0 1.51
Module::Build 0.3601 0.4003
Test::Deep 0 0.110
Test::More 0.88 0.98
Test::NoWarnings 0 1.04
Test::Warn 0 0.24
configure_requires:
Module Need Have
--------------------- ------ -------
Module::Build 0.3601 0.4003
------------------------------
ENVIRONMENT AND OTHER CONTEXT
------------------------------
Environment variables:
AUTOMATED_TESTING = 1
COMSPEC = C:\WINDOWS\system32\cmd.exe
INCLUDE = C:\PROGRA~1\MIAF9D~1\VC98\ATL\INCLUDE;C:\PROGRA~1\MIAF9D~1\VC98\INCLUDE;C:\PROGRA~1\MIAF9D~1\VC98\MFC\INCLUDE;C:\Program Files\Microsoft Platform SDK for Windows Server 2003 R2\Include;C:\Program Files\Microsoft SDKs\Windows\v6.0A\include;C:\Program Files\Microsoft SDKs\Windows\v6.0A\include\gl;C:\CPANTesters\bin\gnuwin32\include;C:\CPANTesters\bin\gnome-deps-win32\include;C:\CPANTesters\bin\instantclient_11_2\sdk\include;C:\work\include
LIB = C:\PROGRA~1\MIAF9D~1\VC98\LIB;C:\PROGRA~1\MIAF9D~1\VC98\MFC\LIB;C:\Program Files\Microsoft Platform SDK for Windows Server 2003 R2\Lib;C:\Program Files\Microsoft SDKs\Windows\v6.0A\Lib;C:\CPANTesters\bin\gnuwin32\lib;C:\CPANTesters\bin\gnome-deps-win32\lib;C:\CPANTesters\bin\instantclient_11_2\sdk\lib;C:\work\lib
NUMBER_OF_PROCESSORS = 2
PATH = C:\PROGRA~1\MIAF9D~1\Common\msdev98\BIN;C:\PROGRA~1\MIAF9D~1\VC98\BIN;C:\PROGRA~1\MIAF9D~1\Common\TOOLS\WINNT;C:\PROGRA~1\MIAF9D~1\Common\TOOLS;C:\Program Files\Microsoft Platform SDK for Windows Server 2003 R2\Bin;C:\Program Files\Microsoft SDKs\Windows\v6.0A\bin;C:\CPANTesters\Perl5.16.1\site\bin;C:\CPANTesters\Perl5.16.1\bin;C:\CPANTesters\bin\gnuwin32\bin;C:\CPANTesters\bin\gnome-deps-win32\bin;C:\CPANTesters\bin\ImageMagick-6.8.0-1;C:\WINDOWS\system32;C:\WINDOWS;C:\WINDOWS\System32\Wbem;C:\CPANTesters\bin\GnuPG1;C:\CPANTesters\bin\GnuPG2;C:\CPANTesters\bin;C:\Program Files\Microsoft SQL Server\100\Tools\Binn;c:\Program Files\Microsoft SQL Server\100\DTS\Binn;C:\work\bin
PERL5LIB =
PERL5OPT =
PERL5_CPANPLUS_IS_RUNNING = 9888
PERL5_CPAN_IS_RUNNING = 9888
PERL5_CPAN_IS_RUNNING_IN_RECURSION = 9652,9888
PERL5_INCLUDE = C:\CPANTesters\Perl5.16.1\lib\CORE
PERL5_LIB = C:\CPANTesters\Perl5.16.1\lib\CORE\perl516.lib
PERL_CPAN_BAT = Perl5.016.001_MSVC6_SDK7.1_cpan.bat
PERL_CPAN_REPORTER_DIR = C:\CPANTesters
PERL_MM_USE_DEFAULT = 1
PROCESSOR_IDENTIFIER = x86 Family 15 Model 4 Stepping 3, GenuineIntel
TEMP = C:\CPANTesters\temp
Perl special variables (and OS-specific diagnostics, for MSWin32):
$^X = C:\CPANTesters\Perl5.16.1\bin\perl.exe
$UID/$EUID = 0 / 0
$GID = 0
$EGID = 0
Win32::GetOSName = Win2003
Win32::GetOSVersion = Service Pack 2, 5, 2, 3790, 2, 2, 0, 272, 3
Win32::FsType = NTFS
Win32::IsAdminUser = 1
Perl module toolchain versions installed:
Module Have
------------------- --------
CPAN 1.9800
CPAN::Meta 2.120921
Cwd 3.39_02
ExtUtils::CBuilder 0.280206
ExtUtils::Command 1.17
ExtUtils::Install 1.54
ExtUtils::MakeMaker 6.63_02
ExtUtils::Manifest 1.61
ExtUtils::ParseXS 3.16
File::Spec 3.39_02
JSON 2.53
JSON::PP 2.27200
Module::Build 0.4003
Module::Signature 0.70
Parse::CPAN::Meta 1.4404
Test::Harness 3.25
Test::More 0.98
YAML 0.84
YAML::Syck 1.22
version 0.99
--
Summary of my perl5 (revision 5 version 16 subversion 1) configuration:
Platform:
osname=MSWin32, osvers=5.2, archname=MSWin32-x86-multi-thread
uname=''
config_args='undef'
hint=recommended, useposix=true, d_sigaction=undef
useithreads=define, usemultiplicity=define
useperlio=define, d_sfio=undef, uselargefiles=define, usesocks=undef
use64bitint=undef, use64bitall=undef, uselongdouble=undef
usemymalloc=n, bincompat5005=undef
Compiler:
cc='cl', ccflags ='-nologo -GF -W3 -MD -Zi -DNDEBUG -O1 -DWIN32 -D_CONSOLE -DNO_STRICT -DPERL_TEXTMODE_SCRIPTS -DUSE_SITECUSTOMIZE -DPERL_IMPLICIT_CONTEXT -DPERL_IMPLICIT_SYS -DUSE_PERLIO -D_USE_32BIT_TIME_T',
optimize='-MD -Zi -DNDEBUG -O1',
cppflags='-DWIN32'
ccversion='12.0.8168', gccversion='', gccosandvers=''
intsize=4, longsize=4, ptrsize=4, doublesize=8, byteorder=1234
d_longlong=undef, longlongsize=8, d_longdbl=define, longdblsize=8
ivtype='long', ivsize=4, nvtype='double', nvsize=8, Off_t='__int64', lseeksize=8
alignbytes=8, prototype=define
Linker and Libraries:
ld='link', ldflags ='-nologo -nodefaultlib -debug -opt:ref,icf -libpath:"C:\CPANTesters\Perl5.16.1\lib\CORE" -machine:x86'
libpth=\lib
libs=oldnames.lib kernel32.lib user32.lib gdi32.lib winspool.lib comdlg32.lib advapi32.lib shell32.lib ole32.lib oleaut32.lib netapi32.lib uuid.lib ws2_32.lib mpr.lib winmm.lib version.lib odbc32.lib odbccp32.lib comctl32.lib msvcrt.lib
perllibs=oldnames.lib kernel32.lib user32.lib gdi32.lib winspool.lib comdlg32.lib advapi32.lib shell32.lib ole32.lib oleaut32.lib netapi32.lib uuid.lib ws2_32.lib mpr.lib winmm.lib version.lib odbc32.lib odbccp32.lib comctl32.lib msvcrt.lib
libc=msvcrt.lib, so=dll, useshrplib=true, libperl=perl516.lib
gnulibc_version=''
Dynamic Linking:
dlsrc=dl_win32.xs, dlext=dll, d_dlsymun=undef, ccdlflags=' '
cccdlflags=' ', lddlflags='-dll -nologo -nodefaultlib -debug -opt:ref,icf -libpath:"C:\CPANTesters\Perl5.16.1\lib\CORE" -machine:x86'
Characteristics of this binary (from libperl):
Compile-time options: HAS_TIMES HAVE_INTERP_INTERN MULTIPLICITY
PERLIO_LAYERS PERL_DONT_CREATE_GVSV
PERL_IMPLICIT_CONTEXT PERL_IMPLICIT_SYS
PERL_MALLOC_WRAP PERL_PRESERVE_IVUV PL_OP_SLAB_ALLOC
USE_ITHREADS USE_LARGE_FILES USE_LOCALE
USE_LOCALE_COLLATE USE_LOCALE_CTYPE
USE_LOCALE_NUMERIC USE_PERLIO USE_PERL_ATOF
USE_SITECUSTOMIZE
Locally applied patches:
ActivePerl Build 1601 [296175]
Built under MSWin32
Compiled at Aug 30 2012 20:08:55
%ENV:
PERL5_CPANPLUS_IS_RUNNING="9888"
PERL5_CPAN_IS_RUNNING="9888"
PERL5_CPAN_IS_RUNNING_IN_RECURSION="9652,9888"
PERL5_INCLUDE="C:\CPANTesters\Perl5.16.1\lib\CORE"
PERL5_LIB="C:\CPANTesters\Perl5.16.1\lib\CORE\perl516.lib"
PERL_CPAN_BAT="Perl5.016.001_MSVC6_SDK7.1_cpan.bat"
PERL_CPAN_REPORTER_DIR="C:\CPANTesters"
PERL_MM_USE_DEFAULT="1"
@INC:
C:/CPANTesters/Perl5.16.1/site/lib
C:/CPANTesters/Perl5.16.1/lib
.