Back
From: metabase:user:e3434da8-b236-11df-85ca-0247c6d74bde
Subject: PASS XML-Schema-0.07 v5.15.1 GNU/Linux
Date: 2011-09-20T06:15:16Z
This distribution has been tested as part of the CPAN Testers
project, supporting the Perl programming language. See
http://wiki.cpantesters.org/ for more information or email
questions to cpan-testers-discuss@perl.org
--
Dear Andy Wardley,
This is a computer-generated report for XML-Schema-0.07
on perl 5.15.1, created by CPAN-Reporter-1.1902.
Thank you for uploading your work to CPAN. Congratulations!
All tests were successful.
Sections of this report:
* Tester comments
* Program output
* Prerequisites
* Environment and other context
------------------------------
TESTER COMMENTS
------------------------------
Additional comments from tester:
this report is from an automated smoke testing program
and was not reviewed by a human for accuracy
------------------------------
PROGRAM OUTPUT
------------------------------
Output from '/usr/bin/make test':
PERL_DL_NONLAZY=1 /home/perl5151/testing/bin/perl5.15.1 "-MExtUtils::Command::MM" "-e" "test_harness(0, 'blib/lib', 'blib/arch')" t/*.t
Use of uninitialized value in addition (+) at lib/XML/Schema/Type/Builtin.pm line 198.
Use of uninitialized value in numeric le (<=) at lib/XML/Schema/Facet/Builtin.pm line 319.
Use of uninitialized value in addition (+) at lib/XML/Schema/Type/Builtin.pm line 198.
Use of uninitialized value in numeric le (<=) at lib/XML/Schema/Facet/Builtin.pm line 319.
Use of uninitialized value in addition (+) at lib/XML/Schema/Type/Builtin.pm line 198.
Use of uninitialized value in numeric le (<=) at lib/XML/Schema/Facet/Builtin.pm line 319.
Use of uninitialized value in addition (+) at lib/XML/Schema/Type/Builtin.pm line 198.
Use of uninitialized value in numeric le (<=) at lib/XML/Schema/Facet/Builtin.pm line 319.
Use of uninitialized value in addition (+) at lib/XML/Schema/Type/Builtin.pm line 198.
Use of uninitialized value in numeric le (<=) at lib/XML/Schema/Facet/Builtin.pm line 319.
Use of uninitialized value in addition (+) at lib/XML/Schema/Type/Builtin.pm line 198.
Use of uninitialized value in numeric le (<=) at lib/XML/Schema/Facet/Builtin.pm line 319.
Use of uninitialized value in addition (+) at lib/XML/Schema/Type/Builtin.pm line 198.
Use of uninitialized value in numeric le (<=) at lib/XML/Schema/Facet/Builtin.pm line 319.
Use of uninitialized value in addition (+) at lib/XML/Schema/Type/Builtin.pm line 198.
Use of uninitialized value in numeric le (<=) at lib/XML/Schema/Facet/Builtin.pm line 319.
Use of uninitialized value in addition (+) at lib/XML/Schema/Type/Builtin.pm line 198.
Use of uninitialized value in numeric le (<=) at lib/XML/Schema/Facet/Builtin.pm line 319.
Use of uninitialized value in addition (+) at lib/XML/Schema/Type/Builtin.pm line 198.
Use of uninitialized value in numeric le (<=) at lib/XML/Schema/Facet/Builtin.pm line 319.
Use of uninitialized value in addition (+) at lib/XML/Schema/Type/Builtin.pm line 198.
Use of uninitialized value in numeric le (<=) at lib/XML/Schema/Facet/Builtin.pm line 319.
Use of uninitialized value in addition (+) at lib/XML/Schema/Type/Builtin.pm line 198.
Use of uninitialized value in numeric le (<=) at lib/XML/Schema/Facet/Builtin.pm line 319.
Use of uninitialized value in addition (+) at lib/XML/Schema/Type/Builtin.pm line 198.
Use of uninitialized value in numeric le (<=) at lib/XML/Schema/Facet/Builtin.pm line 319.
Use of uninitialized value in addition (+) at lib/XML/Schema/Type/Builtin.pm line 198.
Use of uninitialized value in numeric le (<=) at lib/XML/Schema/Facet/Builtin.pm line 319.
Use of uninitialized value in addition (+) at lib/XML/Schema/Type/Builtin.pm line 198.
Use of uninitialized value in numeric le (<=) at lib/XML/Schema/Facet/Builtin.pm line 319.
Use of uninitialized value in addition (+) at lib/XML/Schema/Type/Builtin.pm line 198.
Use of uninitialized value in numeric le (<=) at lib/XML/Schema/Facet/Builtin.pm line 319.
Use of uninitialized value in addition (+) at lib/XML/Schema/Type/Builtin.pm line 198.
Use of uninitialized value in numeric le (<=) at lib/XML/Schema/Facet/Builtin.pm line 319.
Use of uninitialized value in addition (+) at lib/XML/Schema/Type/Builtin.pm line 198.
Use of uninitialized value in numeric le (<=) at lib/XML/Schema/Facet/Builtin.pm line 319.
Use of uninitialized value in addition (+) at lib/XML/Schema/Type/Builtin.pm line 198.
Use of uninitialized value in numeric le (<=) at lib/XML/Schema/Facet/Builtin.pm line 319.
Use of uninitialized value in addition (+) at lib/XML/Schema/Type/Builtin.pm line 198.
Use of uninitialized value in numeric le (<=) at lib/XML/Schema/Facet/Builtin.pm line 319.
Use of uninitialized value in addition (+) at lib/XML/Schema/Type/Builtin.pm line 198.
Use of uninitialized value in numeric le (<=) at lib/XML/Schema/Facet/Builtin.pm line 319.
Use of uninitialized value in addition (+) at lib/XML/Schema/Type/Builtin.pm line 198.
Use of uninitialized value in numeric le (<=) at lib/XML/Schema/Facet/Builtin.pm line 319.
Use of uninitialized value in addition (+) at lib/XML/Schema/Type/Builtin.pm line 198.
Use of uninitialized value in numeric le (<=) at lib/XML/Schema/Facet/Builtin.pm line 319.
Use of uninitialized value in addition (+) at lib/XML/Schema/Type/Builtin.pm line 198.
Use of uninitialized value in numeric le (<=) at lib/XML/Schema/Facet/Builtin.pm line 319.
Use of uninitialized value in addition (+) at lib/XML/Schema/Type/Builtin.pm line 198.
Use of uninitialized value in numeric le (<=) at lib/XML/Schema/Facet/Builtin.pm line 319.
Use of uninitialized value in addition (+) at lib/XML/Schema/Type/Builtin.pm line 198.
Use of uninitialized value in numeric le (<=) at lib/XML/Schema/Facet/Builtin.pm line 319.
Use of uninitialized value in addition (+) at lib/XML/Schema/Type/Builtin.pm line 198.
Use of uninitialized value in numeric le (<=) at lib/XML/Schema/Facet/Builtin.pm line 319.
Use of uninitialized value in addition (+) at lib/XML/Schema/Type/Builtin.pm line 198.
Use of uninitialized value in numeric le (<=) at lib/XML/Schema/Facet/Builtin.pm line 319.
Use of uninitialized value in addition (+) at lib/XML/Schema/Type/Builtin.pm line 198.
Use of uninitialized value in numeric le (<=) at lib/XML/Schema/Facet/Builtin.pm line 319.
Use of uninitialized value in addition (+) at lib/XML/Schema/Type/Builtin.pm line 198.
Use of uninitialized value in numeric le (<=) at lib/XML/Schema/Facet/Builtin.pm line 319.
Use of uninitialized value in addition (+) at lib/XML/Schema/Type/Builtin.pm line 198.
Use of uninitialized value in numeric le (<=) at lib/XML/Schema/Facet/Builtin.pm line 319.
Use of uninitialized value in addition (+) at lib/XML/Schema/Type/Builtin.pm line 198.
Use of uninitialized value in numeric le (<=) at lib/XML/Schema/Facet/Builtin.pm line 319.
Use of uninitialized value in addition (+) at lib/XML/Schema/Type/Builtin.pm line 198.
Use of uninitialized value in numeric le (<=) at lib/XML/Schema/Facet/Builtin.pm line 319.
Use of uninitialized value in addition (+) at lib/XML/Schema/Type/Builtin.pm line 198.
Use of uninitialized value in numeric le (<=) at lib/XML/Schema/Facet/Builtin.pm line 319.
Use of uninitialized value in addition (+) at lib/XML/Schema/Type/Builtin.pm line 198.
Use of uninitialized value in numeric le (<=) at lib/XML/Schema/Facet/Builtin.pm line 319.
t/attrgroup.t .. ok
t/attribute.t .. ok
t/base.t ....... ok
Use of uninitialized value in addition (+) at lib/XML/Schema/Type/Builtin.pm line 198.
Use of uninitialized value in addition (+) at lib/XML/Schema/Type/Builtin.pm line 198.
Use of uninitialized value in addition (+) at lib/XML/Schema/Type/Builtin.pm line 198.
Use of uninitialized value in addition (+) at lib/XML/Schema/Type/Builtin.pm line 198.
Use of uninitialized value in numeric le (<=) at lib/XML/Schema/Facet/Builtin.pm line 319.
Use of uninitialized value in addition (+) at lib/XML/Schema/Type/Builtin.pm line 198.
Use of uninitialized value in numeric le (<=) at lib/XML/Schema/Facet/Builtin.pm line 319.
Use of uninitialized value in addition (+) at lib/XML/Schema/Type/Builtin.pm line 198.
Use of uninitialized value in numeric le (<=) at lib/XML/Schema/Facet/Builtin.pm line 319.
Use of uninitialized value in addition (+) at lib/XML/Schema/Type/Builtin.pm line 198.
Use of uninitialized value in numeric le (<=) at lib/XML/Schema/Facet/Builtin.pm line 319.
Use of uninitialized value in addition (+) at lib/XML/Schema/Type/Builtin.pm line 198.
Use of uninitialized value in numeric le (<=) at lib/XML/Schema/Facet/Builtin.pm line 319.
Use of uninitialized value in addition (+) at lib/XML/Schema/Type/Builtin.pm line 198.
Use of uninitialized value in numeric le (<=) at lib/XML/Schema/Facet/Builtin.pm line 319.
Use of uninitialized value in addition (+) at lib/XML/Schema/Type/Builtin.pm line 198.
Use of uninitialized value in numeric le (<=) at lib/XML/Schema/Facet/Builtin.pm line 319.
Use of uninitialized value in addition (+) at lib/XML/Schema/Type/Builtin.pm line 198.
Use of uninitialized value in numeric le (<=) at lib/XML/Schema/Facet/Builtin.pm line 319.
Use of uninitialized value in addition (+) at lib/XML/Schema/Type/Builtin.pm line 198.
Use of uninitialized value in numeric le (<=) at lib/XML/Schema/Facet/Builtin.pm line 319.
Use of uninitialized value in addition (+) at lib/XML/Schema/Type/Builtin.pm line 198.
Use of uninitialized value in numeric le (<=) at lib/XML/Schema/Facet/Builtin.pm line 319.
Use of uninitialized value in addition (+) at lib/XML/Schema/Type/Builtin.pm line 198.
Use of uninitialized value in numeric le (<=) at lib/XML/Schema/Facet/Builtin.pm line 319.
Use of uninitialized value in addition (+) at lib/XML/Schema/Type/Builtin.pm line 198.
Use of uninitialized value in numeric le (<=) at lib/XML/Schema/Facet/Builtin.pm line 319.
Use of uninitialized value in addition (+) at lib/XML/Schema/Type/Builtin.pm line 198.
Use of uninitialized value in numeric le (<=) at lib/XML/Schema/Facet/Builtin.pm line 319.
Use of uninitialized value in addition (+) at lib/XML/Schema/Type/Builtin.pm line 198.
Use of uninitialized value in numeric le (<=) at lib/XML/Schema/Facet/Builtin.pm line 319.
Use of uninitialized value in addition (+) at lib/XML/Schema/Type/Builtin.pm line 198.
Use of uninitialized value in numeric le (<=) at lib/XML/Schema/Facet/Builtin.pm line 319.
Use of uninitialized value in addition (+) at lib/XML/Schema/Type/Builtin.pm line 198.
Use of uninitialized value in numeric le (<=) at lib/XML/Schema/Facet/Builtin.pm line 319.
Use of uninitialized value in addition (+) at lib/XML/Schema/Type/Builtin.pm line 198.
Use of uninitialized value in numeric le (<=) at lib/XML/Schema/Facet/Builtin.pm line 319.
Use of uninitialized value in addition (+) at lib/XML/Schema/Type/Builtin.pm line 198.
Use of uninitialized value in numeric le (<=) at lib/XML/Schema/Facet/Builtin.pm line 319.
Use of uninitialized value in addition (+) at lib/XML/Schema/Type/Builtin.pm line 198.
Use of uninitialized value in numeric le (<=) at lib/XML/Schema/Facet/Builtin.pm line 319.
Use of uninitialized value in addition (+) at lib/XML/Schema/Type/Builtin.pm line 198.
Use of uninitialized value in numeric le (<=) at lib/XML/Schema/Facet/Builtin.pm line 319.
Use of uninitialized value in addition (+) at lib/XML/Schema/Type/Builtin.pm line 198.
Use of uninitialized value in numeric le (<=) at lib/XML/Schema/Facet/Builtin.pm line 319.
Use of uninitialized value in addition (+) at lib/XML/Schema/Type/Builtin.pm line 198.
Use of uninitialized value in numeric le (<=) at lib/XML/Schema/Facet/Builtin.pm line 319.
Use of uninitialized value in addition (+) at lib/XML/Schema/Type/Builtin.pm line 198.
Use of uninitialized value in numeric le (<=) at lib/XML/Schema/Facet/Builtin.pm line 319.
Use of uninitialized value in addition (+) at lib/XML/Schema/Type/Builtin.pm line 198.
Use of uninitialized value in numeric le (<=) at lib/XML/Schema/Facet/Builtin.pm line 319.
Use of uninitialized value in addition (+) at lib/XML/Schema/Type/Builtin.pm line 198.
Use of uninitialized value in numeric le (<=) at lib/XML/Schema/Facet/Builtin.pm line 319.
Use of uninitialized value in addition (+) at lib/XML/Schema/Type/Builtin.pm line 198.
Use of uninitialized value in numeric le (<=) at lib/XML/Schema/Facet/Builtin.pm line 319.
Use of uninitialized value in addition (+) at lib/XML/Schema/Type/Builtin.pm line 198.
Use of uninitialized value in numeric le (<=) at lib/XML/Schema/Facet/Builtin.pm line 319.
Use of uninitialized value in addition (+) at lib/XML/Schema/Type/Builtin.pm line 198.
Use of uninitialized value in numeric le (<=) at lib/XML/Schema/Facet/Builtin.pm line 319.
Use of uninitialized value in addition (+) at lib/XML/Schema/Type/Builtin.pm line 198.
Use of uninitialized value in numeric le (<=) at lib/XML/Schema/Facet/Builtin.pm line 319.
Use of uninitialized value in addition (+) at lib/XML/Schema/Type/Builtin.pm line 198.
Use of uninitialized value in numeric le (<=) at lib/XML/Schema/Facet/Builtin.pm line 319.
Use of uninitialized value in addition (+) at lib/XML/Schema/Type/Builtin.pm line 198.
Use of uninitialized value in numeric le (<=) at lib/XML/Schema/Facet/Builtin.pm line 319.
Use of uninitialized value in addition (+) at lib/XML/Schema/Type/Builtin.pm line 198.
Use of uninitialized value in numeric le (<=) at lib/XML/Schema/Facet/Builtin.pm line 319.
Use of uninitialized value in addition (+) at lib/XML/Schema/Type/Builtin.pm line 198.
Use of uninitialized value in numeric le (<=) at lib/XML/Schema/Facet/Builtin.pm line 319.
Use of uninitialized value in addition (+) at lib/XML/Schema/Type/Builtin.pm line 198.
Use of uninitialized value in numeric le (<=) at lib/XML/Schema/Facet/Builtin.pm line 319.
Use of uninitialized value in addition (+) at lib/XML/Schema/Type/Builtin.pm line 198.
Use of uninitialized value in numeric le (<=) at lib/XML/Schema/Facet/Builtin.pm line 319.
Use of uninitialized value in addition (+) at lib/XML/Schema/Type/Builtin.pm line 198.
Use of uninitialized value in numeric le (<=) at lib/XML/Schema/Facet/Builtin.pm line 319.
Use of uninitialized value in addition (+) at lib/XML/Schema/Type/Builtin.pm line 198.
Use of uninitialized value in numeric le (<=) at lib/XML/Schema/Facet/Builtin.pm line 319.
Use of uninitialized value in addition (+) at lib/XML/Schema/Type/Builtin.pm line 198.
Use of uninitialized value in numeric le (<=) at lib/XML/Schema/Facet/Builtin.pm line 319.
Use of uninitialized value in addition (+) at lib/XML/Schema/Type/Builtin.pm line 198.
Use of uninitialized value in numeric le (<=) at lib/XML/Schema/Facet/Builtin.pm line 319.
Use of uninitialized value in addition (+) at lib/XML/Schema/Type/Builtin.pm line 198.
Use of uninitialized value in numeric le (<=) at lib/XML/Schema/Facet/Builtin.pm line 319.
Use of uninitialized value in addition (+) at lib/XML/Schema/Type/Builtin.pm line 198.
Use of uninitialized value in numeric le (<=) at lib/XML/Schema/Facet/Builtin.pm line 319.
Use of uninitialized value in addition (+) at lib/XML/Schema/Type/Builtin.pm line 198.
Use of uninitialized value in numeric le (<=) at lib/XML/Schema/Facet/Builtin.pm line 319.
Use of uninitialized value in addition (+) at lib/XML/Schema/Type/Builtin.pm line 198.
Use of uninitialized value in numeric le (<=) at lib/XML/Schema/Facet/Builtin.pm line 319.
Use of uninitialized value in addition (+) at lib/XML/Schema/Type/Builtin.pm line 198.
Use of uninitialized value in numeric le (<=) at lib/XML/Schema/Facet/Builtin.pm line 319.
Use of uninitialized value in addition (+) at lib/XML/Schema/Type/Builtin.pm line 198.
Use of uninitialized value in numeric le (<=) at lib/XML/Schema/Facet/Builtin.pm line 319.
Use of uninitialized value in addition (+) at lib/XML/Schema/Type/Builtin.pm line 198.
Use of uninitialized value in numeric le (<=) at lib/XML/Schema/Facet/Builtin.pm line 319.
Use of uninitialized value in addition (+) at lib/XML/Schema/Type/Builtin.pm line 198.
Use of uninitialized value in numeric le (<=) at lib/XML/Schema/Facet/Builtin.pm line 319.
Use of uninitialized value in addition (+) at lib/XML/Schema/Type/Builtin.pm line 198.
Use of uninitialized value in numeric le (<=) at lib/XML/Schema/Facet/Builtin.pm line 319.
Use of uninitialized value in addition (+) at lib/XML/Schema/Type/Builtin.pm line 198.
Use of uninitialized value in numeric le (<=) at lib/XML/Schema/Facet/Builtin.pm line 319.
Use of uninitialized value in addition (+) at lib/XML/Schema/Type/Builtin.pm line 198.
Use of uninitialized value in numeric le (<=) at lib/XML/Schema/Facet/Builtin.pm line 319.
Use of uninitialized value in addition (+) at lib/XML/Schema/Type/Builtin.pm line 198.
Use of uninitialized value in numeric le (<=) at lib/XML/Schema/Facet/Builtin.pm line 319.
Use of uninitialized value in addition (+) at lib/XML/Schema/Type/Builtin.pm line 198.
Use of uninitialized value in numeric le (<=) at lib/XML/Schema/Facet/Builtin.pm line 319.
Use of uninitialized value in addition (+) at lib/XML/Schema/Type/Builtin.pm line 198.
Use of uninitialized value in numeric le (<=) at lib/XML/Schema/Facet/Builtin.pm line 319.
t/builtin.t .... ok
t/choice.t ..... ok
t/complex.t .... ok
t/constants.t .. ok
t/content.t .... ok
t/element.t .... ok
t/enum.t ....... ok
t/exception.t .. ok
t/facet.t ...... ok
t/handler.t .... ok
t/id.t ......... ok
t/instance.t ... ok
Use of uninitialized value in addition (+) at lib/XML/Schema/Type/Builtin.pm line 198.
Use of uninitialized value in numeric le (<=) at lib/XML/Schema/Facet/Builtin.pm line 319.
Use of uninitialized value in addition (+) at lib/XML/Schema/Type/Builtin.pm line 198.
Use of uninitialized value in numeric le (<=) at lib/XML/Schema/Facet/Builtin.pm line 319.
Use of uninitialized value in addition (+) at lib/XML/Schema/Type/Builtin.pm line 198.
Use of uninitialized value in numeric le (<=) at lib/XML/Schema/Facet/Builtin.pm line 319.
Use of uninitialized value in addition (+) at lib/XML/Schema/Type/Builtin.pm line 198.
Use of uninitialized value in numeric le (<=) at lib/XML/Schema/Facet/Builtin.pm line 319.
Use of uninitialized value in addition (+) at lib/XML/Schema/Type/Builtin.pm line 198.
Use of uninitialized value in numeric le (<=) at lib/XML/Schema/Facet/Builtin.pm line 319.
Use of uninitialized value in addition (+) at lib/XML/Schema/Type/Builtin.pm line 198.
Use of uninitialized value in numeric le (<=) at lib/XML/Schema/Facet/Builtin.pm line 319.
Use of uninitialized value in addition (+) at lib/XML/Schema/Type/Builtin.pm line 198.
Use of uninitialized value in numeric le (<=) at lib/XML/Schema/Facet/Builtin.pm line 319.
Use of uninitialized value in addition (+) at lib/XML/Schema/Type/Builtin.pm line 198.
Use of uninitialized value in numeric le (<=) at lib/XML/Schema/Facet/Builtin.pm line 319.
Use of uninitialized value in addition (+) at lib/XML/Schema/Type/Builtin.pm line 198.
Use of uninitialized value in numeric le (<=) at lib/XML/Schema/Facet/Builtin.pm line 319.
Use of uninitialized value in addition (+) at lib/XML/Schema/Type/Builtin.pm line 198.
Use of uninitialized value in numeric le (<=) at lib/XML/Schema/Facet/Builtin.pm line 319.
Use of uninitialized value in addition (+) at lib/XML/Schema/Type/Builtin.pm line 198.
Use of uninitialized value in numeric le (<=) at lib/XML/Schema/Facet/Builtin.pm line 319.
Use of uninitialized value in addition (+) at lib/XML/Schema/Type/Builtin.pm line 198.
Use of uninitialized value in numeric le (<=) at lib/XML/Schema/Facet/Builtin.pm line 319.
Use of uninitialized value in addition (+) at lib/XML/Schema/Type/Builtin.pm line 198.
Use of uninitialized value in numeric le (<=) at lib/XML/Schema/Facet/Builtin.pm line 319.
Use of uninitialized value in addition (+) at lib/XML/Schema/Type/Builtin.pm line 198.
Use of uninitialized value in numeric le (<=) at lib/XML/Schema/Facet/Builtin.pm line 319.
Use of uninitialized value in addition (+) at lib/XML/Schema/Type/Builtin.pm line 198.
Use of uninitialized value in numeric le (<=) at lib/XML/Schema/Facet/Builtin.pm line 319.
Use of uninitialized value in addition (+) at lib/XML/Schema/Type/Builtin.pm line 198.
Use of uninitialized value in numeric le (<=) at lib/XML/Schema/Facet/Builtin.pm line 319.
Use of uninitialized value in addition (+) at lib/XML/Schema/Type/Builtin.pm line 198.
Use of uninitialized value in numeric le (<=) at lib/XML/Schema/Facet/Builtin.pm line 319.
Use of uninitialized value in addition (+) at lib/XML/Schema/Type/Builtin.pm line 198.
Use of uninitialized value in numeric le (<=) at lib/XML/Schema/Facet/Builtin.pm line 319.
Use of uninitialized value in addition (+) at lib/XML/Schema/Type/Builtin.pm line 198.
Use of uninitialized value in numeric le (<=) at lib/XML/Schema/Facet/Builtin.pm line 319.
Use of uninitialized value in addition (+) at lib/XML/Schema/Type/Builtin.pm line 198.
Use of uninitialized value in numeric le (<=) at lib/XML/Schema/Facet/Builtin.pm line 319.
Use of uninitialized value in addition (+) at lib/XML/Schema/Type/Builtin.pm line 198.
Use of uninitialized value in numeric le (<=) at lib/XML/Schema/Facet/Builtin.pm line 319.
t/list.t ....... ok
t/name.t ....... ok
t/names.t ...... ok
t/parser.t ..... ok
t/particle.t ... ok
t/person.t ..... ok
t/scheduler.t .. ok
Use of uninitialized value in addition (+) at lib/XML/Schema/Type/Builtin.pm line 198.
Use of uninitialized value in numeric le (<=) at lib/XML/Schema/Facet/Builtin.pm line 319.
t/scope.t ...... ok
t/sequence.t ... ok
t/simple.t ..... ok
t/type.t ....... ok
Use of uninitialized value in addition (+) at lib/XML/Schema/Type/Builtin.pm line 198.
Use of uninitialized value in numeric le (<=) at lib/XML/Schema/Facet/Builtin.pm line 319.
t/union.t ...... ok
t/wildcard.t ... ok
All tests successful.
Files=28, Tests=1466, 3 wallclock secs ( 0.19 usr 0.06 sys + 1.33 cusr 0.46 csys = 2.04 CPU)
Result: PASS
------------------------------
PREREQUISITES
------------------------------
Prerequisite modules loaded:
build_requires:
Module Need Have
------------------- ---- ----
ExtUtils::MakeMaker 0 6.58
------------------------------
ENVIRONMENT AND OTHER CONTEXT
------------------------------
Environment variables:
AUTOMATED_TESTING = 1
LANG = en_US.utf8
LC_COLLATE = C
LC_MONETARY = nl_NL.utf8
PATH = /home/tester/perl5/perlbrew/bin:/home/tester/perl5/perlbrew/perls/perl-5.15.2/bin:/usr/lib64/qt-3.3/bin:/usr/lib64/ccache:/usr/local/bin:/bin:/usr/bin:/usr/local/sbin:/usr/sbin:/sbin:/home/tester/bin:/home/tester/bin
PATH_WITHOUT_PERLBREW = /usr/lib64/qt-3.3/bin:/usr/lib64/ccache:/usr/local/bin:/bin:/usr/bin:/usr/local/sbin:/usr/sbin:/sbin:/home/tester/bin
PERL5LIB = /home/perl5151/.cpan/build/Regexp-Box-0.02-EhTMlg/blib/arch:/home/perl5151/.cpan/build/Regexp-Box-0.02-EhTMlg/blib/lib:/home/perl5151/.cpan/build/TimeDate-1.20-wWCoxt/blib/arch:/home/perl5151/.cpan/build/TimeDate-1.20-wWCoxt/blib/lib:/home/perl5151/.cpan/build/Class-Multimethods-1.70-j9izpJ/blib/arch:/home/perl5151/.cpan/build/Class-Multimethods-1.70-j9izpJ/blib/lib:/home/perl5151/.cpan/build/Business-CINS-1.13-IObAW5/blib/arch:/home/perl5151/.cpan/build/Business-CINS-1.13-IObAW5/blib/lib:/home/perl5151/.cpan/build/Algorithm-LUHN-1.00-OPD8uN/blib/arch:/home/perl5151/.cpan/build/Algorithm-LUHN-1.00-OPD8uN/blib/lib:/home/perl5151/.cpan/build/Business-UPC-0.04-zxzDkb/blib/arch:/home/perl5151/.cpan/build/Business-UPC-0.04-zxzDkb/blib/lib:/home/perl5151/.cpan/build/Business-CreditCard-0.31-sZQ3ec/blib/arch:/home/perl5151/.cpan/build/Business-CreditCard-0.31-sZQ3ec/blib/lib:/home/perl5151/.cpan/build/Attribute-Util-1.06-dm3Psp/blib/arch:/home/perl5151/.cpan/build/Attribute-Util-1.06-dm3Psp/blib/lib:/home/perl5151/.cpan/build/Locale-SubCountry-1.47-1vCnic/blib/arch:/home/perl5151/.cpan/build/Locale-SubCountry-1.47-1vCnic/blib/lib:/home/perl5151/.cpan/build/X500-DN-0.29-oCzGLP/blib/arch:/home/perl5151/.cpan/build/X500-DN-0.29-oCzGLP/blib/lib:/home/perl5151/.cpan/build/Parse-RecDescent-1.965001-h3z7k_/blib/arch:/home/perl5151/.cpan/build/Parse-RecDescent-1.965001-h3z7k_/blib/lib:/home/perl5151/.cpan/build/Tie-ListKeyedHash-1.02-Ygpm9F/blib/arch:/home/perl5151/.cpan/build/Tie-ListKeyedHash-1.02-Ygpm9F/blib/lib:/home/perl5151/.cpan/build/Regexp-Common-2011041701-luOIvx/blib/arch:/home/perl5151/.cpan/build/Regexp-Common-2011041701-luOIvx/blib/lib:/home/perl5151/.cpan/build/String-ExpandEscapes-0.01-m8aisB/blib/arch:/home/perl5151/.cpan/build/String-ExpandEscapes-0.01-m8aisB/blib/lib:/home/perl5151/.cpan/build/Net-IPv6Addr-0.2-afy6RE/blib/arch:/home/perl5151/.cpan/build/Net-IPv6Addr-0.2-afy6RE/blib/lib:/home/perl5151/.cpan/build/Math-Base85-0.2-XWierr/blib/arch:/home/perl5151/.cpan/build/Math-Base85-0.2-XWierr/blib/lib:/home/perl5151/.cpan/build/Net-IPv4Addr-0.10-vBB8C2/blib/arch:/home/perl5151/.cpan/build/Net-IPv4Addr-0.10-vBB8C2/blib/lib:/home/perl5151/.cpan/build/Business-ISSN-0.91-l7FSjz/blib/arch:/home/perl5151/.cpan/build/Business-ISSN-0.91-l7FSjz/blib/lib:/home/perl5151/.cpan/build/HTML-Lint-2.06-CZN4WU/blib/arch:/home/perl5151/.cpan/build/HTML-Lint-2.06-CZN4WU/blib/lib:/home/perl5151/.cpan/build/Class-Maker-0.5.14-RJ4Zn6/blib/arch:/home/perl5151/.cpan/build/Class-Maker-0.5.14-RJ4Zn6/blib/lib:/home/perl5151/.cpan/build/IO-Extended-0.16-1z55aG/blib/arch:/home/perl5151/.cpan/build/IO-Extended-0.16-1z55aG/blib/lib:/home/perl5151/.cpan/build/Error-0.17016-4sq5an/blib/arch:/home/perl5151/.cpan/build/Error-0.17016-4sq5an/blib/lib:/home/perl5151/.cpan/build/Email-Valid-0.185-2cGogH/blib/arch:/home/perl5151/.cpan/build/Email-Valid-0.185-2cGogH/blib/lib:/home/perl5151/.cpan/build/Text-TabularDisplay-1.28-LmH_0K/blib/arch:/home/perl5151/.cpan/build/Text-TabularDisplay-1.28-LmH_0K/blib/lib
PERL5OPT =
PERL5_CPANPLUS_IS_RUNNING = 31240
PERL5_CPAN_IS_RUNNING = 31240
PERL5_CPAN_IS_RUNNING_IN_RECURSION = 1804,31240
PERLBREW_PATH = /home/tester/perl5/perlbrew/bin:/home/tester/perl5/perlbrew/perls/perl-5.15.2/bin
PERLBREW_PERL = perl-5.15.2
PERLBREW_ROOT = /home/tester/perl5/perlbrew
PERLBREW_VERSION = 0.15
PERL_CR_SMOKER_CURRENT = Data-Type-0.02.02
PERL_EXTUTILS_AUTOINSTALL = --defaultdeps
PERL_MM_USE_DEFAULT = 1
SHELL = /bin/bash
TERM = screen
Perl special variables (and OS-specific diagnostics, for MSWin32):
$^X = /home/perl5151/testing/bin/perl5.15.1
$UID/$EUID = 511 / 511
$GID = 511 511
$EGID = 511 511
Perl module toolchain versions installed:
Module Have
------------------- --------
CPAN 1.9600
Cwd 3.37
ExtUtils::CBuilder 0.280204
ExtUtils::Command 1.17
ExtUtils::Install 1.56
ExtUtils::MakeMaker 6.58
ExtUtils::Manifest 1.58
ExtUtils::ParseXS 3.00_01
File::Spec 3.33
Module::Build 0.3800
Module::Signature n/a
Test::Harness 3.23
Test::More 0.98
YAML n/a
YAML::Syck n/a
version 0.93
--
Summary of my perl5 (revision 5 version 15 subversion 1) configuration:
Platform:
osname=linux, osvers=2.6.38.8-35.fc15.x86_64, archname=x86_64-linux-thread-multi
uname='linux firenze.fritz.box 2.6.38.8-35.fc15.x86_64 #1 smp wed jul 6 13:58:54 utc 2011 x86_64 x86_64 x86_64 gnulinux '
config_args='-Dprefix=/home/perl5151/testing -Dusethreads -Dusedevel -des'
hint=recommended, useposix=true, d_sigaction=define
useithreads=define, usemultiplicity=define
useperlio=define, d_sfio=undef, uselargefiles=define, usesocks=undef
use64bitint=define, use64bitall=define, uselongdouble=undef
usemymalloc=n, bincompat5005=undef
Compiler:
cc='cc', ccflags ='-D_REENTRANT -D_GNU_SOURCE -fno-strict-aliasing -pipe -fstack-protector -I/usr/local/include -D_LARGEFILE_SOURCE -D_FILE_OFFSET_BITS=64',
optimize='-O2',
cppflags='-D_REENTRANT -D_GNU_SOURCE -fno-strict-aliasing -pipe -fstack-protector -I/usr/local/include'
ccversion='', gccversion='4.6.0 20110530 (Red Hat 4.6.0-9)', gccosandvers=''
intsize=4, longsize=8, ptrsize=8, doublesize=8, byteorder=12345678
d_longlong=define, longlongsize=8, d_longdbl=define, longdblsize=16
ivtype='long', ivsize=8, nvtype='double', nvsize=8, Off_t='off_t', lseeksize=8
alignbytes=8, prototype=define
Linker and Libraries:
ld='cc', ldflags =' -fstack-protector -L/usr/local/lib'
libpth=/usr/local/lib /lib/../lib64 /usr/lib/../lib64 /lib /usr/lib /lib64 /usr/lib64 /usr/local/lib64
libs=-lnsl -lgdbm -ldb -ldl -lm -lcrypt -lutil -lpthread -lc -lgdbm_compat
perllibs=-lnsl -ldl -lm -lcrypt -lutil -lpthread -lc
libc=, so=so, useshrplib=false, libperl=libperl.a
gnulibc_version='2.14'
Dynamic Linking:
dlsrc=dl_dlopen.xs, dlext=so, d_dlsymun=undef, ccdlflags='-Wl,-E'
cccdlflags='-fPIC', lddlflags='-shared -O2 -L/usr/local/lib -fstack-protector'
Characteristics of this binary (from libperl):
Compile-time options: HAS_TIMES MULTIPLICITY PERLIO_LAYERS
PERL_DONT_CREATE_GVSV PERL_IMPLICIT_CONTEXT
PERL_MALLOC_WRAP PERL_PRESERVE_IVUV PERL_USE_DEVEL
USE_64_BIT_ALL USE_64_BIT_INT USE_ITHREADS
USE_LARGE_FILES USE_LOCALE USE_LOCALE_COLLATE
USE_LOCALE_CTYPE USE_LOCALE_NUMERIC USE_PERLIO
USE_PERL_ATOF USE_REENTRANT_API
Built under linux
Compiled at Jul 21 2011 08:33:44
%ENV:
PERL5LIB="/home/perl5151/.cpan/build/Regexp-Box-0.02-EhTMlg/blib/arch:/home/perl5151/.cpan/build/Regexp-Box-0.02-EhTMlg/blib/lib:/home/perl5151/.cpan/build/TimeDate-1.20-wWCoxt/blib/arch:/home/perl5151/.cpan/build/TimeDate-1.20-wWCoxt/blib/lib:/home/perl5151/.cpan/build/Class-Multimethods-1.70-j9izpJ/blib/arch:/home/perl5151/.cpan/build/Class-Multimethods-1.70-j9izpJ/blib/lib:/home/perl5151/.cpan/build/Business-CINS-1.13-IObAW5/blib/arch:/home/perl5151/.cpan/build/Business-CINS-1.13-IObAW5/blib/lib:/home/perl5151/.cpan/build/Algorithm-LUHN-1.00-OPD8uN/blib/arch:/home/perl5151/.cpan/build/Algorithm-LUHN-1.00-OPD8uN/blib/lib:/home/perl5151/.cpan/build/Business-UPC-0.04-zxzDkb/blib/arch:/home/perl5151/.cpan/build/Business-UPC-0.04-zxzDkb/blib/lib:/home/perl5151/.cpan/build/Business-CreditCard-0.31-sZQ3ec/blib/arch:/home/perl5151/.cpan/build/Business-CreditCard-0.31-sZQ3ec/blib/lib:/home/perl5151/.cpan/build/Attribute-Util-1.06-dm3Psp/blib/arch:/home/perl5151/.cpan/build/Attribute-Util-1.06-dm3Psp/blib/lib:/home/perl5151/.cpan/build/Locale-SubCountry-1.47-1vCnic/blib/arch:/home/perl5151/.cpan/build/Locale-SubCountry-1.47-1vCnic/blib/lib:/home/perl5151/.cpan/build/X500-DN-0.29-oCzGLP/blib/arch:/home/perl5151/.cpan/build/X500-DN-0.29-oCzGLP/blib/lib:/home/perl5151/.cpan/build/Parse-RecDescent-1.965001-h3z7k_/blib/arch:/home/perl5151/.cpan/build/Parse-RecDescent-1.965001-h3z7k_/blib/lib:/home/perl5151/.cpan/build/Tie-ListKeyedHash-1.02-Ygpm9F/blib/arch:/home/perl5151/.cpan/build/Tie-ListKeyedHash-1.02-Ygpm9F/blib/lib:/home/perl5151/.cpan/build/Regexp-Common-2011041701-luOIvx/blib/arch:/home/perl5151/.cpan/build/Regexp-Common-2011041701-luOIvx/blib/lib:/home/perl5151/.cpan/build/String-ExpandEscapes-0.01-m8aisB/blib/arch:/home/perl5151/.cpan/build/String-ExpandEscapes-0.01-m8aisB/blib/lib:/home/perl5151/.cpan/build/Net-IPv6Addr-0.2-afy6RE/blib/arch:/home/perl5151/.cpan/build/Net-IPv6Addr-0.2-afy6RE/blib/lib:/home/perl5151/.cpan/build/Math-Base85-0.2-XWierr/blib/arch:/home/perl5151/.cpan/build/Math-Base85-0.2-XWierr/blib/lib:/home/perl5151/.cpan/build/Net-IPv4Addr-0.10-vBB8C2/blib/arch:/home/perl5151/.cpan/build/Net-IPv4Addr-0.10-vBB8C2/blib/lib:/home/perl5151/.cpan/build/Business-ISSN-0.91-l7FSjz/blib/arch:/home/perl5151/.cpan/build/Business-ISSN-0.91-l7FSjz/blib/lib:/home/perl5151/.cpan/build/HTML-Lint-2.06-CZN4WU/blib/arch:/home/perl5151/.cpan/build/HTML-Lint-2.06-CZN4WU/blib/lib:/home/perl5151/.cpan/build/Class-Maker-0.5.14-RJ4Zn6/blib/arch:/home/perl5151/.cpan/build/Class-Maker-0.5.14-RJ4Zn6/blib/lib:/home/perl5151/.cpan/build/IO-Extended-0.16-1z55aG/blib/arch:/home/perl5151/.cpan/build/IO-Extended-0.16-1z55aG/blib/lib:/home/perl5151/.cpan/build/Error-0.17016-4sq5an/blib/arch:/home/perl5151/.cpan/build/Error-0.17016-4sq5an/blib/lib:/home/perl5151/.cpan/build/Email-Valid-0.185-2cGogH/blib/arch:/home/perl5151/.cpan/build/Email-Valid-0.185-2cGogH/blib/lib:/home/perl5151/.cpan/build/Text-TabularDisplay-1.28-LmH_0K/blib/arch:/home/perl5151/.cpan/build/Text-TabularDisplay-1.28-LmH_0K/blib/lib"
PERL5OPT=""
PERL5_CPANPLUS_IS_RUNNING="31240"
PERL5_CPAN_IS_RUNNING="31240"
PERL5_CPAN_IS_RUNNING_IN_RECURSION="1804,31240"
PERLBREW_PATH="/home/tester/perl5/perlbrew/bin:/home/tester/perl5/perlbrew/perls/perl-5.15.2/bin"
PERLBREW_PERL="perl-5.15.2"
PERLBREW_ROOT="/home/tester/perl5/perlbrew"
PERLBREW_VERSION="0.15"
PERL_CR_SMOKER_CURRENT="Data-Type-0.02.02"
PERL_EXTUTILS_AUTOINSTALL="--defaultdeps"
PERL_MM_USE_DEFAULT="1"
@INC:
/home/perl5151/.cpan/build/Regexp-Box-0.02-EhTMlg/blib/arch
/home/perl5151/.cpan/build/Regexp-Box-0.02-EhTMlg/blib/lib
/home/perl5151/.cpan/build/TimeDate-1.20-wWCoxt/blib/arch
/home/perl5151/.cpan/build/TimeDate-1.20-wWCoxt/blib/lib
/home/perl5151/.cpan/build/Class-Multimethods-1.70-j9izpJ/blib/arch
/home/perl5151/.cpan/build/Class-Multimethods-1.70-j9izpJ/blib/lib
/home/perl5151/.cpan/build/Business-CINS-1.13-IObAW5/blib/arch
/home/perl5151/.cpan/build/Business-CINS-1.13-IObAW5/blib/lib
/home/perl5151/.cpan/build/Algorithm-LUHN-1.00-OPD8uN/blib/arch
/home/perl5151/.cpan/build/Algorithm-LUHN-1.00-OPD8uN/blib/lib
/home/perl5151/.cpan/build/Business-UPC-0.04-zxzDkb/blib/arch
/home/perl5151/.cpan/build/Business-UPC-0.04-zxzDkb/blib/lib
/home/perl5151/.cpan/build/Business-CreditCard-0.31-sZQ3ec/blib/arch
/home/perl5151/.cpan/build/Business-CreditCard-0.31-sZQ3ec/blib/lib
/home/perl5151/.cpan/build/Attribute-Util-1.06-dm3Psp/blib/arch
/home/perl5151/.cpan/build/Attribute-Util-1.06-dm3Psp/blib/lib
/home/perl5151/.cpan/build/Locale-SubCountry-1.47-1vCnic/blib/arch
/home/perl5151/.cpan/build/Locale-SubCountry-1.47-1vCnic/blib/lib
/home/perl5151/.cpan/build/X500-DN-0.29-oCzGLP/blib/arch
/home/perl5151/.cpan/build/X500-DN-0.29-oCzGLP/blib/lib
/home/perl5151/.cpan/build/Parse-RecDescent-1.965001-h3z7k_/blib/arch
/home/perl5151/.cpan/build/Parse-RecDescent-1.965001-h3z7k_/blib/lib
/home/perl5151/.cpan/build/Tie-ListKeyedHash-1.02-Ygpm9F/blib/arch
/home/perl5151/.cpan/build/Tie-ListKeyedHash-1.02-Ygpm9F/blib/lib
/home/perl5151/.cpan/build/Regexp-Common-2011041701-luOIvx/blib/arch
/home/perl5151/.cpan/build/Regexp-Common-2011041701-luOIvx/blib/lib
/home/perl5151/.cpan/build/String-ExpandEscapes-0.01-m8aisB/blib/arch
/home/perl5151/.cpan/build/String-ExpandEscapes-0.01-m8aisB/blib/lib
/home/perl5151/.cpan/build/Net-IPv6Addr-0.2-afy6RE/blib/arch
/home/perl5151/.cpan/build/Net-IPv6Addr-0.2-afy6RE/blib/lib
/home/perl5151/.cpan/build/Math-Base85-0.2-XWierr/blib/arch
/home/perl5151/.cpan/build/Math-Base85-0.2-XWierr/blib/lib
/home/perl5151/.cpan/build/Net-IPv4Addr-0.10-vBB8C2/blib/arch
/home/perl5151/.cpan/build/Net-IPv4Addr-0.10-vBB8C2/blib/lib
/home/perl5151/.cpan/build/Business-ISSN-0.91-l7FSjz/blib/arch
/home/perl5151/.cpan/build/Business-ISSN-0.91-l7FSjz/blib/lib
/home/perl5151/.cpan/build/HTML-Lint-2.06-CZN4WU/blib/arch
/home/perl5151/.cpan/build/HTML-Lint-2.06-CZN4WU/blib/lib
/home/perl5151/.cpan/build/Class-Maker-0.5.14-RJ4Zn6/blib/arch
/home/perl5151/.cpan/build/Class-Maker-0.5.14-RJ4Zn6/blib/lib
/home/perl5151/.cpan/build/IO-Extended-0.16-1z55aG/blib/arch
/home/perl5151/.cpan/build/IO-Extended-0.16-1z55aG/blib/lib
/home/perl5151/.cpan/build/Error-0.17016-4sq5an/blib/arch
/home/perl5151/.cpan/build/Error-0.17016-4sq5an/blib/lib
/home/perl5151/.cpan/build/Email-Valid-0.185-2cGogH/blib/arch
/home/perl5151/.cpan/build/Email-Valid-0.185-2cGogH/blib/lib
/home/perl5151/.cpan/build/Text-TabularDisplay-1.28-LmH_0K/blib/arch
/home/perl5151/.cpan/build/Text-TabularDisplay-1.28-LmH_0K/blib/lib
/home/perl5151/testing/lib/site_perl/5.15.1/x86_64-linux-thread-multi
/home/perl5151/testing/lib/site_perl/5.15.1
/home/perl5151/testing/lib/5.15.1/x86_64-linux-thread-multi
/home/perl5151/testing/lib/5.15.1
.