Report for Data-Session-1.15

Back
From: metabase:user:30f4dfbe-2aae-11df-837a-5e0a49663a4f
Subject: PASS Data-Session-1.15 v5.14.3 Mac OS X
Date: 2013-06-23T07:17:05Z

This distribution has been tested as part of the CPAN Testers
project, supporting the Perl programming language.  See
http://wiki.cpantesters.org/ for more information or email
questions to cpan-testers-discuss@perl.org


--
Dear Ron Savage,

This is a computer-generated report for Data-Session-1.15
on perl 5.14.3, created by CPAN-Reporter-1.2010.

Thank you for uploading your work to CPAN.  Congratulations!
All tests were successful.

Sections of this report:

    * Tester comments
    * Program output
    * Prerequisites
    * Environment and other context

------------------------------
TESTER COMMENTS
------------------------------

Additional comments from tester:

this report is from an automated smoke testing program
and was not reviewed by a human for accuracy

------------------------------
PROGRAM OUTPUT
------------------------------

Output from './Build test':

# Test: File.1. DSN: dbi:File:. ID generator: AutoIncrement. Serializer: DataDumper
# id 1: 1182
# Test: File.1. DSN: dbi:File:. ID generator: AutoIncrement. Serializer: FreezeThaw
# id 1: 1188
# Test: File.1. DSN: dbi:File:. ID generator: AutoIncrement. Serializer: JSON
# id 1: 1194
# Test: File.1. DSN: dbi:File:. ID generator: AutoIncrement. Serializer: Storable
# id 1: 1200
# Test: File.1. DSN: dbi:File:. ID generator: AutoIncrement. Serializer: YAML
# id 1: 1206
# Test: File.1. DSN: dbi:File:. ID generator: MD5. Serializer: DataDumper
# id 1: 4edc47651871e2103ba5d3faf23abdf9
# Test: File.1. DSN: dbi:File:. ID generator: MD5. Serializer: FreezeThaw
# id 1: f6d77327b0709e2e6c034b6fe6873f57
# Test: File.1. DSN: dbi:File:. ID generator: MD5. Serializer: JSON
# id 1: a354cdff45b11458a2c8ae61a58848e1
# Test: File.1. DSN: dbi:File:. ID generator: MD5. Serializer: Storable
# id 1: a876d3764679a9d32e8a2cc5ac70155e
# Test: File.1. DSN: dbi:File:. ID generator: MD5. Serializer: YAML
# id 1: 2981925675e5b70b3115c93dc1128969
# Test: File.1. DSN: dbi:File:. ID generator: SHA1. Serializer: DataDumper
# id 1: 208113827143a79de377c55cfc072a615161e3fc
# Test: File.1. DSN: dbi:File:. ID generator: SHA1. Serializer: FreezeThaw
# id 1: e70b4dcfebbc2d07cddb523a4194317ef601ce9a
# Test: File.1. DSN: dbi:File:. ID generator: SHA1. Serializer: JSON
# id 1: 2e057fcc1022ba0db8fb262f304b656470225ca1
# Test: File.1. DSN: dbi:File:. ID generator: SHA1. Serializer: Storable
# id 1: 4173c1e59428968060e9f5db420a2c16244c7cba
# Test: File.1. DSN: dbi:File:. ID generator: SHA1. Serializer: YAML
# id 1: dafbc45130d2819104425a8a458bf8aea27f7581
# Test: File.1. DSN: dbi:File:. ID generator: SHA256. Serializer: DataDumper
# id 1: 917ca046f7ec8173f074012883c534ba9c1ccb36e07a2b405b4c476f72939339
# Test: File.1. DSN: dbi:File:. ID generator: SHA256. Serializer: FreezeThaw
# id 1: e57cd97437372caf51400794fea10b856152c778e39fd1dd02781386ac4f35a4
# Test: File.1. DSN: dbi:File:. ID generator: SHA256. Serializer: JSON
# id 1: 3ef27ce45081590bc1ae7b90157fa048b24dcde421bb4f8c4414e95463877e63
# Test: File.1. DSN: dbi:File:. ID generator: SHA256. Serializer: Storable
# id 1: f01261c51d56201ac30aaa3b99109713ffee04b0e6b7d4bc649305df9c69100f
# Test: File.1. DSN: dbi:File:. ID generator: SHA256. Serializer: YAML
# id 1: d6edf32c7de74ac54f8e27a10dc06970ced39edd51f854865f8030a106701f6b
# Test: File.1. DSN: dbi:File:. ID generator: SHA512. Serializer: DataDumper
# id 1: aca47dac94d719597ec38438bf2aa78ee1c3dade925dfe2a9b7d7a44e70df33420f42b93e795a76a9efa858fbd5054bcecf556221f6be35ed4c4fe301b67a5a5
# Test: File.1. DSN: dbi:File:. ID generator: SHA512. Serializer: FreezeThaw
# id 1: 0ac161e16fa6676a9f5fe2bf16454b5bf7486f26467ff9199a1c390b4fd8aa0e43496206dcffd16efd1180ca4fd34c2f8219683dae18de07fdfd576dbfddaab5
# Test: File.1. DSN: dbi:File:. ID generator: SHA512. Serializer: JSON
# id 1: 57481db98009ccc7914edd0a2a985160fa6dfcbd259312c48b2bfb9bf7e0c5def31d9486940cfb528cd505521384ab4a1039f6cbd7cb7aae6b47df2e9c07f5d9
# Test: File.1. DSN: dbi:File:. ID generator: SHA512. Serializer: Storable
# id 1: 22e14c8bee30665d7980393bd0af457d7db92f60ab3f9bc47806711e61d382c9a6d774d8eea7a4af0f984e3f4bb4d1e2297726b125467729c7316b3db7c849e0
# Test: File.1. DSN: dbi:File:. ID generator: SHA512. Serializer: YAML
# id 1: 5f9f8e90371738c249c1d715d16aaf0601a3fea9abb29c42281860314c226c7d2fd751f8ee3f134d6953d0c665c68d658809d71ddf797e7351ecc61faf1cd2e4
# Test: File.1. DSN: dbi:File:. ID generator: Static. Serializer: DataDumper
# id 1: 1234
# Test: File.1. DSN: dbi:File:. ID generator: Static. Serializer: FreezeThaw
# id 1: 1234
# Test: File.1. DSN: dbi:File:. ID generator: Static. Serializer: JSON
# id 1: 1234
# Test: File.1. DSN: dbi:File:. ID generator: Static. Serializer: Storable
# id 1: 1234
# Test: File.1. DSN: dbi:File:. ID generator: Static. Serializer: YAML
# id 1: 1234
# Test: File.1. DSN: dbi:File:. ID generator: UUID34. Serializer: DataDumper
# id 1: 0xE46785B2DBD411E29488E62E8EF321F5
# Test: File.1. DSN: dbi:File:. ID generator: UUID34. Serializer: FreezeThaw
# id 1: 0xE468EFD8DBD411E29488E62E8EF321F5
# Test: File.1. DSN: dbi:File:. ID generator: UUID34. Serializer: JSON
# id 1: 0xE46A0850DBD411E29488E62E8EF321F5
# Test: File.1. DSN: dbi:File:. ID generator: UUID34. Serializer: Storable
# id 1: 0xE46B1510DBD411E29488E62E8EF321F5
# Test: File.1. DSN: dbi:File:. ID generator: UUID34. Serializer: YAML
# id 1: 0xE46C2810DBD411E29488E62E8EF321F5
# Test: File.1. DSN: dbi:File:. ID generator: UUID36. Serializer: DataDumper
# id 1: E46D6EBE-DBD4-11E2-9488-E62E8EF321F5
# Test: File.1. DSN: dbi:File:. ID generator: UUID36. Serializer: FreezeThaw
# id 1: E46EC494-DBD4-11E2-9488-E62E8EF321F5
# Test: File.1. DSN: dbi:File:. ID generator: UUID36. Serializer: JSON
# id 1: E46FE0D6-DBD4-11E2-9488-E62E8EF321F5
# Test: File.1. DSN: dbi:File:. ID generator: UUID36. Serializer: Storable
# id 1: E470F41C-DBD4-11E2-9488-E62E8EF321F5
# Test: File.1. DSN: dbi:File:. ID generator: UUID36. Serializer: YAML
# id 1: E471F632-DBD4-11E2-9488-E62E8EF321F5
# Skipping dsn 'dbi:SQLite:dbname=/tmp/sessions.sqlite' because the SQLite directory does not exist
# 
# Testing HTTP header generation
# 
# Testing expire the session. Sleeping for 1 second ...
# Expiring id: E473C64C-DBD4-11E2-9488-E62E8EF321F5
# 
# Testing expire a session parameter. Sleeping for 1 second ...
t/basic.t ..... ok
t/pod.t ....... ok
# DSN name: File.1. DSN: dbi:File:. ID generator: MD5. Serializer: DataDumper
# id1: 7704eb1bd96bd0c75fbbe062282abf96
# 1: Recovered known id 30bdd82173322eea621955f2d87ed4fd from traverse
# 2: Recovered known id 35821d42e6ab329b0842a0cd49c4eb78 from traverse
# 3: Recovered known id 5d3bd473479a0bb0199093a7e3890645 from traverse
# 4: Recovered known id 870e1224b6e963d465a659f26d58dc04 from traverse
# Skipping dsn 'dbi:SQLite:dbname=/tmp/sessions.sqlite' because the SQLite directory does not exist
t/traverse.t .. ok
All tests successful.
Files=3, Tests=80,  7 wallclock secs ( 0.06 usr  0.01 sys +  0.73 cusr  0.08 csys =  0.88 CPU)
Result: PASS

------------------------------
PREREQUISITES
------------------------------

Prerequisite modules loaded:

requires:

    Module                   Need    Have   
    ------------------------ ------- -------
    autovivification         0       0.11   
    CGI                      3.63    3.63   
    Class::Load              0.19    0.20   
    Config::Tiny             2.14    2.14   
    Data::Dumper             2.145   2.145  
    Data::UUID               1.218   1.218  
    DBD::SQLite              1.39    1.39   
    DBI                      1.627   1.627  
    DBIx::Admin::CreateTable 2.07    2.07   
    Digest::MD5              2.52    2.52   
    Digest::SHA              5.84    5.84   
    Fcntl                    1.06    1.11   
    File::Basename           2.77    2.82   
    File::Path               2.07    2.09   
    File::Slurp              9999.19 9999.19
    File::Spec               3.3     3.40   
    File::Temp               0.22    0.2301 
    FreezeThaw               0.5001  0.5001 
    Hash::FieldHash          0.14    0.14   
    JSON                     2.59    2.59   
    overload                 0       1.13   
    parent                   0       0.225  
    Safe                     2.35    2.35   
    Scalar::Util             1.27    1.27   
    Storable                 2.39    2.39   
    strict                   0       1.04   
    Try::Tiny                0.12    0.12   
    vars                     0       1.02   
    warnings                 0       1.12   
    YAML::Tiny               1.51    1.51   

build_requires:

    Module                   Need    Have   
    ------------------------ ------- -------
    Config::Tiny             2.14    2.14   
    DBIx::Admin::CreateTable 2.07    2.07   
    Test::More               0.92    0.98   

configure_requires:

    Module                   Need    Have   
    ------------------------ ------- -------
    Module::Build            0.38    0.4005 


------------------------------
ENVIRONMENT AND OTHER CONTEXT
------------------------------

Environment variables:

    AUTOMATED_TESTING = 1
    LC_ALL = POSIX
    LD_LIBRARY_PATH = :/net/traces01.be-md.ncbi.nlm.nih.gov/trace_software/vdb/mac/release/x86_64/lib
    PATH = /Users/hornenj/perl5/perlbrew/bin:/Users/hornenj/perl5/perlbrew/perls/perl-5.14.3/bin:/Users/hornenj/perl5/perlbrew/bin:/Users/hornenj/perl5/perlbrew/perls/perl-5.12.5/bin:/sw/lib/perl5/ExtUtils:/sw/bin:/sw/sbin:/am/ncbiapdata/bin:/usr/bin:/bin:/usr/X11R6/bin:/Users/hornenj/bin:/netopt/ncbi_tools/bin:/usr/local/ncbi/blast/bin:/net/traces01.be-md.ncbi.nlm.nih.gov/trace_software/vdb/mac/release/x86_64/bin
    PERL5LIB = /Users/hornenj/.cpan/build/DBIx-Admin-CreateTable-2.07-xnrBoy/blib/arch:/Users/hornenj/.cpan/build/DBIx-Admin-CreateTable-2.07-xnrBoy/blib/lib:/Users/hornenj/.cpan/build/Hash-FieldHash-0.14-Evmx_y/blib/arch:/Users/hornenj/.cpan/build/Hash-FieldHash-0.14-Evmx_y/blib/lib:/Users/hornenj/.cpan/build/Test-LeakTrace-0.14-ZSqKuc/blib/arch:/Users/hornenj/.cpan/build/Test-LeakTrace-0.14-ZSqKuc/blib/lib:/Users/hornenj/.cpan/build/FreezeThaw-0.5001-cdv3gF/blib/arch:/Users/hornenj/.cpan/build/FreezeThaw-0.5001-cdv3gF/blib/lib:/Users/hornenj/.cpan/build/autovivification-0.11-8L4q_C/blib/arch:/Users/hornenj/.cpan/build/autovivification-0.11-8L4q_C/blib/lib
    PERL5OPT = 
    PERL5_CPANPLUS_IS_RUNNING = 63521
    PERL5_CPAN_IS_RUNNING = 63521
    PERL5_MINISMOKEBOX = 0.56
    PERLBREW_BASHRC_VERSION = 0.64
    PERLBREW_HOME = /Users/hornenj/.perlbrew
    PERLBREW_MANPATH = /Users/hornenj/perl5/perlbrew/perls/perl-5.14.3/man
    PERLBREW_PATH = /Users/hornenj/perl5/perlbrew/bin:/Users/hornenj/perl5/perlbrew/perls/perl-5.14.3/bin
    PERLBREW_PERL = perl-5.14.3
    PERLBREW_ROOT = /Users/hornenj/perl5/perlbrew
    PERLBREW_VERSION = 0.64
    PERL_EXTUTILS_AUTOINSTALL = --defaultdeps
    PERL_MM_USE_DEFAULT = 1
    SHELL = /bin/bash
    TERM = xterm
    TMPDIR = /var/folders/pz/pd7y1qjs6s3cbk170cw50fjc000c61/T/
    VERSIONER_PERL_PREFER_32_BIT = no
    VERSIONER_PERL_VERSION = 5.12
    ac_cv_path_INTLTOOL_PERL = /usr/bin/perl

Perl special variables (and OS-specific diagnostics, for MSWin32):

    $^X = /Users/hornenj/perl5/perlbrew/perls/perl-5.14.3/bin/perl
    $UID/$EUID = 12481 / 12481
    $GID = 14 14 5344 527 241 223 206 402 12 62 204
    $EGID = 14 14 5344 527 241 223 206 402 12 62 204

Perl module toolchain versions installed:

    Module              Have    
    ------------------- --------
    CPAN                2.00    
    CPAN::Meta          2.131560
    Cwd                 3.40    
    ExtUtils::CBuilder  0.280205
    ExtUtils::Command   1.17    
    ExtUtils::Install   1.56    
    ExtUtils::MakeMaker 6.68    
    ExtUtils::Manifest  1.61    
    ExtUtils::ParseXS   3.18    
    File::Spec          3.40    
    JSON                2.59    
    JSON::PP            2.27202 
    Module::Build       0.4005  
    Module::Signature   n/a     
    Parse::CPAN::Meta   1.4404  
    Test::Harness       3.28    
    Test::More          0.98    
    YAML                0.84    
    YAML::Syck          1.27    
    version             0.9902  


--

Summary of my perl5 (revision 5 version 14 subversion 3) configuration:
   
  Platform:
    osname=darwin, osvers=12.2.1, archname=darwin-2level
    uname='darwin ncbimac2008.ncbi.nlm.nih.gov 12.2.1 darwin kernel version 12.2.1: thu oct 18 12:13:47 pdt 2012; root:xnu-2050.20.9~1release_x86_64 x86_64 '
    config_args='-de -Dprefix=/Users/hornenj/perl5/perlbrew/perls/perl-5.14.3'
    hint=recommended, useposix=true, d_sigaction=define
    useithreads=undef, usemultiplicity=undef
    useperlio=define, d_sfio=undef, uselargefiles=define, usesocks=undef
    use64bitint=define, use64bitall=define, uselongdouble=undef
    usemymalloc=n, bincompat5005=undef
  Compiler:
    cc='cc', ccflags ='-fno-common -DPERL_DARWIN -fno-strict-aliasing -pipe -fstack-protector',
    optimize='-O3',
    cppflags='-fno-common -DPERL_DARWIN -fno-strict-aliasing -pipe -fstack-protector'
    ccversion='', gccversion='4.2.1 Compatible Apple LLVM 4.2 (clang-425.0.24)', gccosandvers=''
    intsize=4, longsize=8, ptrsize=8, doublesize=8, byteorder=12345678
    d_longlong=define, longlongsize=8, d_longdbl=define, longdblsize=16
    ivtype='long', ivsize=8, nvtype='double', nvsize=8, Off_t='off_t', lseeksize=8
    alignbytes=8, prototype=define
  Linker and Libraries:
    ld='env MACOSX_DEPLOYMENT_TARGET=10.3 cc', ldflags =' -fstack-protector'
    libpth=/usr/lib
    libs=-ldbm -ldl -lm -lutil -lc
    perllibs=-ldl -lm -lutil -lc
    libc=, so=dylib, useshrplib=false, libperl=libperl.a
    gnulibc_version=''
  Dynamic Linking:
    dlsrc=dl_dlopen.xs, dlext=bundle, d_dlsymun=undef, ccdlflags=' '
    cccdlflags=' ', lddlflags=' -bundle -undefined dynamic_lookup -fstack-protector'


Characteristics of this binary (from libperl): 
  Compile-time options: PERL_DONT_CREATE_GVSV PERL_MALLOC_WRAP
                        PERL_PRESERVE_IVUV USE_64_BIT_ALL USE_64_BIT_INT
                        USE_LARGE_FILES USE_PERLIO USE_PERL_ATOF
  Built under darwin
  Compiled at Mar  4 2013 17:42:44
  %ENV:
    PERL5LIB="/Users/hornenj/.cpan/build/DBIx-Admin-CreateTable-2.07-xnrBoy/blib/arch:/Users/hornenj/.cpan/build/DBIx-Admin-CreateTable-2.07-xnrBoy/blib/lib:/Users/hornenj/.cpan/build/Hash-FieldHash-0.14-Evmx_y/blib/arch:/Users/hornenj/.cpan/build/Hash-FieldHash-0.14-Evmx_y/blib/lib:/Users/hornenj/.cpan/build/Test-LeakTrace-0.14-ZSqKuc/blib/arch:/Users/hornenj/.cpan/build/Test-LeakTrace-0.14-ZSqKuc/blib/lib:/Users/hornenj/.cpan/build/FreezeThaw-0.5001-cdv3gF/blib/arch:/Users/hornenj/.cpan/build/FreezeThaw-0.5001-cdv3gF/blib/lib:/Users/hornenj/.cpan/build/autovivification-0.11-8L4q_C/blib/arch:/Users/hornenj/.cpan/build/autovivification-0.11-8L4q_C/blib/lib"
    PERL5OPT=""
    PERL5_CPANPLUS_IS_RUNNING="63521"
    PERL5_CPAN_IS_RUNNING="63521"
    PERL5_MINISMOKEBOX="0.56"
    PERLBREW_BASHRC_VERSION="0.64"
    PERLBREW_HOME="/Users/hornenj/.perlbrew"
    PERLBREW_MANPATH="/Users/hornenj/perl5/perlbrew/perls/perl-5.14.3/man"
    PERLBREW_PATH="/Users/hornenj/perl5/perlbrew/bin:/Users/hornenj/perl5/perlbrew/perls/perl-5.14.3/bin"
    PERLBREW_PERL="perl-5.14.3"
    PERLBREW_ROOT="/Users/hornenj/perl5/perlbrew"
    PERLBREW_VERSION="0.64"
    PERL_EXTUTILS_AUTOINSTALL="--defaultdeps"
    PERL_MM_USE_DEFAULT="1"
  @INC:
    /Users/hornenj/.cpan/build/DBIx-Admin-CreateTable-2.07-xnrBoy/blib/arch
    /Users/hornenj/.cpan/build/DBIx-Admin-CreateTable-2.07-xnrBoy/blib/lib
    /Users/hornenj/.cpan/build/Hash-FieldHash-0.14-Evmx_y/blib/arch
    /Users/hornenj/.cpan/build/Hash-FieldHash-0.14-Evmx_y/blib/lib
    /Users/hornenj/.cpan/build/Test-LeakTrace-0.14-ZSqKuc/blib/arch
    /Users/hornenj/.cpan/build/Test-LeakTrace-0.14-ZSqKuc/blib/lib
    /Users/hornenj/.cpan/build/FreezeThaw-0.5001-cdv3gF/blib/arch
    /Users/hornenj/.cpan/build/FreezeThaw-0.5001-cdv3gF/blib/lib
    /Users/hornenj/.cpan/build/autovivification-0.11-8L4q_C/blib/arch
    /Users/hornenj/.cpan/build/autovivification-0.11-8L4q_C/blib/lib
    /Users/hornenj/perl5/perlbrew/perls/perl-5.14.3/lib/site_perl/5.14.3/darwin-2level
    /Users/hornenj/perl5/perlbrew/perls/perl-5.14.3/lib/site_perl/5.14.3
    /Users/hornenj/perl5/perlbrew/perls/perl-5.14.3/lib/5.14.3/darwin-2level
    /Users/hornenj/perl5/perlbrew/perls/perl-5.14.3/lib/5.14.3
    .