Alien-sqlite v1.07 Perl 5 v5.37.5 x86_64-linux-ld

Status
Pass
From
Andreas J. König (ANDK)
Dist
Alien-sqlite v1.07
Platform
Perl 5 v5.37.5 x86_64-linux-ld
Date
2022-10-31 18:43:28
ID
e8c0041e-594b-11ed-938c-062e18b0c58d
This distribution has been tested as part of the CPAN Testers
project, supporting the Perl programming language.  See
http://wiki.cpantesters.org/ for more information or email
questions to cpan-testers-discuss@perl.org


--
Dear Shawn Laffan,

This is a computer-generated report for Alien-sqlite-1.07
on perl 5.37.5, created by CPAN-Reporter-1.2018.

Thank you for uploading your work to CPAN.  Congratulations!
All tests were successful.

Sections of this report:

    * Tester comments
    * Program output
    * Prerequisites
    * Environment and other context

------------------------------
TESTER COMMENTS
------------------------------

Additional comments from tester:

this report is from an automated smoke testing program
and was not reviewed by a human for accuracy

------------------------------
PROGRAM OUTPUT
------------------------------

Output from '/usr/bin/make test':

"/tmp/basesmoker-reloperl-yefZ/bin/perl" -MAlien::Build::MM=cmd -e test
Alien::Build::Plugin::PkgConfig::Negotiate> Using PkgConfig plugin: PkgConfig::CommandLine
Downloaded version is 3.39.3
Running under CI or automated testing
PERL_DL_NONLAZY=1 "/tmp/basesmoker-reloperl-yefZ/bin/perl" "-MExtUtils::Command::MM" "-MTest::Harness" "-e" "undef *Test::Harness::Switches; test_harness(0, 'blib/lib', 'blib/arch')" t/*.t
# Testing Alien::sqlite 1.07, Perl 5.037005, /tmp/basesmoker-reloperl-yefZ/bin/perl
t/00-load.t .... ok
# NAME=sqlite3
# VERSION=3.39.3
# CFLAGS: -I/tmp/loop_over_bdir-2056195-Zm5mnY/Alien-sqlite-1.07-0/blib/lib/auto/share/dist/Alien-sqlite/include
t/01-config.t .. ok
# libs: -L/tmp/loop_over_bdir-2056195-Zm5mnY/Alien-sqlite-1.07-0/blib/lib/auto/share/dist/Alien-sqlite/lib -lsqlite3
# cflags: -I/tmp/loop_over_bdir-2056195-Zm5mnY/Alien-sqlite-1.07-0/blib/lib/auto/share/dist/Alien-sqlite/include
# Dynamic libs: /tmp/loop_over_bdir-2056195-Zm5mnY/Alien-sqlite-1.07-0/blib/lib/auto/share/dist/Alien-sqlite/lib/libsqlite3.so:/tmp/loop_over_bdir-2056195-Zm5mnY/Alien-sqlite-1.07-0/blib/lib/auto/share/dist/Alien-sqlite/lib/libsqlite3.so.0:/tmp/loop_over_bdir-2056195-Zm5mnY/Alien-sqlite-1.07-0/blib/lib/auto/share/dist/Alien-sqlite/lib/libsqlite3.so.0.8.6
# bin dir: /tmp/loop_over_bdir-2056195-Zm5mnY/Alien-sqlite-1.07-0/blib/lib/auto/share/dist/Alien-sqlite/bin
t/02-use.t ..... ok
# bin dir: /tmp/loop_over_bdir-2056195-Zm5mnY/Alien-sqlite-1.07-0/blib/lib/auto/share/dist/Alien-sqlite/bin
# /tmp/loop_over_bdir-2056195-Zm5mnY/Alien-sqlite-1.07-0/blib/lib/auto/share/dist/Alien-sqlite/bin/sqlite3 exited with value 0
# sqlite3 -version: 3.39.3 2022-09-05 11:02:23 4635f4a69c8c2a8df242b384a992aea71224e39a2ccab42d8c0b0602f1e826e8
t/03-run.t ..... ok
All tests successful.

Test Summary Report
-------------------
t/02-use.t   (Wstat: 0 Tests: 3 Failed: 0)
  TODO passed:   3
Files=4, Tests=9,  2 wallclock secs ( 0.03 usr  0.03 sys +  0.88 cusr  0.18 csys =  1.12 CPU)
Result: PASS

------------------------------
PREREQUISITES
------------------------------

Prerequisite modules loaded:

requires:

    Module                                  Need    Have    
    --------------------------------------- ------- --------
    Alien::Base                             1.41    2.72    
    Alien::Build                            1.74    2.72    
    FFI::CheckLib                           0.23    0.31    

build_requires:

    Module                                  Need    Have    
    --------------------------------------- ------- --------
    Alien::Build                            2.25    2.72    
    Alien::Build::MM                        1.74    2.72    
    Alien::Build::Plugin::Cleanse::BuildDir 0       0.06    
    Archive::Tar                            0       2.40    
    Config                                  0       5.037005
    ExtUtils::MakeMaker                     6.52    7.64    
    FFI::CheckLib                           0.23    0.31    
    File::Find::Rule                        0       0.34    
    HTTP::Tiny                              0.044   0.082   
    IO::Socket::SSL                         1.56    2.075   
    IO::Zlib                                0       1.11    
    Mojo::DOM58                             1.00    3.001   
    Mozilla::CA                             0       20211001
    Net::SSLeay                             1.49    1.92    
    PkgConfig                               0.19026 0.25026 
    Sort::Versions                          0       1.62    
    Test::Alien                             0       2.72    
    URI                                     0       5.16    
    URI::Escape                             0       5.16    

configure_requires:

    Module                                  Need    Have    
    --------------------------------------- ------- --------
    Alien::Build                            2.25    2.72    
    Alien::Build::MM                        1.74    2.72    
    Alien::Build::Plugin::Cleanse::BuildDir 0       0.06    
    ExtUtils::MakeMaker                     6.52    7.64    
    File::Find::Rule                        0       0.34    
    PkgConfig                               0       0.25026 
    Sort::Versions                          0       1.62    


------------------------------
ENVIRONMENT AND OTHER CONTEXT
------------------------------

Environment variables:

    AUTOMATED_TESTING = 1
    LANG = en_US.UTF-8
    LC_ADDRESS = de_DE.UTF-8
    LC_IDENTIFICATION = de_DE.UTF-8
    LC_MEASUREMENT = de_DE.UTF-8
    LC_MONETARY = de_DE.UTF-8
    LC_NAME = de_DE.UTF-8
    LC_NUMERIC = de_DE.UTF-8
    LC_PAPER = de_DE.UTF-8
    LC_TELEPHONE = de_DE.UTF-8
    LC_TIME = de_DE.UTF-8
    PATH = /home/sand/bin:/usr/local/bin:/usr/local/sbin:/usr/sbin:/usr/bin:/sbin:/bin:/usr/games:/usr/local/games:/snap/bin:/usr/local/perl/bin:/usr/X11/bin
    PERL = /tmp/basesmoker-reloperl-yefZ/bin/perl
    PERL5LIB = /tmp/loop_over_bdir-2056195-Zm5mnY/DBIx-Migration-Directories-0.12-0/blib/arch:/tmp/loop_over_bdir-2056195-Zm5mnY/DBIx-Migration-Directories-0.12-0/blib/lib:/tmp/loop_over_bdir-2056195-Zm5mnY/App-rmcd-0.280-0/blib/arch:/tmp/loop_over_bdir-2056195-Zm5mnY/App-rmcd-0.280-0/blib/lib:/tmp/loop_over_bdir-2056195-Zm5mnY/Dpkg-1.21.9-0/blib/arch:/tmp/loop_over_bdir-2056195-Zm5mnY/Dpkg-1.21.9-0/blib/lib:/tmp/loop_over_bdir-2056195-Zm5mnY/AllKnowingDNS-1.7-0/blib/arch:/tmp/loop_over_bdir-2056195-Zm5mnY/AllKnowingDNS-1.7-0/blib/lib:/tmp/loop_over_bdir-2056195-Zm5mnY/Lingua-YaTeA-0.626-0/blib/arch:/tmp/loop_over_bdir-2056195-Zm5mnY/Lingua-YaTeA-0.626-0/blib/lib:/tmp/loop_over_bdir-2056195-Zm5mnY/shishi-0.0.1-0/blib/arch:/tmp/loop_over_bdir-2056195-Zm5mnY/shishi-0.0.1-0/blib/lib:/tmp/loop_over_bdir-2056195-Zm5mnY/Devel-Required-0.16-0/blib/arch:/tmp/loop_over_bdir-2056195-Zm5mnY/Devel-Required-0.16-0/blib/lib
    PERL5OPT = 
    PERL5_CPANPLUS_IS_RUNNING = 2056203
    PERL5_CPAN_IS_RUNNING = 2056203
    PERL_CANARY_STABILITY_NOPROMPT = 1
    PERL_MM_USE_DEFAULT = 1
    PERL_USE_UNSAFE_INC = 1
    SHELL = /usr/bin/zsh
    TERM = screen

Perl special variables (and OS-specific diagnostics, for MSWin32):

    $^X = /tmp/basesmoker-reloperl-yefZ/bin/perl
    $UID/$EUID = 1005 / 1005
    $GID = 1005 1005
    $EGID = 1005 1005

Perl module toolchain versions installed:

    Module              Have    
    ------------------- --------
    CPAN                2.34    
    CPAN::Meta          2.150010
    Cwd                 3.86    
    ExtUtils::CBuilder  0.280237
    ExtUtils::Command   7.64    
    ExtUtils::Install   2.20    
    ExtUtils::MakeMaker 7.64    
    ExtUtils::Manifest  1.73    
    ExtUtils::ParseXS   3.46    
    File::Spec          3.87    
    JSON                4.10    
    JSON::PP            4.12    
    Module::Build       0.4231  
    Module::Signature   0.88    
    Parse::CPAN::Meta   2.150010
    Test::Harness       3.44    
    Test::More          1.302191
    YAML                1.30    
    YAML::Syck          1.34    
    version             0.9929  


--

Summary of my perl5 (revision 5 version 37 subversion 5) configuration:
  Commit id: 064941484781d9099db0bbe7d6ea22a826df1e15
  Platform:
    osname=linux
    osvers=5.15.0-50-generic
    archname=x86_64-linux-ld
    uname='linux k93jammy 5.15.0-50-generic #56-ubuntu smp tue sep 20 13:23:26 utc 2022 x86_64 x86_64 x86_64 gnulinux '
    config_args='-Dprefix=/home/sand/src/perl/repoperls/installed-perls/host/k93jammy/v5.37.4-160-g0649414847/5674 -Dmyhostname=k93jammy -Dinstallusrbinperl=n -Uversiononly -Dusedevel -des -Ui_db -Dlibswanted=cl pthread socket inet nsl gdbm dbm malloc dl ld sun m crypt sec util c cposix posix ucb BSD gdbm_compat -Uuseithreads -Duselongdouble -DEBUGGING=-g'
    hint=recommended
    useposix=true
    d_sigaction=define
    useithreads=undef
    usemultiplicity=undef
    use64bitint=define
    use64bitall=define
    uselongdouble=define
    usemymalloc=n
    default_inc_excludes_dot=define
  Compiler:
    cc='cc'
    ccflags ='-fwrapv -fno-strict-aliasing -pipe -fstack-protector-strong -I/usr/local/include -D_LARGEFILE_SOURCE -D_FILE_OFFSET_BITS=64'
    optimize='-O2 -g'
    cppflags='-fwrapv -fno-strict-aliasing -pipe -fstack-protector-strong -I/usr/local/include'
    ccversion=''
    gccversion='11.3.0'
    gccosandvers=''
    intsize=4
    longsize=8
    ptrsize=8
    doublesize=8
    byteorder=12345678
    doublekind=3
    d_longlong=define
    longlongsize=8
    d_longdbl=define
    longdblsize=16
    longdblkind=3
    ivtype='long'
    ivsize=8
    nvtype='long double'
    nvsize=16
    Off_t='off_t'
    lseeksize=8
    alignbytes=16
    prototype=define
  Linker and Libraries:
    ld='cc'
    ldflags =' -fstack-protector-strong -L/usr/local/lib'
    libpth=/usr/local/lib /usr/lib/x86_64-linux-gnu /usr/lib /usr/lib64
    libs=-lpthread -lnsl -ldl -lm -lcrypt -lutil -lc
    perllibs=-lpthread -lnsl -ldl -lm -lcrypt -lutil -lc
    libc=/lib/x86_64-linux-gnu/libc.so.6
    so=so
    useshrplib=false
    libperl=libperl.a
    gnulibc_version='2.35'
  Dynamic Linking:
    dlsrc=dl_dlopen.xs
    dlext=so
    d_dlsymun=undef
    ccdlflags='-Wl,-E'
    cccdlflags='-fPIC'
    lddlflags='-shared -O2 -g -L/usr/local/lib -fstack-protector-strong'


Characteristics of this binary (from libperl): 
  Compile-time options:
    HAS_TIMES
    PERLIO_LAYERS
    PERL_COPY_ON_WRITE
    PERL_DONT_CREATE_GVSV
    PERL_HASH_FUNC_SIPHASH13
    PERL_HASH_USE_SBOX32
    PERL_MALLOC_WRAP
    PERL_OP_PARENT
    PERL_PRESERVE_IVUV
    PERL_USE_DEVEL
    PERL_USE_SAFE_PUTENV
    USE_64_BIT_ALL
    USE_64_BIT_INT
    USE_LARGE_FILES
    USE_LOCALE
    USE_LOCALE_COLLATE
    USE_LOCALE_CTYPE
    USE_LOCALE_NUMERIC
    USE_LOCALE_TIME
    USE_LONG_DOUBLE
    USE_PERLIO
    USE_PERL_ATOF
  Built under linux
  Compiled at Oct 29 2022 19:33:37
  %ENV:
    PERL="/tmp/basesmoker-reloperl-yefZ/bin/perl"
    PERL5LIB="/tmp/loop_over_bdir-2056195-Zm5mnY/DBIx-Migration-Directories-0.12-0/blib/arch:/tmp/loop_over_bdir-2056195-Zm5mnY/DBIx-Migration-Directories-0.12-0/blib/lib:/tmp/loop_over_bdir-2056195-Zm5mnY/App-rmcd-0.280-0/blib/arch:/tmp/loop_over_bdir-2056195-Zm5mnY/App-rmcd-0.280-0/blib/lib:/tmp/loop_over_bdir-2056195-Zm5mnY/Dpkg-1.21.9-0/blib/arch:/tmp/loop_over_bdir-2056195-Zm5mnY/Dpkg-1.21.9-0/blib/lib:/tmp/loop_over_bdir-2056195-Zm5mnY/AllKnowingDNS-1.7-0/blib/arch:/tmp/loop_over_bdir-2056195-Zm5mnY/AllKnowingDNS-1.7-0/blib/lib:/tmp/loop_over_bdir-2056195-Zm5mnY/Lingua-YaTeA-0.626-0/blib/arch:/tmp/loop_over_bdir-2056195-Zm5mnY/Lingua-YaTeA-0.626-0/blib/lib:/tmp/loop_over_bdir-2056195-Zm5mnY/shishi-0.0.1-0/blib/arch:/tmp/loop_over_bdir-2056195-Zm5mnY/shishi-0.0.1-0/blib/lib:/tmp/loop_over_bdir-2056195-Zm5mnY/Devel-Required-0.16-0/blib/arch:/tmp/loop_over_bdir-2056195-Zm5mnY/Devel-Required-0.16-0/blib/lib"
    PERL5OPT=""
    PERL5_CPANPLUS_IS_RUNNING="2056203"
    PERL5_CPAN_IS_RUNNING="2056203"
    PERL_CANARY_STABILITY_NOPROMPT="1"
    PERL_MM_USE_DEFAULT="1"
    PERL_USE_UNSAFE_INC="1"
  @INC:
    /tmp/loop_over_bdir-2056195-Zm5mnY/DBIx-Migration-Directories-0.12-0/blib/arch
    /tmp/loop_over_bdir-2056195-Zm5mnY/DBIx-Migration-Directories-0.12-0/blib/lib
    /tmp/loop_over_bdir-2056195-Zm5mnY/App-rmcd-0.280-0/blib/arch
    /tmp/loop_over_bdir-2056195-Zm5mnY/App-rmcd-0.280-0/blib/lib
    /tmp/loop_over_bdir-2056195-Zm5mnY/Dpkg-1.21.9-0/blib/arch
    /tmp/loop_over_bdir-2056195-Zm5mnY/Dpkg-1.21.9-0/blib/lib
    /tmp/loop_over_bdir-2056195-Zm5mnY/AllKnowingDNS-1.7-0/blib/arch
    /tmp/loop_over_bdir-2056195-Zm5mnY/AllKnowingDNS-1.7-0/blib/lib
    /tmp/loop_over_bdir-2056195-Zm5mnY/Lingua-YaTeA-0.626-0/blib/arch
    /tmp/loop_over_bdir-2056195-Zm5mnY/Lingua-YaTeA-0.626-0/blib/lib
    /tmp/loop_over_bdir-2056195-Zm5mnY/shishi-0.0.1-0/blib/arch
    /tmp/loop_over_bdir-2056195-Zm5mnY/shishi-0.0.1-0/blib/lib
    /tmp/loop_over_bdir-2056195-Zm5mnY/Devel-Required-0.16-0/blib/arch
    /tmp/loop_over_bdir-2056195-Zm5mnY/Devel-Required-0.16-0/blib/lib
    /home/sand/src/perl/repoperls/installed-perls/host/k93jammy/v5.37.4-160-g0649414847/5674/lib/site_perl/5.37.5/x86_64-linux-ld
    /home/sand/src/perl/repoperls/installed-perls/host/k93jammy/v5.37.4-160-g0649414847/5674/lib/site_perl/5.37.5
    /home/sand/src/perl/repoperls/installed-perls/host/k93jammy/v5.37.4-160-g0649414847/5674/lib/5.37.5/x86_64-linux-ld
    /home/sand/src/perl/repoperls/installed-perls/host/k93jammy/v5.37.4-160-g0649414847/5674/lib/5.37.5
    .