Report for HTTP-Cookies-6.03

Back
From: metabase:user:259e1362-c848-11e1-acfa-89c38cc6bf43
Subject: PASS HTTP-Cookies-6.03 v5.22.2 GNU/Linux
Date: 2017-06-07T11:03:17Z

This distribution has been tested as part of the CPAN Testers
project, supporting the Perl programming language.  See
http://wiki.cpantesters.org/ for more information or email
questions to cpan-testers-discuss@perl.org


--
Dear Olaf Alders,

This is a computer-generated report for HTTP-Cookies-6.03
on perl 5.22.2, created by CPAN-Reporter-1.2018.

Thank you for uploading your work to CPAN.  Congratulations!
All tests were successful.

Sections of this report:

    * Tester comments
    * Program output
    * Prerequisites
    * Environment and other context

------------------------------
TESTER COMMENTS
------------------------------

Additional comments from tester:

none provided

------------------------------
PROGRAM OUTPUT
------------------------------

Output from '/usr/bin/make test':

PERL_DL_NONLAZY=1 "/pkg/perl/5.22.2-20/usr/bin/perl" "-MExtUtils::Command::MM" "-MTest::Harness" "-e" "undef *Test::Harness::Switches; test_harness(0, 'blib/lib', 'blib/arch')" t/*.t
t/10-original_spec.t ...... ok
t/11-rfc_2965.t ........... ok
t/author-tidyall.t ........ skipped: these tests are for testing by the author
t/cookies.t ............... ok
t/publicsuffix.t .......... ok
t/release-cpan-changes.t .. skipped: these tests are for release candidate testing
All tests successful.
Files=6, Tests=115,  1 wallclock secs ( 0.05 usr  0.00 sys +  0.37 cusr  0.02 csys =  0.44 CPU)
Result: PASS

------------------------------
PREREQUISITES
------------------------------

Prerequisite modules loaded:

requires:

    Module              Need     Have    
    ------------------- -------- --------
    Carp                0        1.38    
    HTTP::Date          6        6.02    
    HTTP::Headers::Util 6        6.11    
    HTTP::Request       0        6.11    
    locale              0        1.06    
    perl                5.008001 5.022002
    strict              0        1.09    
    Time::Local         0        1.25    
    vars                0        1.03    

build_requires:

    Module              Need     Have    
    ------------------- -------- --------
    ExtUtils::MakeMaker 0        7.28    
    HTTP::Response      0        6.11    
    Test                0        1.26    
    Test::More          0        1.302078
    URI                 0        1.71    
    warnings            0        1.34    

configure_requires:

    Module              Need     Have    
    ------------------- -------- --------
    ExtUtils::MakeMaker 0        7.28    


------------------------------
ENVIRONMENT AND OTHER CONTEXT
------------------------------

Environment variables:

    LANG = en_GB.UTF-8
    LC_COLLATE = C
    PATH = /root/bin:/root/bin:/usr/bin:/bin:/usr/sbin:/sbin:/usr/games
    PERL5LIB = /tmp/cpan-build/B-Hooks-OP-Check-0.21-0/blib/arch:/tmp/cpan-build/B-Hooks-OP-Check-0.21-0/blib/lib
    PERL5OPT = 
    PERL5_CPANPLUS_IS_RUNNING = 101070
    PERL5_CPAN_IS_RUNNING = 101070
    SHELL = /bin/bash
    TERM = xterm-color

Perl special variables (and OS-specific diagnostics, for MSWin32):

    $^X = /pkg/perl/5.22.2-20/usr/bin/perl
    $UID/$EUID = 0 / 0
    $GID = 0 0 1 2 3 4 6 10 11 16 25 72 73 80
    $EGID = 0 0 1 2 3 4 6 10 11 16 25 72 73 80

Perl module toolchain versions installed:

    Module              Have    
    ------------------- --------
    CPAN                2.16    
    CPAN::Meta          2.150010
    Cwd                 3.62    
    ExtUtils::CBuilder  0.280224
    ExtUtils::Command   7.28    
    ExtUtils::Install   2.14    
    ExtUtils::MakeMaker 7.28    
    ExtUtils::Manifest  1.70    
    ExtUtils::ParseXS   3.30    
    File::Spec          3.62    
    JSON                2.90    
    JSON::PP            2.27400 
    Module::Build       0.4222  
    Module::Signature   0.81    
    Parse::CPAN::Meta   2.150010
    Test::Harness       3.38    
    Test::More          1.302078
    YAML                1.23    
    YAML::Syck          1.29    
    version             0.9917  


--

Summary of my perl5 (revision 5 version 22 subversion 2) configuration:
  Local Commit: e2c46b7213f66b37f42b83e0cc75dd7d1b361ac8
  Ancestor: 1bcb402a888020b57f9faef468c2a6c36aefbb18
  Platform:
    osname=linux, osvers=4.5.2-dirty, archname=x86_64-linux-thread-multi
    uname='linux spindle 4.5.2-dirty #1 smp sun apr 24 11:54:47 bst 2016 x86_64 gnulinux '
    config_args='-d -e -Duseithreads -D privlib=/usr/lib/perl5/5.22 -D sitelib=/usr/lib/perl5/site_perl/5.22 -D optimize=-Wstrict-overflow=1 -gdwarf-4 -feliminate-unused-debug-types -fvar-tracking-assignments -feliminate-dwarf2-dups -O2 -pipe '
    hint=recommended, useposix=true, d_sigaction=define
    useithreads=define, usemultiplicity=define
    use64bitint=define, use64bitall=define, uselongdouble=undef
    usemymalloc=n, bincompat5005=undef
  Compiler:
    cc='gcc', ccflags ='-D_REENTRANT -D_GNU_SOURCE -D_REENTRANT -D_GNU_SOURCE -g -fno-strict-aliasing -D_LARGEFILE_SOURCE -D_FILE_OFFSET_BITS=64 -pipe -fstack-protector-strong -fwrapv -D_LARGEFILE_SOURCE -D_FILE_OFFSET_BITS=64 -D_FORTIFY_SOURCE=2',
    optimize='-Wstrict-overflow=1 -gdwarf-4 -feliminate-unused-debug-types -fvar-tracking-assignments -feliminate-dwarf2-dups -O2 -pipe ',
    cppflags='-D_REENTRANT -D_GNU_SOURCE -D_REENTRANT -D_GNU_SOURCE -g -fno-strict-aliasing -D_LARGEFILE_SOURCE -D_FILE_OFFSET_BITS=64 -pipe -fstack-protector-strong -fwrapv'
    ccversion='', gccversion='4.9.4 20151031 (prerelease)', gccosandvers=''
    intsize=4, longsize=8, ptrsize=8, doublesize=8, byteorder=12345678, doublekind=3
    d_longlong=define, longlongsize=8, d_longdbl=define, longdblsize=16, longdblkind=3
    ivtype='long', ivsize=8, nvtype='double', nvsize=8, Off_t='off_t', lseeksize=8
    alignbytes=8, prototype=define
  Linker and Libraries:
    ld='gcc', ldflags ='-Wl,--enable-new-dtags -fstack-protector-strong -L/usr/local/lib'
    libpth=/usr/lib /lib /pkg/gcc/4.9.3-204/bin/../lib/gcc/x86_64-pc-linux-gnu/4.9.4/include-fixed /usr/local/lib /usr/lib /lib/64 /usr/lib/64 /lib64 /usr/lib64 /usr/local/lib64
    libs=-lpthread -lnsl -lgdbm -ldb -ldl -lm -lcrypt -lutil -lc -lgdbm_compat
    perllibs=-lpthread -lnsl -ldl -lm -lcrypt -lutil -lc
    libc=libc-2.23.so, so=so, useshrplib=true, libperl=libperl.so
    gnulibc_version='2.23'
  Dynamic Linking:
    dlsrc=dl_dlopen.xs, dlext=so, d_dlsymun=undef, ccdlflags='-Wl,-E -Wl,-rpath,/usr/lib/perl5/5.22/x86_64-linux-thread-multi/CORE'
    cccdlflags='-fPIC', lddlflags='-shared -Wstrict-overflow=1 -gdwarf-4 -feliminate-unused-debug-types -fvar-tracking-assignments -feliminate-dwarf2-dups -O2 -pipe  -L/usr/local/lib -fstack-protector-strong'


Characteristics of this binary (from libperl): 
  Compile-time options: HAS_TIMES MULTIPLICITY PERLIO_LAYERS
                        PERL_DONT_CREATE_GVSV
                        PERL_HASH_FUNC_ONE_AT_A_TIME_HARD
                        PERL_IMPLICIT_CONTEXT PERL_MALLOC_WRAP
                        PERL_NEW_COPY_ON_WRITE PERL_PRESERVE_IVUV
                        USE_64_BIT_ALL USE_64_BIT_INT USE_ITHREADS
                        USE_LARGE_FILES USE_LOCALE USE_LOCALE_COLLATE
                        USE_LOCALE_CTYPE USE_LOCALE_NUMERIC USE_LOCALE_TIME
                        USE_PERLIO USE_PERL_ATOF USE_REENTRANT_API
  Locally applied patches:
	39bb02389766ceb9bfd253affc8195b63dff34f2
	e5f12fe1746461083b72baed0d2360a3e3588dbd
	808a56d1c97db072cb3a0cec058421080a521f7a
	a5a413dbf455f79439027038e9938e99eba8ffac
	d57097ac181dc3321a54e6483a81e0d5b72305ee
	e9cf61562147239e3059f5f011d94d1ac5b4dd5b
	c3b05c93bdbd6b2a421054e443e9968b3adf4031
	bc75dedff9e8a27bcd0c7b8d4affaa0c3d7c177b
  Built under linux
  Compiled at Jun  4 2016 12:33:06
  %ENV:
    PERL5LIB="/tmp/cpan-build/B-Hooks-OP-Check-0.21-0/blib/arch:/tmp/cpan-build/B-Hooks-OP-Check-0.21-0/blib/lib"
    PERL5OPT=""
    PERL5_CPANPLUS_IS_RUNNING="101070"
    PERL5_CPAN_IS_RUNNING="101070"
  @INC:
    /tmp/cpan-build/B-Hooks-OP-Check-0.21-0/blib/arch
    /tmp/cpan-build/B-Hooks-OP-Check-0.21-0/blib/lib
    /usr/lib/perl5/site_perl/5.22/x86_64-linux-thread-multi
    /usr/lib/perl5/site_perl/5.22
    /usr/lib/perl5/5.22/x86_64-linux-thread-multi
    /usr/lib/perl5/5.22
    .