Data-Handle v1.000001 Perl 5 v5.27.1 i86pc-solaris

Status
Pass
From
Serguei Trouchelle (STRO)
Dist
Data-Handle v1.000001
Platform
Perl 5 v5.27.1 i86pc-solaris
Date
2018-03-01 23:54:41
ID
e8d8348e-1dab-11e8-87b9-1c7fdf030e9d
This distribution has been tested as part of the CPAN Testers
project, supporting the Perl programming language.  See
http://wiki.cpantesters.org/ for more information or email
questions to cpan-testers-discuss@perl.org


--
Dear Kent Fredric,

This is a computer-generated report for Data-Handle-1.000001
on perl 5.27.1, created by CPAN-Reporter-1.2018.

Thank you for uploading your work to CPAN.  Congratulations!
All tests were successful.

Sections of this report:

    * Tester comments
    * Program output
    * Prerequisites
    * Environment and other context

------------------------------
TESTER COMMENTS
------------------------------

Additional comments from tester:

this report is from an automated smoke testing program
and was not reviewed by a human for accuracy

------------------------------
PROGRAM OUTPUT
------------------------------

Output from '/usr/bin/make test':

PERL_DL_NONLAZY=1 "/home/stro/perl/5.27.1/bin/perl" "-MExtUtils::Command::MM" "-MTest::Harness" "-e" "undef *Test::Harness::Switches; test_harness(0, 'blib/lib', 'blib/arch')" t/*.t t/00-compile/*.t t/alternative_techniques/*.t
t/00-compile/lib_Data_Handle_Exception_pm.t .... ok
t/00-compile/lib_Data_Handle_IO_pm.t ........... ok
t/00-compile/lib_Data_Handle_pm.t .............. ok
# 
# Versions for all modules listed in MYMETA.json (including optional ones):
# 
# === Configure Requires ===
# 
#     Module              Want Have
#     ------------------- ---- ----
#     ExtUtils::MakeMaker  any 7.30
# 
# === Configure Recommends ===
# 
#     Module              Want Have
#     ------------------- ---- ----
#     ExtUtils::MakeMaker 7.00 7.30
# 
# === Build Requires ===
# 
#     Module              Want Have
#     ------------------- ---- ----
#     ExtUtils::MakeMaker  any 7.30
# 
# === Test Requires ===
# 
#     Module              Want     Have
#     ------------------- ---- --------
#     Data::Dumper         any    2.167
#     ExtUtils::MakeMaker  any     7.30
#     File::Spec           any     3.67
#     IO::Handle           any     1.36
#     Test::Fatal          any    0.014
#     Test::More           any 1.302122
#     lib                  any     0.64
# 
# === Test Recommends ===
# 
#     Module                  Want     Have
#     ------------------- -------- --------
#     CPAN::Meta          2.120900 2.150010
#     ExtUtils::MakeMaker     7.00     7.30
#     Test::More              0.99 1.302122
# 
# === Runtime Requires ===
# 
#     Module          Want  Have
#     --------------- ---- -----
#     Carp            1.22  1.42
#     IO::File         any  1.16
#     Package::Stash  0.15  0.37
#     Scalar::Util     any  1.49
#     Symbol           any  1.08
#     Term::ANSIColor  any  4.06
#     Try::Tiny        any  0.30
#     overload         any  1.28
#     parent           any 0.236
#     strict           any  1.11
#     warnings         any  1.37
# 
t/00-report-prereqs.t .......................... ok
# 
# 
# ** This is an example Exception, isn't it pretty?
# 
# Data_Not_There has no DATA symbol
# 
# Exception 'Data::Handle::Exception::NoSymbol' thrown at /home/stro/cpan/build/5.27.1/build/Data-Handle-1.000001-0/blib/lib/Data/Handle.pm line 118
#  2.  Data::Handle::new("Data::Handle", "Data_Not_There") called at t/01_lowlevel.t line 26
#  3.  main::__ANON__() called at /home/stro/perl/5.27.1/lib/site_perl/5.27.1/Test/Fatal.pm line 129
#  4.  Test::Fatal::try {...} () called at /home/stro/perl/5.27.1/lib/site_perl/5.27.1/Try/Tiny.pm line 100
#  5.  eval {...} called at /home/stro/perl/5.27.1/lib/site_perl/5.27.1/Try/Tiny.pm line 93
#  6.  Try::Tiny::try(CODE(0x8532e48), Try::Tiny::Catch=REF(0x85331d8)) called at /home/stro/perl/5.27.1/lib/site_perl/5.27.1/Test/Fatal.pm line 136
#  7.  Test::Fatal::exception(CODE(0x8064498)) called at t/01_lowlevel.t line 29
# 
t/01_lowlevel.t ................................ ok
t/02_example.t ................................. ok
t/03_mess_with_seek.t .......................... ok
t/04_things_that_fail.t ........................ ok
t/alternative_techniques/03_fdup_test.t ........ skipped: Example alternative technique that doesn't work
t/alternative_techniques/03_fdup_test_cowns.t .. skipped: Example alternative technique that doesn't work
t/alternative_techniques/04_fopen.t ............ skipped: Example alternative technique that doesn't work
t/alternative_techniques/05_new_from_fd.t ...... skipped: Example alternative technique that doesn't work
All tests successful.
Files=12, Tests=162,  1 wallclock secs ( 0.05 usr  0.01 sys +  0.65 cusr  0.10 csys =  0.81 CPU)
Result: PASS

------------------------------
PREREQUISITES
------------------------------

Prerequisite modules loaded:

requires:

    Module              Need     Have    
    ------------------- -------- --------
    Carp                1.22     1.42    
    IO::File            0        1.16    
    overload            0        1.28    
    Package::Stash      0.15     0.37    
    parent              0        0.236   
    perl                5.008    5.027001
    Scalar::Util        0        1.49    
    strict              0        1.11    
    Symbol              0        1.08    
    Term::ANSIColor     0        4.06    
    Try::Tiny           0        0.30    
    warnings            0        1.37    

build_requires:

    Module              Need     Have    
    ------------------- -------- --------
    Data::Dumper        0        2.167   
    ExtUtils::MakeMaker 0        7.30    
    File::Spec          0        3.67    
    IO::Handle          0        1.36    
    lib                 0        0.64    
    Test::Fatal         0        0.014   
    Test::More          0        1.302122

configure_requires:

    Module              Need     Have    
    ------------------- -------- --------
    ExtUtils::MakeMaker 0        7.30    
    perl                5.008    5.027001

opt_build_requires:

    Module              Need     Have    
    ------------------- -------- --------
    CPAN::Meta          2.120900 2.150010
    ExtUtils::MakeMaker 7.00     7.30    
    Test::More          0.99     1.302122


------------------------------
ENVIRONMENT AND OTHER CONTEXT
------------------------------

Environment variables:

    AUTOMATED_TESTING = 1
    LANG = en_US.UTF-8
    PATH = /usr/gnu/bin:/usr/bin:/usr/sbin:/sbin:/usr/sfw/bin:
    PERL5LIB = 
    PERL5OPT = 
    PERL5_CPANPLUS_IS_RUNNING = 15199
    PERL5_CPAN_IS_RUNNING = 15199
    PERL5_CPAN_IS_RUNNING_IN_RECURSION = 6362,15199
    PERL_CR_SMOKER_CURRENT = CtrlO-Crypt-XkcdPassword-1.000
    PERL_EXTUTILS_AUTOINSTALL = --defaultdeps
    PERL_MM_USE_DEFAULT = 1
    PERL_USE_UNSAFE_INC = 1
    SHELL = /bin/bash
    TERM = xterm

Perl special variables (and OS-specific diagnostics, for MSWin32):

    $^X = /home/stro/perl/5.27.1/bin/perl
    $UID/$EUID = 101 / 101
    $GID = 10 10
    $EGID = 10 10

Perl module toolchain versions installed:

    Module              Have    
    ------------------- --------
    CPAN                2.18    
    CPAN::Meta          2.150010
    Cwd                 3.67    
    ExtUtils::CBuilder  0.280225
    ExtUtils::Command   7.30    
    ExtUtils::Install   2.14    
    ExtUtils::MakeMaker 7.30    
    ExtUtils::Manifest  1.70    
    ExtUtils::ParseXS   3.34    
    File::Spec          3.67    
    JSON                2.97001 
    JSON::PP            2.97001 
    Module::Build       0.4224  
    Module::Signature   n/a     
    Parse::CPAN::Meta   2.150010
    Test::Harness       3.39    
    Test::More          1.302122
    YAML                1.23    
    YAML::Syck          1.30    
    version             0.9918  


--

Summary of my perl5 (revision 5 version 27 subversion 1) configuration:
   
  Platform:
    osname=solaris
    osvers=2.11
    archname=i86pc-solaris
    uname='sunos vm-openindiana-001 5.11 illumos-ed992b0aac i86pc i386 i86pc solaris '
    config_args=''
    hint=recommended
    useposix=true
    d_sigaction=define
    useithreads=undef
    usemultiplicity=undef
    use64bitint=undef
    use64bitall=undef
    uselongdouble=undef
    usemymalloc=n
    default_inc_excludes_dot=define
    bincompat5005=undef
  Compiler:
    cc='/opt/SUNWspro/bin/cc'
    ccflags ='-I/usr/gnu/include -D_LARGEFILE_SOURCE -D_FILE_OFFSET_BITS=64 -DPERL_USE_SAFE_PUTENV'
    optimize='-O'
    cppflags='-I/usr/gnu/include'
    ccversion='Sun C 5.10 SunOS_i386 2009/06/03'
    gccversion=''
    gccosandvers=''
    intsize=4
    longsize=4
    ptrsize=4
    doublesize=8
    byteorder=1234
    doublekind=3
    d_longlong=define
    longlongsize=8
    d_longdbl=define
    longdblsize=12
    longdblkind=3
    ivtype='long'
    ivsize=4
    nvtype='double'
    nvsize=8
    Off_t='off_t'
    lseeksize=8
    alignbytes=4
    prototype=define
  Linker and Libraries:
    ld='/opt/SUNWspro/bin/cc'
    ldflags =' -L/usr/lib -L/usr/ccs/lib -L/opt/sunstudio12.1/prod/lib -L/lib -L/usr/gnu/lib '
    libpth=/usr/lib /usr/ccs/lib /opt/sunstudio12.1/prod/lib /lib /usr/gnu/lib
    libs=-lpthread -lsocket -lnsl -lgdbm -ldb -ldl -lm -lc
    perllibs=-lpthread -lsocket -lnsl -ldl -lm -lc
    libc=/lib/libc.so
    so=so
    useshrplib=true
    libperl=libperl.so
    gnulibc_version=''
  Dynamic Linking:
    dlsrc=dl_dlopen.xs
    dlext=so
    d_dlsymun=undef
    ccdlflags='  -R /home/stro/perl/5.27.1/lib/5.27.1/i86pc-solaris/CORE'
    cccdlflags='-KPIC'
    lddlflags='-G -L/usr/lib -L/usr/ccs/lib -L/opt/sunstudio12.1/prod/lib -L/lib -L/usr/gnu/lib'


Characteristics of this binary (from libperl): 
  Compile-time options:
    HAS_TIMES
    PERLIO_LAYERS
    PERL_COPY_ON_WRITE
    PERL_DONT_CREATE_GVSV
    PERL_MALLOC_WRAP
    PERL_OP_PARENT
    PERL_PRESERVE_IVUV
    PERL_USE_SAFE_PUTENV
    USE_LARGE_FILES
    USE_LOCALE
    USE_LOCALE_COLLATE
    USE_LOCALE_CTYPE
    USE_LOCALE_NUMERIC
    USE_LOCALE_TIME
    USE_PERLIO
    USE_PERL_ATOF
  Built under solaris
  Compiled at Sep 21 2017 10:05:44
  %ENV:
    PERL5LIB=""
    PERL5OPT=""
    PERL5_CPANPLUS_IS_RUNNING="15199"
    PERL5_CPAN_IS_RUNNING="15199"
    PERL5_CPAN_IS_RUNNING_IN_RECURSION="6362,15199"
    PERL_CR_SMOKER_CURRENT="CtrlO-Crypt-XkcdPassword-1.000"
    PERL_EXTUTILS_AUTOINSTALL="--defaultdeps"
    PERL_MM_USE_DEFAULT="1"
    PERL_USE_UNSAFE_INC="1"
  @INC:
    /home/stro/perl/5.27.1/lib/site_perl/5.27.1/i86pc-solaris
    /home/stro/perl/5.27.1/lib/site_perl/5.27.1
    /home/stro/perl/5.27.1/lib/5.27.1/i86pc-solaris
    /home/stro/perl/5.27.1/lib/5.27.1
    .