Wiki-Toolkit v0.87 Perl 5 v5.32.0 MSWin32-x86-multi-thread-64int

Status
Pass
From
gregor herrmann
Dist
Wiki-Toolkit v0.87
Platform
Perl 5 v5.32.0 MSWin32-x86-multi-thread-64int
Date
2021-01-18 20:42:33
ID
e8e7b38c-6bfa-1014-b30b-375d6577708c
This distribution has been tested as part of the CPAN Testers
project, supporting the Perl programming language.  See
http://wiki.cpantesters.org/ for more information or email
questions to cpan-testers-discuss@perl.org


--
Dear bob walker,

This is a computer-generated report for Wiki-Toolkit-0.87
on perl 5.32.0, created by CPAN-Reporter-1.2018.

Thank you for uploading your work to CPAN.  Congratulations!
All tests were successful.

Sections of this report:

    * Tester comments
    * Program output
    * Prerequisites
    * Environment and other context

------------------------------
TESTER COMMENTS
------------------------------

Additional comments from tester:

this report is from an automated smoke testing program
and was not reviewed by a human for accuracy

------------------------------
PROGRAM OUTPUT
------------------------------

Output from 'C:\strawberry\c\bin\gmake.EXE test':

"C:\Strawberry\perl\bin\perl.exe" "-MExtUtils::Command::MM" "-MTest::Harness" "-e" "undef *Test::Harness::Switches; test_harness(0, 'blib\lib', 'blib\arch')" t/*.t
t/001_load.t ........................... ok
t/002_datastore_setup.t ................ ok
t/003_instantiate.t .................... ok
t/004_write_and_retrieve.t ............. ok
t/005_delete.t ......................... ok
t/006_list_all.t ....................... ok
t/007_search.t ......................... ok
t/008_write_and_rewrite.t .............. ok
t/009_backlinks.t ...................... ok
t/010_metadata.t ....................... ok
t/011_recent_changes.t ................. ok
t/012_blank_data.t ..................... ok
t/013_fuzzy_title_match.t .............. ok
t/014_advanced_metadata.t .............. ok
t/015_dangling_links.t ................. ok
t/016_recent_changes_between.t ......... ok
t/017_delete_version.t ................. ok
t/018_rc_multiple_metadata_criteria.t .. ok
t/019_recent_changes_case.t ............ ok
t/020_node_exists_case_insensitive.t ... ok
t/021_moderation.t ..................... ok
t/022_list_unmoderated.t ............... ok
t/025_list_node_all_versions.t ......... ok
t/026_schema_current.t ................. ok
t/027_list_last_version_before.t ....... ok
t/040_rename.t ......................... ok
t/041_long_node_names.t ................ ok
t/050_mysql_store.t .................... ok
t/051_pg_store.t ....................... ok
t/052_sqlite_store.t ................... ok
t/060_recent_changes_new_only.t ........ ok
t/061_list_metadata_by_type.t .......... ok
t/062_recent_changes_metadata_was.t .... ok
t/100_formatting.t ..................... ok
t/101_default_formatter.t .............. ok
t/102_multiple_formatter.t ............. ok
t/150_plugins.t ........................ ok
t/151_plugin_methods.t ................. ok
t/152_pre_plugin_approval.t ............ ok
t/297_feed_rss_recentchanges.t ......... ok
t/298_feed_rss_node_all_versions.t ..... ok
t/299_feed_rss_gen_node_dist_feed.t .... ok
t/300_feed_atom_setup.t ................ ok
t/301_feed_atom_add_test_data.t ........ ok
t/302_feed_atom_recentchanges.t ........ ok
t/303_feed_atom_node_all_versions.t .... ok
t/304_feed_atom_gen_node_dist_feed.t ... ok
t/400_upgrade.t ........................ ok
t/401_null_change.t .................... ok
t/500_pod.t ............................ ok
t/700_lucy_bug.t ....................... ok
t/701_lucy_setup.t ..................... ok
t/702_metadata_search.t ................ ok
t/703_search_weightings.t .............. ok
t/704_search_content_munging.t ......... ok
t/705_search_exclusion.t ............... ok
All tests successful.
Files=56, Tests=981, 246 wallclock secs ( 0.52 usr +  0.12 sys =  0.64 CPU)
Result: PASS

------------------------------
PREREQUISITES
------------------------------

Prerequisite modules loaded:

requires:

    Module              Need Have    
    ------------------- ---- --------
    CGI                 0    4.51    
    DBD::SQLite         0.25 1.67_02 
    DBI                 0    1.643   
    Digest::MD5         0    2.58    
    Digest::SHA         0    6.02    
    HTML::PullParser    0    3.73    
    Test::More          0    1.302183
    Text::WikiFormat    0.78 0.81    
    Time::Piece         0    1.3401  

build_requires:

    Module              Need Have    
    ------------------- ---- --------
    ExtUtils::MakeMaker 0    7.58    

configure_requires:

    Module              Need Have    
    ------------------- ---- --------
    ExtUtils::MakeMaker 0    7.58    


------------------------------
ENVIRONMENT AND OTHER CONTEXT
------------------------------

Environment variables:

    AUTOMATED_TESTING = 1
    COMSPEC = C:\WINDOWS.0\system32\cmd.exe
    NONINTERACTIVE_TESTING = 1
    NUMBER_OF_PROCESSORS = 1
    PATH = C:\WINDOWS.0\system32;C:\strawberry\c\bin;C:\strawberry\perl\site\bin;C:\strawberry\perl\bin
    PERL5LIB = 
    PERL5OPT = 
    PERL5_CPANPLUS_IS_RUNNING = 1544
    PERL5_CPAN_IS_RUNNING = 1544
    PERL5_CPAN_IS_RUNNING_IN_RECURSION = 4064,1544
    PERL_CR_SMOKER_CURRENT = Wiki-Toolkit-0.87
    PERL_EXTUTILS_AUTOINSTALL = --defaultdeps
    PERL_MM_USE_DEFAULT = 1
    PERL_USE_UNSAFE_INC = 1
    PROCESSOR_IDENTIFIER = x86 Family 6 Model 14 Stepping 8, GenuineIntel
    TEMP = C:\DOKUME~1\smoker\LOKALE~1\Temp
    TERM = dumb

Perl special variables (and OS-specific diagnostics, for MSWin32):

    $^X = C:\Strawberry\perl\bin\perl.exe
    $UID/$EUID = 0 / 0
    $GID = 0
    $EGID = 0
    Win32::GetOSName = WinXP/.Net
    Win32::GetOSVersion = Service Pack 3, 5, 1, 2600, 2, 3, 0, 256, 1
    Win32::FsType = NTFS
    Win32::IsAdminUser = 1

Perl module toolchain versions installed:

    Module              Have    
    ------------------- --------
    CPAN                2.28    
    CPAN::Meta          2.150010
    Cwd                 3.78    
    ExtUtils::CBuilder  0.280235
    ExtUtils::Command   7.58    
    ExtUtils::Install   2.20    
    ExtUtils::MakeMaker 7.58    
    ExtUtils::Manifest  1.73    
    ExtUtils::ParseXS   3.35    
    File::Spec          3.78    
    JSON                4.02    
    JSON::PP            4.05    
    Module::Build       0.4231  
    Module::Signature   0.87    
    Parse::CPAN::Meta   2.150010
    Test::Harness       3.42    
    Test::More          1.302183
    YAML                1.30    
    YAML::Syck          1.34    
    version             0.9928  


--

Summary of my perl5 (revision 5 version 32 subversion 0) configuration:
   
  Platform:
    osname=MSWin32
    osvers=10.0.19041.388
    archname=MSWin32-x86-multi-thread-64int
    uname='Win32 strawberry-perl 5.32.0.1 #1 Sun Aug  2 17:22:48 2020 i386'
    config_args='undef'
    hint=recommended
    useposix=true
    d_sigaction=undef
    useithreads=define
    usemultiplicity=define
    use64bitint=define
    use64bitall=undef
    uselongdouble=undef
    usemymalloc=n
    default_inc_excludes_dot=define
    bincompat5005=undef
  Compiler:
    cc='gcc'
    ccflags =' -DWIN32 -D__USE_MINGW_ANSI_STDIO -DPERL_TEXTMODE_SCRIPTS -DPERL_IMPLICIT_CONTEXT -DPERL_IMPLICIT_SYS -DUSE_PERLIO -fwrapv -fno-strict-aliasing -mms-bitfields'
    optimize='-s -O2'
    cppflags='-DWIN32'
    ccversion=''
    gccversion='8.3.0'
    gccosandvers=''
    intsize=4
    longsize=4
    ptrsize=4
    doublesize=8
    byteorder=12345678
    doublekind=3
    d_longlong=define
    longlongsize=8
    d_longdbl=define
    longdblsize=12
    longdblkind=3
    ivtype='long long'
    ivsize=8
    nvtype='double'
    nvsize=8
    Off_t='long long'
    lseeksize=8
    alignbytes=8
    prototype=define
  Linker and Libraries:
    ld='g++'
    ldflags ='-s -L"C:\STRAWB~1\perl\lib\CORE" -L"C:\STRAWB~1\c\lib"'
    libpth=C:\STRAWB~1\c\lib C:\STRAWB~1\c\i686-w64-mingw32\lib C:\STRAWB~1\c\lib\gcc\i686-w64-mingw32\8.3.0
    libs= -lmoldname -lkernel32 -luser32 -lgdi32 -lwinspool -lcomdlg32 -ladvapi32 -lshell32 -lole32 -loleaut32 -lnetapi32 -luuid -lws2_32 -lmpr -lwinmm -lversion -lodbc32 -lodbccp32 -lcomctl32
    perllibs= -lmoldname -lkernel32 -luser32 -lgdi32 -lwinspool -lcomdlg32 -ladvapi32 -lshell32 -lole32 -loleaut32 -lnetapi32 -luuid -lws2_32 -lmpr -lwinmm -lversion -lodbc32 -lodbccp32 -lcomctl32
    libc=
    so=dll
    useshrplib=true
    libperl=libperl532.a
    gnulibc_version=''
  Dynamic Linking:
    dlsrc=dl_win32.xs
    dlext=xs.dll
    d_dlsymun=undef
    ccdlflags=' '
    cccdlflags=' '
    lddlflags='-mdll -s -L"C:\STRAWB~1\perl\lib\CORE" -L"C:\STRAWB~1\c\lib"'


Characteristics of this binary (from libperl): 
  Compile-time options:
    HAS_TIMES
    HAVE_INTERP_INTERN
    MULTIPLICITY
    PERLIO_LAYERS
    PERL_COPY_ON_WRITE
    PERL_DONT_CREATE_GVSV
    PERL_IMPLICIT_CONTEXT
    PERL_IMPLICIT_SYS
    PERL_MALLOC_WRAP
    PERL_OP_PARENT
    PERL_PRESERVE_IVUV
    USE_64_BIT_INT
    USE_ITHREADS
    USE_LARGE_FILES
    USE_LOCALE
    USE_LOCALE_COLLATE
    USE_LOCALE_CTYPE
    USE_LOCALE_NUMERIC
    USE_LOCALE_TIME
    USE_PERLIO
    USE_PERL_ATOF
  Built under MSWin32
  Compiled at Aug  2 2020 17:27:39
  %ENV:
    PERL5_CPANPLUS_IS_RUNNING="1544"
    PERL5_CPAN_IS_RUNNING="1544"
    PERL5_CPAN_IS_RUNNING_IN_RECURSION="4064,1544"
    PERL_CR_SMOKER_CURRENT="Wiki-Toolkit-0.87"
    PERL_EXTUTILS_AUTOINSTALL="--defaultdeps"
    PERL_MM_USE_DEFAULT="1"
    PERL_USE_UNSAFE_INC="1"
  @INC:
    C:/Strawberry/perl/site/lib/MSWin32-x86-multi-thread-64int
    C:/Strawberry/perl/site/lib
    C:/Strawberry/perl/vendor/lib
    C:/Strawberry/perl/lib
    .