Back
From: metabase:user:00e8548a-0e72-11e3-8ee3-df0a9c418065
Subject: PASS Git-Repository-Plugin-Blame-1.2.0 v5.16.3 GNU/Linux
Date: 2014-04-03T02:37:33Z
This distribution has been tested as part of the CPAN Testers
project, supporting the Perl programming language. See
http://wiki.cpantesters.org/ for more information or email
questions to cpan-testers-discuss@perl.org
--
Dear Guillaume Aubert,
This is a computer-generated report for Git-Repository-Plugin-Blame-1.2.0
on perl 5.16.3, created by CPAN-Reporter-1.2010.
Thank you for uploading your work to CPAN. Congratulations!
All tests were successful.
Sections of this report:
* Tester comments
* Program output
* Prerequisites
* Environment and other context
------------------------------
TESTER COMMENTS
------------------------------
Additional comments from tester:
this report is from an automated smoke testing program
and was not reviewed by a human for accuracy
------------------------------
PROGRAM OUTPUT
------------------------------
Output from './Build test':
# Testing Git::Repository::Plugin::Blame 1.2.0, Perl 5.016003, /root/perl5/perlbrew/perls/perl-5.16.3/bin/perl
t/00-load.t ........................ ok
# Testing Git::Repository::Plugin::Blame::Cache 1.2.0, Perl 5.016003, /root/perl5/perlbrew/perls/perl-5.16.3/bin/perl
t/05-Cache/00-load.t ............... ok
t/05-Cache/10-new.t ................ ok
t/05-Cache/15-get_repository.t ..... ok
t/05-Cache/20-set_blame_lines.t .... ok
t/05-Cache/25-get_blame_lines.t .... ok
t/10-blame.t ....................... ok
# Testing Git::Repository::Plugin::Blame::Line 1.2.0, Perl 5.016003, /root/perl5/perlbrew/perls/perl-5.16.3/bin/perl
t/Line/00-load.t ................... ok
t/Line/10-new.t .................... ok
t/Line/20-get_commit_attributes.t .. ok
t/Line/30-get_commit_id.t .......... ok
t/Line/40-get_line.t ............... ok
t/Line/50-get_line_number.t ........ ok
All tests successful.
Files=13, Tests=61, 0 wallclock secs ( 0.01 usr 0.01 sys + 0.15 cusr 0.04 csys = 0.21 CPU)
Result: PASS
------------------------------
PREREQUISITES
------------------------------
Prerequisite modules loaded:
requires:
Module Need Have
---------------------------- ----- --------
Carp 0 1.32
Class::Load 0.2 0.20
Data::Validate::Type 0 1.4.2
Git::Repository 1.2 1.308
Git::Repository::Plugin::Log 0 1.308
perl 5.006 5.016003
Perl6::Slurp 0 0.051003
build_requires:
Module Need Have
---------------------------- ----- --------
Data::Dumper 0 2.151
Test::Deep 0 0.110
Test::Exception 0 0.32
Test::FailWarnings 0 0.006
Test::Git 0 1.308
Test::More 0 0.98
Test::Type 0 1.1.2
configure_requires:
Module Need Have
---------------------------- ----- --------
Module::Build 0 0.4007
------------------------------
ENVIRONMENT AND OTHER CONTEXT
------------------------------
Environment variables:
AUTOMATED_TESTING = 1
LANG = en_US.UTF-8
PATH = /root/perl5/perlbrew/bin:/root/perl5/perlbrew/perls/perl-5.16.3/bin:/usr/kerberos/sbin:/usr/kerberos/bin:/usr/local/sbin:/usr/local/bin:/sbin:/bin:/usr/sbin:/usr/bin:/root/bin
PERL5LIB = /root/.cpan/build/Test-Type-1.1.2-svXlxk/blib/arch:/root/.cpan/build/Test-Type-1.1.2-svXlxk/blib/lib:/root/.cpan/build/Data-Validate-Type-1.4.2-BHgqjO/blib/arch:/root/.cpan/build/Data-Validate-Type-1.4.2-BHgqjO/blib/lib:/root/.cpan/build/Git-Repository-Plugin-Hooks-0.02-vhsDY5/blib/arch:/root/.cpan/build/Git-Repository-Plugin-Hooks-0.02-vhsDY5/blib/lib:/root/.cpan/build/Git-Repository-Plugin-Gerrit-0.03-VJUumW/blib/arch:/root/.cpan/build/Git-Repository-Plugin-Gerrit-0.03-VJUumW/blib/lib:/root/.cpan/build/Git-Repository-Plugin-Info-0.03-GDsTpB/blib/arch:/root/.cpan/build/Git-Repository-Plugin-Info-0.03-GDsTpB/blib/lib
PERL5OPT =
PERL5_CPANPLUS_IS_RUNNING = 9088
PERL5_CPAN_IS_RUNNING = 9088
PERL5_CPAN_IS_RUNNING_IN_RECURSION = 26470,9088
PERLBREW_BASHRC_VERSION = 0.66
PERLBREW_HOME = /root/.perlbrew
PERLBREW_MANPATH = /root/perl5/perlbrew/perls/perl-5.16.3/man
PERLBREW_PATH = /root/perl5/perlbrew/bin:/root/perl5/perlbrew/perls/perl-5.16.3/bin
PERLBREW_PERL = perl-5.16.3
PERLBREW_ROOT = /root/perl5/perlbrew
PERLBREW_VERSION = 0.66
PERL_CR_SMOKER_CURRENT = Task-Git-Repository-1.000
PERL_EXTUTILS_AUTOINSTALL = --defaultdeps
PERL_MM_USE_DEFAULT = 1
SHELL = /bin/bash
TERM = linux
Perl special variables (and OS-specific diagnostics, for MSWin32):
$^X = /root/perl5/perlbrew/perls/perl-5.16.3/bin/perl
$UID/$EUID = 0 / 0
$GID = 0 0 1 2 3 4 6 10
$EGID = 0 0 1 2 3 4 6 10
Perl module toolchain versions installed:
Module Have
------------------- --------
CPAN 2.00
CPAN::Meta 2.132661
Cwd 3.40
ExtUtils::CBuilder 0.280212
ExtUtils::Command 1.18
ExtUtils::Install 1.58
ExtUtils::MakeMaker 6.78
ExtUtils::Manifest 1.63
ExtUtils::ParseXS 3.22
File::Spec 3.40
JSON 2.59
JSON::PP 2.27202
Module::Build 0.4007
Module::Signature n/a
Parse::CPAN::Meta 1.4405
Test::Harness 3.28
Test::More 0.98
YAML 0.84
YAML::Syck 1.27
version 0.99
--
Summary of my perl5 (revision 5 version 16 subversion 3) configuration:
Platform:
osname=linux, osvers=2.6.18-348.16.1.el5, archname=x86_64-linux
uname='linux localhost.localdomain 2.6.18-348.16.1.el5 #1 smp wed aug 21 04:00:25 edt 2013 x86_64 x86_64 x86_64 gnulinux '
config_args='-de -Dprefix=/root/perl5/perlbrew/perls/perl-5.16.3 -Aeval:scriptdir=/root/perl5/perlbrew/perls/perl-5.16.3/bin'
hint=recommended, useposix=true, d_sigaction=define
useithreads=undef, usemultiplicity=undef
useperlio=define, d_sfio=undef, uselargefiles=define, usesocks=undef
use64bitint=define, use64bitall=define, uselongdouble=undef
usemymalloc=n, bincompat5005=undef
Compiler:
cc='cc', ccflags ='-fno-strict-aliasing -pipe -fstack-protector -I/usr/local/include -D_LARGEFILE_SOURCE -D_FILE_OFFSET_BITS=64',
optimize='-O2',
cppflags='-fno-strict-aliasing -pipe -fstack-protector -I/usr/local/include'
ccversion='', gccversion='4.1.2 20080704 (Red Hat 4.1.2-54)', gccosandvers=''
intsize=4, longsize=8, ptrsize=8, doublesize=8, byteorder=12345678
d_longlong=define, longlongsize=8, d_longdbl=define, longdblsize=16
ivtype='long', ivsize=8, nvtype='double', nvsize=8, Off_t='off_t', lseeksize=8
alignbytes=8, prototype=define
Linker and Libraries:
ld='cc', ldflags =' -fstack-protector -L/usr/local/lib'
libpth=/usr/local/lib /lib /usr/lib /lib64 /usr/lib64 /usr/local/lib64
libs=-lnsl -ldl -lm -lcrypt -lutil -lc
perllibs=-lnsl -ldl -lm -lcrypt -lutil -lc
libc=/lib/libc-2.5.so, so=so, useshrplib=false, libperl=libperl.a
gnulibc_version='2.5'
Dynamic Linking:
dlsrc=dl_dlopen.xs, dlext=so, d_dlsymun=undef, ccdlflags='-Wl,-E'
cccdlflags='-fPIC', lddlflags='-shared -O2 -L/usr/local/lib -fstack-protector'
Characteristics of this binary (from libperl):
Compile-time options: HAS_TIMES PERLIO_LAYERS PERL_DONT_CREATE_GVSV
PERL_MALLOC_WRAP PERL_PRESERVE_IVUV USE_64_BIT_ALL
USE_64_BIT_INT USE_LARGE_FILES USE_LOCALE
USE_LOCALE_COLLATE USE_LOCALE_CTYPE
USE_LOCALE_NUMERIC USE_PERLIO USE_PERL_ATOF
Built under linux
Compiled at Aug 26 2013 11:51:42
%ENV:
PERL5LIB="/root/.cpan/build/Test-Type-1.1.2-svXlxk/blib/arch:/root/.cpan/build/Test-Type-1.1.2-svXlxk/blib/lib:/root/.cpan/build/Data-Validate-Type-1.4.2-BHgqjO/blib/arch:/root/.cpan/build/Data-Validate-Type-1.4.2-BHgqjO/blib/lib:/root/.cpan/build/Git-Repository-Plugin-Hooks-0.02-vhsDY5/blib/arch:/root/.cpan/build/Git-Repository-Plugin-Hooks-0.02-vhsDY5/blib/lib:/root/.cpan/build/Git-Repository-Plugin-Gerrit-0.03-VJUumW/blib/arch:/root/.cpan/build/Git-Repository-Plugin-Gerrit-0.03-VJUumW/blib/lib:/root/.cpan/build/Git-Repository-Plugin-Info-0.03-GDsTpB/blib/arch:/root/.cpan/build/Git-Repository-Plugin-Info-0.03-GDsTpB/blib/lib"
PERL5OPT=""
PERL5_CPANPLUS_IS_RUNNING="9088"
PERL5_CPAN_IS_RUNNING="9088"
PERL5_CPAN_IS_RUNNING_IN_RECURSION="26470,9088"
PERLBREW_BASHRC_VERSION="0.66"
PERLBREW_HOME="/root/.perlbrew"
PERLBREW_MANPATH="/root/perl5/perlbrew/perls/perl-5.16.3/man"
PERLBREW_PATH="/root/perl5/perlbrew/bin:/root/perl5/perlbrew/perls/perl-5.16.3/bin"
PERLBREW_PERL="perl-5.16.3"
PERLBREW_ROOT="/root/perl5/perlbrew"
PERLBREW_VERSION="0.66"
PERL_CR_SMOKER_CURRENT="Task-Git-Repository-1.000"
PERL_EXTUTILS_AUTOINSTALL="--defaultdeps"
PERL_MM_USE_DEFAULT="1"
@INC:
/root/.cpan/build/Test-Type-1.1.2-svXlxk/blib/arch
/root/.cpan/build/Test-Type-1.1.2-svXlxk/blib/lib
/root/.cpan/build/Data-Validate-Type-1.4.2-BHgqjO/blib/arch
/root/.cpan/build/Data-Validate-Type-1.4.2-BHgqjO/blib/lib
/root/.cpan/build/Git-Repository-Plugin-Hooks-0.02-vhsDY5/blib/arch
/root/.cpan/build/Git-Repository-Plugin-Hooks-0.02-vhsDY5/blib/lib
/root/.cpan/build/Git-Repository-Plugin-Gerrit-0.03-VJUumW/blib/arch
/root/.cpan/build/Git-Repository-Plugin-Gerrit-0.03-VJUumW/blib/lib
/root/.cpan/build/Git-Repository-Plugin-Info-0.03-GDsTpB/blib/arch
/root/.cpan/build/Git-Repository-Plugin-Info-0.03-GDsTpB/blib/lib
/root/perl5/perlbrew/perls/perl-5.16.3/lib/site_perl/5.16.3/x86_64-linux
/root/perl5/perlbrew/perls/perl-5.16.3/lib/site_perl/5.16.3
/root/perl5/perlbrew/perls/perl-5.16.3/lib/5.16.3/x86_64-linux
/root/perl5/perlbrew/perls/perl-5.16.3/lib/5.16.3
.