Back
From: metabase:user:314402c4-2aae-11df-837a-5e0a49663a4f
Subject: PASS Test-Collectd-Plugins-0.1004 v5.16.0 RC0 FreeBSD
Date: 2012-09-20T08:19:34Z
This distribution has been tested as part of the CPAN Testers
project, supporting the Perl programming language. See
http://wiki.cpantesters.org/ for more information or email
questions to cpan-testers-discuss@perl.org
--
Dear Fabien Wernli,
This is a computer-generated report for Test-Collectd-Plugins-0.1004
on perl 5.16.0, created by CPAN-Reporter-1.2006.
Thank you for uploading your work to CPAN. Congratulations!
All tests were successful.
Sections of this report:
* Tester comments
* Program output
* Prerequisites
* Environment and other context
------------------------------
TESTER COMMENTS
------------------------------
Additional comments from tester:
none provided
------------------------------
PROGRAM OUTPUT
------------------------------
Output from '/usr/bin/make test':
PERL_DL_NONLAZY=1 /home2/cpansand/var/ctps/5160RC0/install/perl-5.16.0-RC0/bin/perl5.16.0 "-MExtUtils::Command::MM" "-e" "test_harness(0, 'inc', 'blib/lib', 'blib/arch')" t/00-load.t t/01-read.t t/02-invalid.t t/03-test-collectd-config.t t/04-read-with-config.t t/manifest.t t/pod-coverage.t t/pod.t
# Testing Test::Collectd::Plugins 0.1004, Perl 5.016000, /home2/cpansand/var/ctps/5160RC0/install/perl-5.16.0-RC0/bin/perl5.16.0
t/00-load.t .................. ok
defined(@array) is deprecated at /home/cpansand/var/ctps/5160RC0/install/perl-5.16.0-RC0/lib/site_perl/5.16.0/Module/Find.pm line 182.
(Maybe you should just omit the defined()?)
# Plugin Collectd::Plugins::OK::ReadTwice
no typesdb - using builtin /var/tmp/CPAN-build/Test-Collectd-Plugins-0.1004-Ar6y7p/blib/lib/auto/share/module/Test-Collectd-Plugins/types.db at /var/tmp/CPAN-build/Test-Collectd-Plugins-0.1004-Ar6y7p/blib/lib/Test/Collectd/Plugins.pm line 385.
# Plugin Collectd::Plugins::OK::Read
t/01-read.t .................. ok
defined(@array) is deprecated at /home/cpansand/var/ctps/5160RC0/install/perl-5.16.0-RC0/lib/site_perl/5.16.0/Module/Find.pm line 182.
(Maybe you should just omit the defined()?)
t/02-invalid.t ............... ok
# Testing Test::Collectd::Config
t/03-test-collectd-config.t .. ok
defined(@array) is deprecated at /home/cpansand/var/ctps/5160RC0/install/perl-5.16.0-RC0/lib/site_perl/5.16.0/Module/Find.pm line 182.
(Maybe you should just omit the defined()?)
# Plugin Collectd::Plugins::OKConfig::Read
no typesdb - using builtin /var/tmp/CPAN-build/Test-Collectd-Plugins-0.1004-Ar6y7p/blib/lib/auto/share/module/Test-Collectd-Plugins/types.db at /var/tmp/CPAN-build/Test-Collectd-Plugins-0.1004-Ar6y7p/blib/lib/Test/Collectd/Plugins.pm line 385, <GEN1> line 3.
t/04-read-with-config.t ...... ok
t/manifest.t ................. skipped: Author tests not required for installation
t/pod-coverage.t ............. ok
t/pod.t ...................... ok
All tests successful.
Files=8, Tests=45, 6 wallclock secs ( 0.05 usr 0.03 sys + 1.47 cusr 0.17 csys = 1.73 CPU)
Result: PASS
------------------------------
PREREQUISITES
------------------------------
Prerequisite modules loaded:
requires:
Module Need Have
-------------------- ----- --------
ExtUtils::MakeMaker 6.11 6.63_02
Module::Find 0 0.10
namespace::autoclean 0 0.13
Package::Alias 0 0.12
Parse::Lex 0 2.21
Parse::Yapp::Driver 0.22 1.05
perl 5.006 5.016000
Test::Builder 0.90 0.98
Test::File::ShareDir 0 0.3.1
Test::More 0 0.98
build_requires:
Module Need Have
-------------------- ----- --------
ExtUtils::MakeMaker 6.59 6.63_02
Module::Find 0 0.10
Parse::Yapp::Driver 0.22 1.05
Test::File::ShareDir 0 0.3.1
Test::More 0 0.98
configure_requires:
Module Need Have
-------------------- ----- --------
ExtUtils::MakeMaker 6.59 6.63_02
------------------------------
ENVIRONMENT AND OTHER CONTEXT
------------------------------
Environment variables:
DBIC_NO_WARN_BAD_PERL = 1
PATH = /usr/local/bin:/usr/X11R6/bin:/usr/X11/bin:/usr/perl5.8.0/bin:/usr/bin:/bin:/usr/local/sbin:/usr/sbin:/sbin:/usr/local/pilot/bin:/home/cpansand/bin/freebsd8.0:/home/cpansand/bin/sh:/home/cpansand/bin:/usr/X386/bin:/usr/games:/home/cpansand/devel:/usr/home/e/eserte/work/srezic-misc/scripts
PERL5LIB =
PERL5OPT =
PERL5_CPANPLUS_IS_RUNNING = 54063
PERL5_CPAN_IS_RUNNING = 54063
PERL5_CPAN_IS_RUNNING_IN_RECURSION = 54030,54063
PERL_BATCH = yes
PERL_CPAN_REPORTER_CONFIG = /var/tmp/cpansmoker-1023/GmC2owP9qC_config.ini
PERL_CPAN_REPORTER_DIR = /home/cpansand/var/ctps/5160RC0/config/perl-5.16.0-RC0/cpanreporter
PERL_EXTUTILS_AUTOINSTALL = --defaultdeps
PERL_HTML_DISPLAY_CLASS = HTML::Display::Mozilla
SHELL = /usr/local/bin/zsh
TERM = screen
TMPDIR = /var/tmp/cpansmoker-1023
Perl special variables (and OS-specific diagnostics, for MSWin32):
$^X = /home2/cpansand/var/ctps/5160RC0/install/perl-5.16.0-RC0/bin/perl5.16.0
$UID/$EUID = 1023 / 1023
$GID = 1023 1023
$EGID = 1023 1023
Perl module toolchain versions installed:
Module Have
------------------- --------
CPAN 1.9800
CPAN::Meta 2.120921
Cwd 3.39_02
ExtUtils::CBuilder 0.280206
ExtUtils::Command 1.17
ExtUtils::Install 1.58
ExtUtils::MakeMaker 6.63_02
ExtUtils::Manifest 1.61
ExtUtils::ParseXS 3.16
File::Spec 3.39_02
JSON 2.53
JSON::PP 2.27200
Module::Build 0.4002
Module::Signature 0.68
Parse::CPAN::Meta 1.4404
Test::Harness 3.23
Test::More 0.98
YAML 0.82
YAML::Syck 1.20
version 0.99
--
Summary of my perl5 (revision 5 version 16 subversion 0) configuration:
Platform:
osname=freebsd, osvers=8.0-release-p4, archname=i386-freebsd
uname='freebsd biokovo.herceg.de 8.0-release-p4 freebsd 8.0-release-p4 #0: mon jul 12 20:22:27 utc 2010 root@i386-builder.daemonology.net:usrobjusrsrcsysgeneric i386 '
config_args='-ds -e -Uversiononly -Dinstallusrbinperl=n -Dusedevel -Dprefix=/home/cpansand/var/ctps/5160RC0/install/perl-5.16.0-RC0'
hint=recommended, useposix=true, d_sigaction=define
useithreads=undef, usemultiplicity=undef
useperlio=define, d_sfio=undef, uselargefiles=define, usesocks=undef
use64bitint=undef, use64bitall=undef, uselongdouble=undef
usemymalloc=n, bincompat5005=undef
Compiler:
cc='cc', ccflags ='-DHAS_FPSETMASK -DHAS_FLOATINGPOINT_H -fno-strict-aliasing -pipe -fstack-protector -I/usr/local/include',
optimize='-O',
cppflags='-DHAS_FPSETMASK -DHAS_FLOATINGPOINT_H -fno-strict-aliasing -pipe -fstack-protector -I/usr/local/include'
ccversion='', gccversion='4.2.1 20070719 [FreeBSD]', gccosandvers=''
intsize=4, longsize=4, ptrsize=4, doublesize=8, byteorder=1234
d_longlong=define, longlongsize=8, d_longdbl=define, longdblsize=12
ivtype='long', ivsize=4, nvtype='double', nvsize=8, Off_t='off_t', lseeksize=8
alignbytes=4, prototype=define
Linker and Libraries:
ld='cc', ldflags ='-Wl,-E -fstack-protector -L/usr/local/lib'
libpth=/usr/lib /usr/local/lib
libs=-lgdbm -lm -lcrypt -lutil -lc
perllibs=-lm -lcrypt -lutil -lc
libc=, so=so, useshrplib=false, libperl=libperl.a
gnulibc_version=''
Dynamic Linking:
dlsrc=dl_dlopen.xs, dlext=so, d_dlsymun=undef, ccdlflags=' '
cccdlflags='-DPIC -fPIC', lddlflags='-shared -L/usr/local/lib -fstack-protector'
Characteristics of this binary (from libperl):
Compile-time options: HAS_TIMES PERLIO_LAYERS PERL_DONT_CREATE_GVSV
PERL_MALLOC_WRAP PERL_PRESERVE_IVUV PERL_USE_DEVEL
USE_LARGE_FILES USE_LOCALE USE_LOCALE_COLLATE
USE_LOCALE_CTYPE USE_LOCALE_NUMERIC USE_PERLIO
USE_PERL_ATOF
Locally applied patches:
RC0
Built under freebsd
Compiled at May 11 2012 21:05:05
%ENV:
PERL5LIB=""
PERL5OPT=""
PERL5_CPANPLUS_IS_RUNNING="54063"
PERL5_CPAN_IS_RUNNING="54063"
PERL5_CPAN_IS_RUNNING_IN_RECURSION="54030,54063"
PERL_BATCH="yes"
PERL_CPAN_REPORTER_CONFIG="/var/tmp/cpansmoker-1023/GmC2owP9qC_config.ini"
PERL_CPAN_REPORTER_DIR="/home/cpansand/var/ctps/5160RC0/config/perl-5.16.0-RC0/cpanreporter"
PERL_EXTUTILS_AUTOINSTALL="--defaultdeps"
PERL_HTML_DISPLAY_CLASS="HTML::Display::Mozilla"
@INC:
/home/cpansand/var/ctps/5160RC0/install/perl-5.16.0-RC0/lib/site_perl/5.16.0/i386-freebsd
/home/cpansand/var/ctps/5160RC0/install/perl-5.16.0-RC0/lib/site_perl/5.16.0
/home/cpansand/var/ctps/5160RC0/install/perl-5.16.0-RC0/lib/5.16.0/i386-freebsd
/home/cpansand/var/ctps/5160RC0/install/perl-5.16.0-RC0/lib/5.16.0
.