CPP-panda-lib v1.3.5 Perl 5 v5.30.1 amd64-freebsd-thread-multi

Status
Pass
From
Slaven Rezić (SREZIC)
Dist
CPP-panda-lib v1.3.5
Platform
Perl 5 v5.30.1 amd64-freebsd-thread-multi
Date
2020-01-21 20:30:49
ID
e923b8da-3c8c-11ea-83c2-db3d1f24ea8f
This distribution has been tested as part of the CPAN Testers
project, supporting the Perl programming language.  See
http://wiki.cpantesters.org/ for more information or email
questions to cpan-testers-discuss@perl.org


--
Dear Oleg Pronin,

This is a computer-generated report for CPP-panda-lib-1.3.5
on perl 5.30.1, created by CPAN-Reporter-1.2018.

Thank you for uploading your work to CPAN.  Congratulations!
All tests were successful.

Sections of this report:

    * Tester comments
    * Program output
    * Prerequisites
    * Environment and other context

------------------------------
TESTER COMMENTS
------------------------------

Additional comments from tester:

none provided

------------------------------
PROGRAM OUTPUT
------------------------------

Output from '/usr/bin/make test':

"/usr/local/bin/perl" -MExtUtils::Command::MM -e 'cp_nonempty' -- lib.bs blib/arch/auto/CPP/panda/lib/lib.bs 644
c++ -c  -Isrc -I/usr/home/cpansand/.cpan/build/2020012120/XS-Install-1.2.12-1/blib/lib/XS/Install.x/i -I/usr/home/cpansand/.cpan/build/2020012120/CPP-catch-1.0.9-3/blib/lib/CPP/catch.x/i  -DHAS_FPSETMASK -DHAS_FLOATINGPOINT_H -DUSE_THREAD_SAFE_LOCALE -fno-strict-aliasing -pipe -fstack-protector-strong -I/usr/local/include -Wall -Wextra -std=c++14 -o t/bench.o -pipe -fstack-protector-strong -fno-strict-aliasing -pipe -fstack-protector-strong -fno-strict-aliasing -O0    -DVERSION=\"0.0.0\"  -DXS_VERSION=\"0.0.0\" -DPIC -fPIC "-I/usr/local/lib/perl5/5.30/mach/CORE"   t/bench.cc
c++ -c  -Isrc -I/usr/home/cpansand/.cpan/build/2020012120/XS-Install-1.2.12-1/blib/lib/XS/Install.x/i -I/usr/home/cpansand/.cpan/build/2020012120/CPP-catch-1.0.9-3/blib/lib/CPP/catch.x/i  -DHAS_FPSETMASK -DHAS_FLOATINGPOINT_H -DUSE_THREAD_SAFE_LOCALE -fno-strict-aliasing -pipe -fstack-protector-strong -I/usr/local/include -Wall -Wextra -std=c++14 -o t/dispatcher.o -pipe -fstack-protector-strong -fno-strict-aliasing -pipe -fstack-protector-strong -fno-strict-aliasing -O0    -DVERSION=\"0.0.0\"  -DXS_VERSION=\"0.0.0\" -DPIC -fPIC "-I/usr/local/lib/perl5/5.30/mach/CORE"   t/dispatcher.cc
c++ -c  -Isrc -I/usr/home/cpansand/.cpan/build/2020012120/XS-Install-1.2.12-1/blib/lib/XS/Install.x/i -I/usr/home/cpansand/.cpan/build/2020012120/CPP-catch-1.0.9-3/blib/lib/CPP/catch.x/i  -DHAS_FPSETMASK -DHAS_FLOATINGPOINT_H -DUSE_THREAD_SAFE_LOCALE -fno-strict-aliasing -pipe -fstack-protector-strong -I/usr/local/include -Wall -Wextra -std=c++14 -o t/endian.o -pipe -fstack-protector-strong -fno-strict-aliasing -pipe -fstack-protector-strong -fno-strict-aliasing -O0    -DVERSION=\"0.0.0\"  -DXS_VERSION=\"0.0.0\" -DPIC -fPIC "-I/usr/local/lib/perl5/5.30/mach/CORE"   t/endian.cc
c++ -c  -Isrc -I/usr/home/cpansand/.cpan/build/2020012120/XS-Install-1.2.12-1/blib/lib/XS/Install.x/i -I/usr/home/cpansand/.cpan/build/2020012120/CPP-catch-1.0.9-3/blib/lib/CPP/catch.x/i  -DHAS_FPSETMASK -DHAS_FLOATINGPOINT_H -DUSE_THREAD_SAFE_LOCALE -fno-strict-aliasing -pipe -fstack-protector-strong -I/usr/local/include -Wall -Wextra -std=c++14 -o t/error.o -pipe -fstack-protector-strong -fno-strict-aliasing -pipe -fstack-protector-strong -fno-strict-aliasing -O0    -DVERSION=\"0.0.0\"  -DXS_VERSION=\"0.0.0\" -DPIC -fPIC "-I/usr/local/lib/perl5/5.30/mach/CORE"   t/error.cc
c++ -c  -Isrc -I/usr/home/cpansand/.cpan/build/2020012120/XS-Install-1.2.12-1/blib/lib/XS/Install.x/i -I/usr/home/cpansand/.cpan/build/2020012120/CPP-catch-1.0.9-3/blib/lib/CPP/catch.x/i  -DHAS_FPSETMASK -DHAS_FLOATINGPOINT_H -DUSE_THREAD_SAFE_LOCALE -fno-strict-aliasing -pipe -fstack-protector-strong -I/usr/local/include -Wall -Wextra -std=c++14 -o t/excepted.o -pipe -fstack-protector-strong -fno-strict-aliasing -pipe -fstack-protector-strong -fno-strict-aliasing -O0    -DVERSION=\"0.0.0\"  -DXS_VERSION=\"0.0.0\" -DPIC -fPIC "-I/usr/local/lib/perl5/5.30/mach/CORE"   t/excepted.cc
c++ -c  -Isrc -I/usr/home/cpansand/.cpan/build/2020012120/XS-Install-1.2.12-1/blib/lib/XS/Install.x/i -I/usr/home/cpansand/.cpan/build/2020012120/CPP-catch-1.0.9-3/blib/lib/CPP/catch.x/i  -DHAS_FPSETMASK -DHAS_FLOATINGPOINT_H -DUSE_THREAD_SAFE_LOCALE -fno-strict-aliasing -pipe -fstack-protector-strong -I/usr/local/include -Wall -Wextra -std=c++14 -o t/exception.o -pipe -fstack-protector-strong -fno-strict-aliasing -pipe -fstack-protector-strong -fno-strict-aliasing -O0    -DVERSION=\"0.0.0\"  -DXS_VERSION=\"0.0.0\" -DPIC -fPIC "-I/usr/local/lib/perl5/5.30/mach/CORE"   t/exception.cc
c++ -c  -Isrc -I/usr/home/cpansand/.cpan/build/2020012120/XS-Install-1.2.12-1/blib/lib/XS/Install.x/i -I/usr/home/cpansand/.cpan/build/2020012120/CPP-catch-1.0.9-3/blib/lib/CPP/catch.x/i  -DHAS_FPSETMASK -DHAS_FLOATINGPOINT_H -DUSE_THREAD_SAFE_LOCALE -fno-strict-aliasing -pipe -fstack-protector-strong -I/usr/local/include -Wall -Wextra -std=c++14 -o t/from_chars.o -pipe -fstack-protector-strong -fno-strict-aliasing -pipe -fstack-protector-strong -fno-strict-aliasing -O0    -DVERSION=\"0.0.0\"  -DXS_VERSION=\"0.0.0\" -DPIC -fPIC "-I/usr/local/lib/perl5/5.30/mach/CORE"   t/from_chars.cc
c++ -c  -Isrc -I/usr/home/cpansand/.cpan/build/2020012120/XS-Install-1.2.12-1/blib/lib/XS/Install.x/i -I/usr/home/cpansand/.cpan/build/2020012120/CPP-catch-1.0.9-3/blib/lib/CPP/catch.x/i  -DHAS_FPSETMASK -DHAS_FLOATINGPOINT_H -DUSE_THREAD_SAFE_LOCALE -fno-strict-aliasing -pipe -fstack-protector-strong -I/usr/local/include -Wall -Wextra -std=c++14 -o t/function.o -pipe -fstack-protector-strong -fno-strict-aliasing -pipe -fstack-protector-strong -fno-strict-aliasing -O0    -DVERSION=\"0.0.0\"  -DXS_VERSION=\"0.0.0\" -DPIC -fPIC "-I/usr/local/lib/perl5/5.30/mach/CORE"   t/function.cc
c++ -c  -Isrc -I/usr/home/cpansand/.cpan/build/2020012120/XS-Install-1.2.12-1/blib/lib/XS/Install.x/i -I/usr/home/cpansand/.cpan/build/2020012120/CPP-catch-1.0.9-3/blib/lib/CPP/catch.x/i  -DHAS_FPSETMASK -DHAS_FLOATINGPOINT_H -DUSE_THREAD_SAFE_LOCALE -fno-strict-aliasing -pipe -fstack-protector-strong -I/usr/local/include -Wall -Wextra -std=c++14 -o t/intrusive_chain.o -pipe -fstack-protector-strong -fno-strict-aliasing -pipe -fstack-protector-strong -fno-strict-aliasing -O0    -DVERSION=\"0.0.0\"  -DXS_VERSION=\"0.0.0\" -DPIC -fPIC "-I/usr/local/lib/perl5/5.30/mach/CORE"   t/intrusive_chain.cc
c++ -c  -Isrc -I/usr/home/cpansand/.cpan/build/2020012120/XS-Install-1.2.12-1/blib/lib/XS/Install.x/i -I/usr/home/cpansand/.cpan/build/2020012120/CPP-catch-1.0.9-3/blib/lib/CPP/catch.x/i  -DHAS_FPSETMASK -DHAS_FLOATINGPOINT_H -DUSE_THREAD_SAFE_LOCALE -fno-strict-aliasing -pipe -fstack-protector-strong -I/usr/local/include -Wall -Wextra -std=c++14 -o t/iptr.o -pipe -fstack-protector-strong -fno-strict-aliasing -pipe -fstack-protector-strong -fno-strict-aliasing -O0    -DVERSION=\"0.0.0\"  -DXS_VERSION=\"0.0.0\" -DPIC -fPIC "-I/usr/local/lib/perl5/5.30/mach/CORE"   t/iptr.cc
c++ -c  -Isrc -I/usr/home/cpansand/.cpan/build/2020012120/XS-Install-1.2.12-1/blib/lib/XS/Install.x/i -I/usr/home/cpansand/.cpan/build/2020012120/CPP-catch-1.0.9-3/blib/lib/CPP/catch.x/i  -DHAS_FPSETMASK -DHAS_FLOATINGPOINT_H -DUSE_THREAD_SAFE_LOCALE -fno-strict-aliasing -pipe -fstack-protector-strong -I/usr/local/include -Wall -Wextra -std=c++14 -o t/owning_list.o -pipe -fstack-protector-strong -fno-strict-aliasing -pipe -fstack-protector-strong -fno-strict-aliasing -O0    -DVERSION=\"0.0.0\"  -DXS_VERSION=\"0.0.0\" -DPIC -fPIC "-I/usr/local/lib/perl5/5.30/mach/CORE"   t/owning_list.cc
c++ -c  -Isrc -I/usr/home/cpansand/.cpan/build/2020012120/XS-Install-1.2.12-1/blib/lib/XS/Install.x/i -I/usr/home/cpansand/.cpan/build/2020012120/CPP-catch-1.0.9-3/blib/lib/CPP/catch.x/i  -DHAS_FPSETMASK -DHAS_FLOATINGPOINT_H -DUSE_THREAD_SAFE_LOCALE -fno-strict-aliasing -pipe -fstack-protector-strong -I/usr/local/include -Wall -Wextra -std=c++14 -o t/string_char.o -pipe -fstack-protector-strong -fno-strict-aliasing -pipe -fstack-protector-strong -fno-strict-aliasing -O0    -DVERSION=\"0.0.0\"  -DXS_VERSION=\"0.0.0\" -DPIC -fPIC "-I/usr/local/lib/perl5/5.30/mach/CORE"   t/string_char.cc
c++ -c  -Isrc -I/usr/home/cpansand/.cpan/build/2020012120/XS-Install-1.2.12-1/blib/lib/XS/Install.x/i -I/usr/home/cpansand/.cpan/build/2020012120/CPP-catch-1.0.9-3/blib/lib/CPP/catch.x/i  -DHAS_FPSETMASK -DHAS_FLOATINGPOINT_H -DUSE_THREAD_SAFE_LOCALE -fno-strict-aliasing -pipe -fstack-protector-strong -I/usr/local/include -Wall -Wextra -std=c++14 -o t/string_char16.o -pipe -fstack-protector-strong -fno-strict-aliasing -pipe -fstack-protector-strong -fno-strict-aliasing -O0    -DVERSION=\"0.0.0\"  -DXS_VERSION=\"0.0.0\" -DPIC -fPIC "-I/usr/local/lib/perl5/5.30/mach/CORE"   t/string_char16.cc
c++ -c  -Isrc -I/usr/home/cpansand/.cpan/build/2020012120/XS-Install-1.2.12-1/blib/lib/XS/Install.x/i -I/usr/home/cpansand/.cpan/build/2020012120/CPP-catch-1.0.9-3/blib/lib/CPP/catch.x/i  -DHAS_FPSETMASK -DHAS_FLOATINGPOINT_H -DUSE_THREAD_SAFE_LOCALE -fno-strict-aliasing -pipe -fstack-protector-strong -I/usr/local/include -Wall -Wextra -std=c++14 -o t/string_char32.o -pipe -fstack-protector-strong -fno-strict-aliasing -pipe -fstack-protector-strong -fno-strict-aliasing -O0    -DVERSION=\"0.0.0\"  -DXS_VERSION=\"0.0.0\" -DPIC -fPIC "-I/usr/local/lib/perl5/5.30/mach/CORE"   t/string_char32.cc
c++ -c  -Isrc -I/usr/home/cpansand/.cpan/build/2020012120/XS-Install-1.2.12-1/blib/lib/XS/Install.x/i -I/usr/home/cpansand/.cpan/build/2020012120/CPP-catch-1.0.9-3/blib/lib/CPP/catch.x/i  -DHAS_FPSETMASK -DHAS_FLOATINGPOINT_H -DUSE_THREAD_SAFE_LOCALE -fno-strict-aliasing -pipe -fstack-protector-strong -I/usr/local/include -Wall -Wextra -std=c++14 -o t/string_containers.o -pipe -fstack-protector-strong -fno-strict-aliasing -pipe -fstack-protector-strong -fno-strict-aliasing -O0    -DVERSION=\"0.0.0\"  -DXS_VERSION=\"0.0.0\" -DPIC -fPIC "-I/usr/local/lib/perl5/5.30/mach/CORE"   t/string_containers.cc
c++ -c  -Isrc -I/usr/home/cpansand/.cpan/build/2020012120/XS-Install-1.2.12-1/blib/lib/XS/Install.x/i -I/usr/home/cpansand/.cpan/build/2020012120/CPP-catch-1.0.9-3/blib/lib/CPP/catch.x/i  -DHAS_FPSETMASK -DHAS_FLOATINGPOINT_H -DUSE_THREAD_SAFE_LOCALE -fno-strict-aliasing -pipe -fstack-protector-strong -I/usr/local/include -Wall -Wextra -std=c++14 -o t/string_wchar.o -pipe -fstack-protector-strong -fno-strict-aliasing -pipe -fstack-protector-strong -fno-strict-aliasing -O0    -DVERSION=\"0.0.0\"  -DXS_VERSION=\"0.0.0\" -DPIC -fPIC "-I/usr/local/lib/perl5/5.30/mach/CORE"   t/string_wchar.cc
c++ -c  -Isrc -I/usr/home/cpansand/.cpan/build/2020012120/XS-Install-1.2.12-1/blib/lib/XS/Install.x/i -I/usr/home/cpansand/.cpan/build/2020012120/CPP-catch-1.0.9-3/blib/lib/CPP/catch.x/i  -DHAS_FPSETMASK -DHAS_FLOATINGPOINT_H -DUSE_THREAD_SAFE_LOCALE -fno-strict-aliasing -pipe -fstack-protector-strong -I/usr/local/include -Wall -Wextra -std=c++14 -o t/test.o -pipe -fstack-protector-strong -fno-strict-aliasing -pipe -fstack-protector-strong -fno-strict-aliasing -O0    -DVERSION=\"0.0.0\"  -DXS_VERSION=\"0.0.0\" -DPIC -fPIC "-I/usr/local/lib/perl5/5.30/mach/CORE"   t/test.cc
c++ -c  -Isrc -I/usr/home/cpansand/.cpan/build/2020012120/XS-Install-1.2.12-1/blib/lib/XS/Install.x/i -I/usr/home/cpansand/.cpan/build/2020012120/CPP-catch-1.0.9-3/blib/lib/CPP/catch.x/i  -DHAS_FPSETMASK -DHAS_FLOATINGPOINT_H -DUSE_THREAD_SAFE_LOCALE -fno-strict-aliasing -pipe -fstack-protector-strong -I/usr/local/include -Wall -Wextra -std=c++14 -o t/to_chars.o -pipe -fstack-protector-strong -fno-strict-aliasing -pipe -fstack-protector-strong -fno-strict-aliasing -O0    -DVERSION=\"0.0.0\"  -DXS_VERSION=\"0.0.0\" -DPIC -fPIC "-I/usr/local/lib/perl5/5.30/mach/CORE"   t/to_chars.cc
c++ -c  -Isrc -I/usr/home/cpansand/.cpan/build/2020012120/XS-Install-1.2.12-1/blib/lib/XS/Install.x/i -I/usr/home/cpansand/.cpan/build/2020012120/CPP-catch-1.0.9-3/blib/lib/CPP/catch.x/i  -DHAS_FPSETMASK -DHAS_FLOATINGPOINT_H -DUSE_THREAD_SAFE_LOCALE -fno-strict-aliasing -pipe -fstack-protector-strong -I/usr/local/include -Wall -Wextra -std=c++14 -o t/traits.o -pipe -fstack-protector-strong -fno-strict-aliasing -pipe -fstack-protector-strong -fno-strict-aliasing -O0    -DVERSION=\"0.0.0\"  -DXS_VERSION=\"0.0.0\" -DPIC -fPIC "-I/usr/local/lib/perl5/5.30/mach/CORE"   t/traits.cc
c++ -c  -Isrc -I/usr/home/cpansand/.cpan/build/2020012120/XS-Install-1.2.12-1/blib/lib/XS/Install.x/i -I/usr/home/cpansand/.cpan/build/2020012120/CPP-catch-1.0.9-3/blib/lib/CPP/catch.x/i  -DHAS_FPSETMASK -DHAS_FLOATINGPOINT_H -DUSE_THREAD_SAFE_LOCALE -fno-strict-aliasing -pipe -fstack-protector-strong -I/usr/local/include -Wall -Wextra -std=c++14 -o t/varint.o -pipe -fstack-protector-strong -fno-strict-aliasing -pipe -fstack-protector-strong -fno-strict-aliasing -O0    -DVERSION=\"0.0.0\"  -DXS_VERSION=\"0.0.0\" -DPIC -fPIC "-I/usr/local/lib/perl5/5.30/mach/CORE"   t/varint.cc
Running Mkbootstrap for MyTest ()
chmod 644 "MyTest.bs"
"/usr/local/bin/perl" -MExtUtils::Command::MM -e 'cp_nonempty' -- MyTest.bs blib/arch/auto/MyTest/MyTest.bs 644
rm -f blib/arch/auto/MyTest/MyTest.so
LD_RUN_PATH="/usr/lib" c++  -shared  -L/usr/local/lib/perl5/5.30/mach/CORE -lperl -L/usr/local/lib -fstack-protector-strong  t/bench.o t/dispatcher.o t/endian.o t/error.o t/excepted.o t/exception.o t/from_chars.o t/function.o t/intrusive_chain.o t/iptr.o t/owning_list.o t/string_char.o t/string_char16.o t/string_char32.o t/string_containers.o t/string_wchar.o t/test.o t/to_chars.o t/traits.o t/varint.o blib/arch/auto/CPP/panda/lib/lib.so  -o blib/arch/auto/MyTest/MyTest.so    -lexecinfo    
chmod 755 blib/arch/auto/MyTest/MyTest.so
Manifying 1 pod document
PERL_DL_NONLAZY=1 "/usr/local/bin/perl" "-MExtUtils::Command::MM" "-MTest::Harness" "-e" "undef *Test::Harness::Switches; test_harness(0, 'blib/lib', 'blib/arch')" t/*.t
t/dispatcher.t ......... ok
t/endian.t ............. ok
t/error.t .............. ok
t/excepted.t ........... ok
t/exception.t .......... skipped: set TEST_FULL=1 to enable this test
t/from_chars.t ......... ok
t/function.t ........... ok
t/intrusive_chain.t .... ok
t/iptr.t ............... ok
t/owning_list.t ........ ok
t/string_char.t ........ ok
t/string_char16.t ...... ok
t/string_char32.t ...... ok
t/string_containers.t .. ok
t/string_wchar.t ....... ok
t/to_chars.t ........... ok
t/traits.t ............. ok
t/varint.t ............. ok
All tests successful.
Files=18, Tests=103,  5 wallclock secs ( 1.44 usr  0.11 sys +  3.26 cusr  1.54 csys =  6.34 CPU)
Result: PASS

------------------------------
PREREQUISITES
------------------------------

Prerequisite modules loaded:

requires:

    Module       Need     Have    
    ------------ -------- --------
    perl         5.012000 5.030001
    XS::Install  v1.2.12  1.2.12  

build_requires:

    Module       Need     Have    
    ------------ -------- --------
    CPP::catch   v1.0.9   1.0.9   
    Test::Catch  v1.0.10  1.0.10  
    Test::Deep   0        1.128   
    Test::More   0        1.302162
    Test::Simple 0.96     1.302162

configure_requires:

    Module       Need     Have    
    ------------ -------- --------
    CPP::catch   v1.0.9   1.0.9   
    Test::Catch  v1.0.10  1.0.10  
    XS::Install  v1.2.12  1.2.12  


------------------------------
ENVIRONMENT AND OTHER CONTEXT
------------------------------

Environment variables:

    PATH = /usr/local/bin:/usr/bin:/bin:/usr/local/sbin:/usr/sbin:/sbin:/home/cpansand/bin/sh:/home/cpansand/bin:/usr/games:/home/cpansand/devel:/usr/home/eserte/src/srezic-misc/scripts
    PERL5LIB = /home/cpansand/.cpan/build/2020012120/Test-Catch-1.0.10-0/blib/arch:/home/cpansand/.cpan/build/2020012120/Test-Catch-1.0.10-0/blib/lib:/home/cpansand/.cpan/build/2020012120/CPP-catch-1.0.9-3/blib/arch:/home/cpansand/.cpan/build/2020012120/CPP-catch-1.0.9-3/blib/lib:/home/cpansand/.cpan/build/2020012120/XS-Install-1.2.12-1/blib/arch:/home/cpansand/.cpan/build/2020012120/XS-Install-1.2.12-1/blib/lib:/home/cpansand/.cpan/build/2020012120/Test-Deep-1.128-1/blib/arch:/home/cpansand/.cpan/build/2020012120/Test-Deep-1.128-1/blib/lib
    PERL5OPT = 
    PERL5_CPANPLUS_IS_RUNNING = 68064
    PERL5_CPAN_IS_RUNNING = 68064
    PERL5_CPAN_IS_RUNNING_IN_RECURSION = 67114,68064
    PERL_BATCH = yes
    PERL_CANARY_STABILITY_NOPROMPT = 1
    PERL_CPAN_REPORTER_CONFIG = /var/tmp/cpansmoker-1023/2020012120/cpanreporter_000_config.ini
    PERL_EXTUTILS_AUTOINSTALL = --defaultdeps
    PERL_USE_UNSAFE_INC = 1
    SHELL = /bin/sh
    TMPDIR = /var/tmp/cpansmoker-1023/2020012120

Perl special variables (and OS-specific diagnostics, for MSWin32):

    $^X = /usr/local/bin/perl
    $UID/$EUID = 1023 / 1023
    $GID = 1023 1023
    $EGID = 1023 1023

Perl module toolchain versions installed:

    Module              Have    
    ------------------- --------
    CPAN                2.22    
    CPAN::Meta          2.150010
    Cwd                 3.78    
    ExtUtils::CBuilder  0.280231
    ExtUtils::Command   7.34    
    ExtUtils::Install   2.14    
    ExtUtils::MakeMaker 7.34    
    ExtUtils::Manifest  1.72    
    ExtUtils::ParseXS   3.40    
    File::Spec          3.78    
    JSON                n/a     
    JSON::PP            4.02    
    Module::Build       0.4229  
    Module::Signature   n/a     
    Parse::CPAN::Meta   2.150010
    Test::Harness       3.42    
    Test::More          1.302162
    YAML                n/a     
    YAML::Syck          1.31    
    version             0.9924  


--

Summary of my perl5 (revision 5 version 30 subversion 1) configuration:
   
  Platform:
    osname=freebsd
    osvers=13.0-current
    archname=amd64-freebsd-thread-multi
    uname='freebsd head-amd64-default-job-02 13.0-current freebsd 13.0-current 1300057 amd64 '
    config_args='-sde -Dprefix=/usr/local -Dlibperl=libperl.so.5.30.1 -Darchlib=/usr/local/lib/perl5/5.30/mach -Dprivlib=/usr/local/lib/perl5/5.30 -Dman3dir=/usr/local/lib/perl5/5.30/perl/man/man3 -Dman1dir=/usr/local/lib/perl5/5.30/perl/man/man1 -Dsitearch=/usr/local/lib/perl5/site_perl/mach/5.30 -Dsitelib=/usr/local/lib/perl5/site_perl -Dscriptdir=/usr/local/bin -Dsiteman3dir=/usr/local/lib/perl5/site_perl/man/man3 -Dsiteman1dir=/usr/local/lib/perl5/site_perl/man/man1 -Ui_malloc -Ui_iconv -Uinstallusrbinperl -Dusenm=n -Dcc=cc -Duseshrplib -Dinc_version_list=none -Dcf_by=mat -Dcf_email=mat@FreeBSD.org -Dcf_time=Sun Nov 10 14:14:17 UTC 2019 -Alddlflags=-L/wrkdirs/usr/ports/lang/perl5.30/work/perl-5.30.1 -L/usr/local/lib/perl5/5.30/mach/CORE -lperl -Dshrpldflags=$(LDDLFLAGS:N-L/wrkdirs/usr/ports/lang/perl5.30/work/perl-5.30.1:N-L/usr/local/lib/perl5/5.30/mach/CORE:N-lperl) -Wl,-soname,$(LIBPERL:R) -Doptimize=-O2 -pipe  -fstack-protector-strong -fno-strict-aliasing  -Dusedtrace -Ui_gdbm -Dusemultiplicity=y -Duse64bitint -Dusemymalloc=n -Dusethreads=y -Accflags=-DUSE_THREAD_SAFE_LOCALE'
    hint=recommended
    useposix=true
    d_sigaction=define
    useithreads=define
    usemultiplicity=define
    use64bitint=define
    use64bitall=define
    uselongdouble=undef
    usemymalloc=n
    default_inc_excludes_dot=define
    bincompat5005=undef
  Compiler:
    cc='cc'
    ccflags ='-DHAS_FPSETMASK -DHAS_FLOATINGPOINT_H -DUSE_THREAD_SAFE_LOCALE -fno-strict-aliasing -pipe -fstack-protector-strong -I/usr/local/include'
    optimize='-O2 -pipe -fstack-protector-strong -fno-strict-aliasing '
    cppflags='-DHAS_FPSETMASK -DHAS_FLOATINGPOINT_H -DUSE_THREAD_SAFE_LOCALE -fno-strict-aliasing -pipe -fstack-protector-strong -I/usr/local/include'
    ccversion=''
    gccversion='FreeBSD Clang 9.0.0 (tags/RELEASE_900/final 372316)'
    gccosandvers=''
    intsize=4
    longsize=8
    ptrsize=8
    doublesize=8
    byteorder=12345678
    doublekind=3
    d_longlong=define
    longlongsize=8
    d_longdbl=define
    longdblsize=16
    longdblkind=3
    ivtype='long'
    ivsize=8
    nvtype='double'
    nvsize=8
    Off_t='off_t'
    lseeksize=8
    alignbytes=8
    prototype=define
  Linker and Libraries:
    ld='cc'
    ldflags ='-pthread -Wl,-E  -fstack-protector-strong -L/usr/local/lib'
    libpth=/usr/lib /usr/local/lib /usr/lib/clang/9.0.0/lib /usr/lib
    libs=-lpthread -lm -lcrypt -lutil
    perllibs=-lpthread -lm -lcrypt -lutil
    libc=
    so=so
    useshrplib=true
    libperl=libperl.so.5.30.1
    gnulibc_version=''
  Dynamic Linking:
    dlsrc=dl_dlopen.xs
    dlext=so
    d_dlsymun=undef
    ccdlflags='  -Wl,-R/usr/local/lib/perl5/5.30/mach/CORE'
    cccdlflags='-DPIC -fPIC'
    lddlflags='-shared  -L/usr/local/lib/perl5/5.30/mach/CORE -lperl -L/usr/local/lib -fstack-protector-strong'


Characteristics of this binary (from libperl): 
  Compile-time options:
    HAS_TIMES
    MULTIPLICITY
    PERLIO_LAYERS
    PERL_COPY_ON_WRITE
    PERL_DONT_CREATE_GVSV
    PERL_IMPLICIT_CONTEXT
    PERL_MALLOC_WRAP
    PERL_OP_PARENT
    PERL_PRESERVE_IVUV
    USE_64_BIT_ALL
    USE_64_BIT_INT
    USE_ITHREADS
    USE_LARGE_FILES
    USE_LOCALE
    USE_LOCALE_COLLATE
    USE_LOCALE_CTYPE
    USE_LOCALE_NUMERIC
    USE_LOCALE_TIME
    USE_PERLIO
    USE_PERL_ATOF
    USE_REENTRANT_API
    USE_THREAD_SAFE_LOCALE
  Built under freebsd
  %ENV:
    PERL5LIB="/home/cpansand/.cpan/build/2020012120/Test-Catch-1.0.10-0/blib/arch:/home/cpansand/.cpan/build/2020012120/Test-Catch-1.0.10-0/blib/lib:/home/cpansand/.cpan/build/2020012120/CPP-catch-1.0.9-3/blib/arch:/home/cpansand/.cpan/build/2020012120/CPP-catch-1.0.9-3/blib/lib:/home/cpansand/.cpan/build/2020012120/XS-Install-1.2.12-1/blib/arch:/home/cpansand/.cpan/build/2020012120/XS-Install-1.2.12-1/blib/lib:/home/cpansand/.cpan/build/2020012120/Test-Deep-1.128-1/blib/arch:/home/cpansand/.cpan/build/2020012120/Test-Deep-1.128-1/blib/lib"
    PERL5OPT=""
    PERL5_CPANPLUS_IS_RUNNING="68064"
    PERL5_CPAN_IS_RUNNING="68064"
    PERL5_CPAN_IS_RUNNING_IN_RECURSION="67114,68064"
    PERL_BATCH="yes"
    PERL_CANARY_STABILITY_NOPROMPT="1"
    PERL_CPAN_REPORTER_CONFIG="/var/tmp/cpansmoker-1023/2020012120/cpanreporter_000_config.ini"
    PERL_EXTUTILS_AUTOINSTALL="--defaultdeps"
    PERL_USE_UNSAFE_INC="1"
  @INC:
    /home/cpansand/.cpan/build/2020012120/Test-Catch-1.0.10-0/blib/arch
    /home/cpansand/.cpan/build/2020012120/Test-Catch-1.0.10-0/blib/lib
    /home/cpansand/.cpan/build/2020012120/CPP-catch-1.0.9-3/blib/arch
    /home/cpansand/.cpan/build/2020012120/CPP-catch-1.0.9-3/blib/lib
    /home/cpansand/.cpan/build/2020012120/XS-Install-1.2.12-1/blib/arch
    /home/cpansand/.cpan/build/2020012120/XS-Install-1.2.12-1/blib/lib
    /home/cpansand/.cpan/build/2020012120/Test-Deep-1.128-1/blib/arch
    /home/cpansand/.cpan/build/2020012120/Test-Deep-1.128-1/blib/lib
    /usr/local/lib/perl5/site_perl/mach/5.30
    /usr/local/lib/perl5/site_perl
    /usr/local/lib/perl5/5.30/mach
    /usr/local/lib/perl5/5.30
    .