App-Pod2Epub v0.03 Perl 5 v5.8.7 x86_64-linux-thread-multi-ld
- Status
- Pass
- From
- Andreas J. König (ANDK)
- Dist
-
App-Pod2Epub v0.03
- Platform
- Perl 5 v5.8.7 x86_64-linux-thread-multi-ld
- Date
- 2010-08-20 06:55:26
- ID
- e9396b9e-ac27-11df-9e0a-2e5c984c9764
This distribution has been tested as part of the CPAN Testers
project, supporting the Perl programming language. See
http://wiki.cpantesters.org/ for more information or email
questions to cpan-testers-discuss@perl.org
--
Dear John McNamara,
This is a computer-generated report for App-Pod2Epub-0.03
on perl 5.8.7, created by CPAN-Reporter-1.18.
Thank you for uploading your work to CPAN. Congratulations!
All tests were successful.
Sections of this report:
* Tester comments
* Program output
* Prerequisites
* Environment and other context
------------------------------
TESTER COMMENTS
------------------------------
Additional comments from tester:
this report is from an automated smoke testing program
and was not reviewed by a human for accuracy
------------------------------
PROGRAM OUTPUT
------------------------------
Output from '/usr/bin/make test':
PERL_DL_NONLAZY=1 /usr/local/perl-5.8.7-threaded/bin/perl "-MExtUtils::Command::MM" "-e" "test_harness(0, 'blib/lib', 'blib/arch')" t/*.t
# Testing App::Pod2Epub 0.03, Perl 5.008007, /usr/local/perl-5.8.7-threaded/bin/perl
t/00-load.t ............ ok
t/90_pod.t ............. ok
t/91_minimumversion.t .. skipped: no minimum perl version could be determined
t/92_meta.t ............ ok
All tests successful.
Files=4, Tests=5, 0 wallclock secs ( 0.03 usr 0.01 sys + 0.30 cusr 0.04 csys = 0.38 CPU)
Result: PASS
------------------------------
PREREQUISITES
------------------------------
Prerequisite modules loaded:
requires:
Module Need Have
------------------- ---- ------
Data::UUID 0 1.203
EBook::EPUB 0.5 0.5
File::Temp 0 0.22
Getopt::Long 0 2.3802
Pod::Simple 0 3.14
Pod::Usage 0 1.36
configure_requires:
Module Need Have
------------------- ---- ------
ExtUtils::MakeMaker 0 6.56
------------------------------
ENVIRONMENT AND OTHER CONTEXT
------------------------------
Environment variables:
AUTOMATED_TESTING = 1
LANG = en_US.UTF-8
PATH = /home/sand/bin:/usr/local/bin:/usr/bin:/bin:/usr/bin/X11:/usr/games:/usr/local/perl/bin:/usr/X11/bin:/sbin:/usr/sbin
PERL5LIB =
PERL5OPT =
PERL5_CPANPLUS_IS_RUNNING = 18552
PERL5_CPAN_IS_RUNNING = 18552
PERL_MM_USE_DEFAULT = 1
SHELL = /usr/bin/zsh
TERM = screen
Perl special variables (and OS-specific diagnostics, for MSWin32):
$^X = /usr/local/perl-5.8.7-threaded/bin/perl
$UID/$EUID = 1001 / 1001
$GID = 1001 1001
$EGID = 1001 1001
Perl module toolchain versions installed:
Module Have
------------------- -------
CPAN 1.94_53
Cwd 3.31_02
ExtUtils::CBuilder 0.27_05
ExtUtils::Command 1.16
ExtUtils::Install 1.52_03
ExtUtils::MakeMaker 6.56
ExtUtils::Manifest 1.58
ExtUtils::ParseXS 2.2206
File::Spec 3.31_02
Module::Build 0.36_13
Module::Signature 0.61
Test::Harness 3.22
Test::More 0.96
YAML 0.71
YAML::Syck 1.12
version 0.82
--
Summary of my perl5 (revision 5 version 8 subversion 7) configuration:
Platform:
osname=linux, osvers=2.6.26-1-amd64, archname=x86_64-linux-thread-multi-ld
uname='linux k81 2.6.26-1-amd64 #1 smp mon dec 15 17:25:36 utc 2008 x86_64 gnulinux '
config_args='-Dprefix=/usr/local/perl-5.8.7-threaded -Uversiononly -Dusedevel -Ui_db -Duselongdouble -des -Dusethreads'
hint=recommended, useposix=true, d_sigaction=define
usethreads=define use5005threads=undef useithreads=define usemultiplicity=define
useperlio=define d_sfio=undef uselargefiles=define usesocks=undef
use64bitint=define use64bitall=define uselongdouble=define
usemymalloc=n, bincompat5005=undef
Compiler:
cc='cc', ccflags ='-D_REENTRANT -D_GNU_SOURCE -DTHREADS_HAVE_PIDS -fno-strict-aliasing -pipe -I/usr/local/include -D_LARGEFILE_SOURCE -D_FILE_OFFSET_BITS=64',
optimize='-O2',
cppflags='-D_REENTRANT -D_GNU_SOURCE -DTHREADS_HAVE_PIDS -fno-strict-aliasing -pipe -I/usr/local/include'
ccversion='', gccversion='4.3.2', gccosandvers=''
intsize=4, longsize=8, ptrsize=8, doublesize=8, byteorder=12345678
d_longlong=define, longlongsize=8, d_longdbl=define, longdblsize=16
ivtype='long', ivsize=8, nvtype='long double', nvsize=16, Off_t='off_t', lseeksize=8
alignbytes=16, prototype=define
Linker and Libraries:
ld='cc', ldflags =' -L/usr/local/lib'
libpth=/usr/local/lib /lib /usr/lib
libs=-lnsl -ldb -ldl -lm -lcrypt -lutil -lpthread -lc
perllibs=-lnsl -ldl -lm -lcrypt -lutil -lpthread -lc
libc=/lib/libc-2.7.so, so=so, useshrplib=false, libperl=libperl.a
gnulibc_version='2.7'
Dynamic Linking:
dlsrc=dl_dlopen.xs, dlext=so, d_dlsymun=undef, ccdlflags='-Wl,-E'
cccdlflags='-fpic', lddlflags='-shared -L/usr/local/lib'
Characteristics of this binary (from libperl):
Compile-time options: MULTIPLICITY USE_ITHREADS USE_64_BIT_INT
USE_64_BIT_ALL USE_LONG_DOUBLE USE_LARGE_FILES
PERL_IMPLICIT_CONTEXT
Built under linux
Compiled at Feb 20 2009 04:23:53
%ENV:
PERL5LIB=""
PERL5OPT=""
PERL5_CPANPLUS_IS_RUNNING="18552"
PERL5_CPAN_IS_RUNNING="18552"
PERL_MM_USE_DEFAULT="1"
@INC:
/usr/local/perl-5.8.7-threaded/lib/5.8.7/x86_64-linux-thread-multi-ld
/usr/local/perl-5.8.7-threaded/lib/5.8.7
/usr/local/perl-5.8.7-threaded/lib/site_perl/5.8.7/x86_64-linux-thread-multi-ld
/usr/local/perl-5.8.7-threaded/lib/site_perl/5.8.7
/usr/local/perl-5.8.7-threaded/lib/site_perl
.