Paws v0.45 Perl 5 v5.16.3 amd64-freebsd-thread-multi

Status
Pass
From
Slaven Rezić
Dist
Paws v0.45
Platform
Perl 5 v5.16.3 amd64-freebsd-thread-multi
Date
2022-06-02 00:21:13
ID
e93fccda-e209-11ec-8aa4-ce842cbfd570
This distribution has been tested as part of the CPAN Testers
project, supporting the Perl programming language.  See
http://wiki.cpantesters.org/ for more information or email
questions to cpan-testers-discuss@perl.org


--
Dear Jose Luis Martinez Torres,

This is a computer-generated report for Paws-0.45
on perl 5.16.3, created by CPAN-Reporter-1.2018.

Thank you for uploading your work to CPAN.  Congratulations!
All tests were successful.

Sections of this report:

    * Tester comments
    * Program output
    * Prerequisites
    * Environment and other context

------------------------------
TESTER COMMENTS
------------------------------

Additional comments from tester:

none provided

------------------------------
PROGRAM OUTPUT
------------------------------

Output from './Build test':

Paws::CloudFront is not stable / supported / entirely developed at /usr/home/cpansand/.cpan/build/2022060202/Paws-0.45-0/blib/lib/Paws/CloudFront.pm line 2.
Paws::Route53 is not stable / supported / entirely developed at /usr/home/cpansand/.cpan/build/2022060202/Paws-0.45-0/blib/lib/Paws/Route53.pm line 2.
Paws::S3 is not stable / supported / entirely developed at /usr/home/cpansand/.cpan/build/2022060202/Paws-0.45-0/blib/lib/Paws/S3.pm line 2.
Paws::S3Control is not stable / supported / entirely developed at /usr/home/cpansand/.cpan/build/2022060202/Paws-0.45-0/blib/lib/Paws/S3Control.pm line 2.
t/01_load.t ............................. ok
t/02_aws_object.t ....................... ok
t/03_aws_default_object.t ............... ok
t/04_credentials.t ...................... ok
Paws::S3 is not stable / supported / entirely developed at /usr/home/cpansand/.cpan/build/2022060202/Paws-0.45-0/blib/lib/Paws/S3.pm line 2.
Paws::CloudFront is not stable / supported / entirely developed at /usr/home/cpansand/.cpan/build/2022060202/Paws-0.45-0/blib/lib/Paws/CloudFront.pm line 2.
Paws::Route53 is not stable / supported / entirely developed at /usr/home/cpansand/.cpan/build/2022060202/Paws-0.45-0/blib/lib/Paws/Route53.pm line 2.
t/05_service_calls.t .................... ok
t/06_endpoint_override.t ................ ok
Paws::CloudFront is not stable / supported / entirely developed at /usr/home/cpansand/.cpan/build/2022060202/Paws-0.45-0/blib/lib/Paws/CloudFront.pm line 2.
Use of uninitialized value in string eq at t/lib/TestFromYaml.pm line 22.
Use of uninitialized value $got in string eq at (eval in cmp_ok) t/10_responses.t line 136.
Use of uninitialized value $got in string eq at (eval in cmp_ok) t/10_responses.t line 136.
Use of uninitialized value $got in string eq at (eval in cmp_ok) t/10_responses.t line 136.
Use of uninitialized value $got in string eq at (eval in cmp_ok) t/10_responses.t line 136.
Paws::Route53 is not stable / supported / entirely developed at /usr/home/cpansand/.cpan/build/2022060202/Paws-0.45-0/blib/lib/Paws/Route53.pm line 2.
Paws::S3 is not stable / supported / entirely developed at /usr/home/cpansand/.cpan/build/2022060202/Paws-0.45-0/blib/lib/Paws/S3.pm line 2.
t/10_responses.t ........................ ok
# Testing with caller Paws::Net::FurlCaller
Paws::S3 is not stable / supported / entirely developed at /usr/home/cpansand/.cpan/build/2022060202/Paws-0.45-0/blib/lib/Paws/S3.pm line 2.
Paws::Route53 is not stable / supported / entirely developed at /usr/home/cpansand/.cpan/build/2022060202/Paws-0.45-0/blib/lib/Paws/Route53.pm line 2.
# Testing with caller Paws::Net::Caller
# Testing with caller Paws::Net::LWPCaller
t/11_client_exceptions.t ................ ok
No service for cloudformation at t/12_regions.t line 310.
No service for cloudfront at t/12_regions.t line 310.
No service for dynamodb at t/12_regions.t line 310.
No service for ec2 at t/12_regions.t line 310.
No service for elasticache at t/12_regions.t line 310.
No service for glacier at t/12_regions.t line 310.
No service for iam at t/12_regions.t line 310.
No service for importexport at t/12_regions.t line 310.
No service for rds at t/12_regions.t line 310.
Paws::Route53 is not stable / supported / entirely developed at /usr/home/cpansand/.cpan/build/2022060202/Paws-0.45-0/t/../lib/Paws/Route53.pm line 2.
Paws::S3 is not stable / supported / entirely developed at /usr/home/cpansand/.cpan/build/2022060202/Paws-0.45-0/t/../lib/Paws/S3.pm line 2.
No service for sns at t/12_regions.t line 310.
No service for sqs at t/12_regions.t line 310.
No service for cloudformation at t/12_regions.t line 310.
No service for cloudfront at t/12_regions.t line 310.
No service for cloudsearch at t/12_regions.t line 310.
No service for dynamodb at t/12_regions.t line 310.
No service for ec2 at t/12_regions.t line 310.
No service for elasticache at t/12_regions.t line 310.
No service for iam at t/12_regions.t line 310.
No service for importexport at t/12_regions.t line 310.
No service for rds at t/12_regions.t line 310.
No service for sns at t/12_regions.t line 310.
No service for sqs at t/12_regions.t line 310.
No service for cloudformation at t/12_regions.t line 310.
No service for cloudfront at t/12_regions.t line 310.
No service for dynamodb at t/12_regions.t line 310.
No service for ec2 at t/12_regions.t line 310.
No service for elasticache at t/12_regions.t line 310.
No service for glacier at t/12_regions.t line 310.
No service for iam at t/12_regions.t line 310.
No service for importexport at t/12_regions.t line 310.
No service for rds at t/12_regions.t line 310.
No service for sns at t/12_regions.t line 310.
No service for sqs at t/12_regions.t line 310.
No service for cloudformation at t/12_regions.t line 310.
No service for dynamodb at t/12_regions.t line 310.
No service for ec2 at t/12_regions.t line 310.
No service for elasticache at t/12_regions.t line 310.
No service for glacier at t/12_regions.t line 310.
No service for iam at t/12_regions.t line 310.
No service for rds at t/12_regions.t line 310.
No service for sns at t/12_regions.t line 310.
No service for sqs at t/12_regions.t line 310.
No service for cloudformation at t/12_regions.t line 310.
No service for cloudfront at t/12_regions.t line 310.
No service for cloudsearch at t/12_regions.t line 310.
No service for dynamodb at t/12_regions.t line 310.
No service for ec2 at t/12_regions.t line 310.
No service for elasticache at t/12_regions.t line 310.
No service for glacier at t/12_regions.t line 310.
No service for iam at t/12_regions.t line 310.
No service for importexport at t/12_regions.t line 310.
No service for rds at t/12_regions.t line 310.
No service for sns at t/12_regions.t line 310.
No service for sqs at t/12_regions.t line 310.
No service for cloudformation at t/12_regions.t line 310.
No service for cloudfront at t/12_regions.t line 310.
No service for dynamodb at t/12_regions.t line 310.
No service for ec2 at t/12_regions.t line 310.
No service for elasticache at t/12_regions.t line 310.
No service for iam at t/12_regions.t line 310.
No service for importexport at t/12_regions.t line 310.
No service for rds at t/12_regions.t line 310.
No service for sns at t/12_regions.t line 310.
No service for sqs at t/12_regions.t line 310.
No service for cloudformation at t/12_regions.t line 310.
No service for cloudfront at t/12_regions.t line 310.
No service for cloudsearch at t/12_regions.t line 310.
No service for cloudtrail at t/12_regions.t line 310.
No service for dynamodb at t/12_regions.t line 310.
No service for ec2 at t/12_regions.t line 310.
No service for elasticache at t/12_regions.t line 310.
No service for glacier at t/12_regions.t line 310.
No service for iam at t/12_regions.t line 310.
No service for importexport at t/12_regions.t line 310.
No service for kinesis at t/12_regions.t line 310.
No service for opsworks at t/12_regions.t line 310.
No service for rds at t/12_regions.t line 310.
No service for sns at t/12_regions.t line 310.
No service for sqs at t/12_regions.t line 310.
No service for support at t/12_regions.t line 310.
No service for dynamodb at t/12_regions.t line 310.
No service for ec2 at t/12_regions.t line 310.
No service for iam at t/12_regions.t line 310.
No service for rds at t/12_regions.t line 310.
No service for sns at t/12_regions.t line 310.
No service for sqs at t/12_regions.t line 310.
No service for cloudformation at t/12_regions.t line 310.
No service for cloudfront at t/12_regions.t line 310.
No service for cloudsearch at t/12_regions.t line 310.
No service for dynamodb at t/12_regions.t line 310.
No service for ec2 at t/12_regions.t line 310.
No service for elasticache at t/12_regions.t line 310.
No service for glacier at t/12_regions.t line 310.
No service for iam at t/12_regions.t line 310.
No service for importexport at t/12_regions.t line 310.
No service for rds at t/12_regions.t line 310.
No service for sns at t/12_regions.t line 310.
No service for sqs at t/12_regions.t line 310.
No service for cloudformation at t/12_regions.t line 310.
No service for cloudfront at t/12_regions.t line 310.
No service for cloudsearch at t/12_regions.t line 310.
No service for cloudtrail at t/12_regions.t line 310.
No service for dynamodb at t/12_regions.t line 310.
No service for ec2 at t/12_regions.t line 310.
No service for elasticache at t/12_regions.t line 310.
No service for glacier at t/12_regions.t line 310.
No service for iam at t/12_regions.t line 310.
No service for importexport at t/12_regions.t line 310.
No service for rds at t/12_regions.t line 310.
No service for sns at t/12_regions.t line 310.
No service for sqs at t/12_regions.t line 310.
Paws::CloudFront is not stable / supported / entirely developed at /usr/home/cpansand/.cpan/build/2022060202/Paws-0.45-0/t/../lib/Paws/CloudFront.pm line 2.
t/12_regions.t .......................... ok
# Default caller
# LWP caller
# Mojo caller
# 
# Furl caller
t/13_client_connect_errors.t ............ ok
# Default caller
# LWP caller
# Mojo caller
# Furl caller
t/14_dns_client_errors.t ................ ok
t/15_timeouts.t ......................... ok
t/16_retries.t .......................... ok
Paws::S3 is not stable / supported / entirely developed at /usr/home/cpansand/.cpan/build/2022060202/Paws-0.45-0/blib/lib/Paws/S3.pm line 2.
t/17_s3metadata.t ....................... ok
# Testing file t/18_mocked/autoscaling-describescalingactivities.response.test.yml
Use of uninitialized value $got in string eq at (eval in cmp_ok) t/18_mocked.t line 100.
# Testing file t/18_mocked/cwlogs-createlog-group.response.test.yml
# Testing file t/18_mocked/cwlogs-createloggroup-2.response.test.yml
# Testing file t/18_mocked/cwlogs-createlogstream-dup.response.test.yml
# Testing file t/18_mocked/cwlogs-createlogstream.response.test.yml
# Testing file t/18_mocked/cwlogs-deleteloggroup-nonexist.response.test.yml
# Testing file t/18_mocked/cwlogs-deleteloggroup.response.test.yml
# Testing file t/18_mocked/cwlogs-deletelogstream-nonexist.response.test.yml
# Testing file t/18_mocked/cwlogs-deletelogstream.response.test.yml
# Testing file t/18_mocked/cwlogs-describeloggroups.response.test.yml
# Testing file t/18_mocked/cwlogs-describelogstreams.response.test.yml
# Testing file t/18_mocked/cwlogs-filterpattern.response.test.yml
# Testing file t/18_mocked/cwlogs-putlogevents-1.response.test.yml
# Testing file t/18_mocked/cwlogs-putlogevents-2.response.test.yml
# Testing file t/18_mocked/cwlogs-putlogevents-3.response.test.yml
# Testing file t/18_mocked/cwlogs-putlogevents-dup.response.test.yml
# Testing file t/18_mocked/efs_createfilesystem.response.test.yml
# Testing file t/18_mocked/efs_createfilesystem_duplicate.response.test.yml
# Testing file t/18_mocked/efs_deletefilesystem.response.test.yml
# Testing file t/18_mocked/efs_describefilesystems.response.test.yml
# Testing file t/18_mocked/efs_describefilesystems_nonexistant.response.test.yml
# Testing file t/18_mocked/polly_listlexicons.response.test.yml
# Testing file t/18_mocked/polly_listlexicons_empty.response.test.yml
# Testing file t/18_mocked/polly_putlexicon.response.test.yml
# Testing file t/18_mocked/polly_synthesizespeech.response.test.yml
# Testing file t/18_mocked/signin-getsignintoken.response.test.yml
# Testing file t/18_mocked/sts-getfederationtoken.response.test.yml
# Testing file t/26_paginators/s3-getallobjects-with-prefix/0001.response.test.yml
Paws::S3 is not stable / supported / entirely developed at /usr/home/cpansand/.cpan/build/2022060202/Paws-0.45-0/blib/lib/Paws/S3.pm line 2.
# Testing file t/26_paginators/s3-getallobjects-with-prefix/0002.response.test.yml
# Testing file t/26_paginators/s3-getallobjects/0001.response.test.yml
# Testing file t/26_paginators/s3-getallobjects/0002.response.test.yml
# Testing file t/26_paginators/s3-getallobjects/0003.response.test.yml
# Testing file t/26_paginators/s3-getallobjects/0004.response.test.yml
# Testing file t/26_paginators/s3-getallobjectsv2-with-prefix/0001.response.test.yml
# Testing file t/26_paginators/s3-getallobjectsv2-with-prefix/0002.response.test.yml
# Testing file t/26_paginators/s3-getallobjectsv2/0001.response.test.yml
# Testing file t/26_paginators/s3-getallobjectsv2/0002.response.test.yml
# Testing file t/26_paginators/s3-getallobjectsv2/0003.response.test.yml
# Testing file t/26_paginators/s3-getallobjectsv2/0004.response.test.yml
t/18_mocked.t ........................... ok
t/19_signin_login.t ..................... ok
t/20_json_syntetic_responses.t .......... ok
t/21_restjson_syntetic_responses.t ...... ok
t/22_query_syntetic_responses.t ......... ok
t/23_queryflatten_syntetic_responses.t .. ok
t/24_error_from_nonreturningmethod.t .... ok
t/25_error_on_malformed_response.t ...... ok
Paws::S3 is not stable / supported / entirely developed at /usr/home/cpansand/.cpan/build/2022060202/Paws-0.45-0/blib/lib/Paws/S3.pm line 2.
t/26_paginators.t ....................... ok
t/27_signing_name.t ..................... ok
t/28_retries_mojoasynccaller.t .......... ok
t/99_pod_syntax.t ....................... skipped: author testing only
t/glacier/content_headers.t ............. ok
t/glacier/multipartupload.t ............. ok
Paws::Route53 is not stable / supported / entirely developed at /usr/home/cpansand/.cpan/build/2022060202/Paws-0.45-0/blib/lib/Paws/Route53.pm line 2.
t/route53/uri_generation.t .............. ok
Paws::Route53 is not stable / supported / entirely developed at /usr/home/cpansand/.cpan/build/2022060202/Paws-0.45-0/blib/lib/Paws/Route53.pm line 2.
t/route53/xml_creation.t ................ ok
Paws::S3 is not stable / supported / entirely developed at /usr/home/cpansand/.cpan/build/2022060202/Paws-0.45-0/blib/lib/Paws/S3.pm line 2.
t/s3/content_headers.t .................. ok
Paws::S3 is not stable / supported / entirely developed at /usr/home/cpansand/.cpan/build/2022060202/Paws-0.45-0/blib/lib/Paws/S3.pm line 2.
t/s3/multipartupload.t .................. ok
Paws::S3 is not stable / supported / entirely developed at /usr/home/cpansand/.cpan/build/2022060202/Paws-0.45-0/blib/lib/Paws/S3.pm line 2.
t/s3/prefix.t ........................... ok
Paws::S3 is not stable / supported / entirely developed at /usr/home/cpansand/.cpan/build/2022060202/Paws-0.45-0/blib/lib/Paws/S3.pm line 2.
# $VAR1 = bless( {}, 'Paws::S3::ContinuationEvent' );
t/s3/selectcontent.t .................... ok
Paws::S3 is not stable / supported / entirely developed at /usr/home/cpansand/.cpan/build/2022060202/Paws-0.45-0/blib/lib/Paws/S3.pm line 2.
t/s3/uri_avoid_chars.t .................. ok
Paws::S3 is not stable / supported / entirely developed at /usr/home/cpansand/.cpan/build/2022060202/Paws-0.45-0/blib/lib/Paws/S3.pm line 2.
t/s3/uri_encoding.t ..................... ok
Paws::S3 is not stable / supported / entirely developed at /usr/home/cpansand/.cpan/build/2022060202/Paws-0.45-0/blib/lib/Paws/S3.pm line 2.
t/s3/uri_other_chars.t .................. ok
Paws::S3 is not stable / supported / entirely developed at /usr/home/cpansand/.cpan/build/2022060202/Paws-0.45-0/blib/lib/Paws/S3.pm line 2.
# PutBucketLifecycleConfiguration
# SelectObjectContent
t/s3/xml_creation.t ..................... ok
All tests successful.

Test Summary Report
-------------------
t/10_responses.t                      (Wstat: 0 Tests: 9900 Failed: 0)
  TODO passed:   6364, 6370, 7896, 9579, 9586, 9671, 9736
t/18_mocked.t                         (Wstat: 0 Tests: 4007 Failed: 0)
  TODO passed:   91-143, 145-154, 156-173, 175-222, 224-262
                264-322, 324-330
t/glacier/multipartupload.t           (Wstat: 0 Tests: 3 Failed: 0)
  TODO passed:   2-3
t/s3/content_headers.t                (Wstat: 0 Tests: 27 Failed: 0)
  TODO passed:   1-2, 4-7
t/s3/multipartupload.t                (Wstat: 0 Tests: 7 Failed: 0)
  TODO passed:   2-7
t/s3/prefix.t                         (Wstat: 0 Tests: 2 Failed: 0)
  TODO passed:   1-2
t/s3/xml_creation.t                   (Wstat: 0 Tests: 2 Failed: 0)
  TODO passed:   2
Files=38, Tests=15233, 323 wallclock secs ( 1.30 usr  0.48 sys + 193.16 cusr  7.72 csys = 202.66 CPU)
Result: PASS

------------------------------
PREREQUISITES
------------------------------

Prerequisite modules loaded:

requires:

    Module                     Need     Have    
    -------------------------- -------- --------
    ARGV::Struct               0        0.06    
    Config::AWS                0        0.05    
    Data::Compare              0        1.25    
    DataStruct::Flat           0        0.01    
    DateTime                   0        1.58    
    DateTime::Format::ISO8601  0        0.15    
    Digest::SHA                0        6.02    
    File::HomeDir              0        1.006   
    Getopt::Long               0        2.52    
    HTTP::Tiny                 0        0.080   
    IO::Socket::SSL            0        2.073   
    JSON::MaybeXS              0        1.004003
    Module::Find               0        0.15    
    Moose                      0        2.2201  
    MooseX::ClassAttribute     0        0.29    
    MooseX::Getopt             0        0.75    
    Net::Amazon::Signature::V4 0        0.21    
    Path::Tiny                 0.017    0.122   
    perl                       5.012001 5.016003
    String::CRC32              0        2.100   
    Throwable::Error           0        0.201   
    URI                        0        5.09    
    URI::Template              0.23     0.24    
    URL::Encode                0        0.03    
    URL::Encode::XS            0        0.03    
    XML::Simple                2.21     2.25    

build_requires:

    Module                     Need     Have    
    -------------------------- -------- --------
    Class::Unload              0        0.09    
    File::Slurper              0        0.012   
    Path::Class                0        0.37    
    Test::Exception            0        0.43    
    Test::More                 0        1.302190
    Test::Timer                0        2.10    
    Test::Warnings             0        0.031   
    YAML                       0        1.30    

configure_requires:

    Module                     Need     Have    
    -------------------------- -------- --------
    Module::Build::Tiny        0.034    0.039   

opt_requires:

    Module                     Need     Have    
    -------------------------- -------- --------
    Browser::Open              0        0.04    


------------------------------
ENVIRONMENT AND OTHER CONTEXT
------------------------------

Environment variables:

    LC_ALL = de_DE.ISO8859-1
    PATH = /usr/local/bin:/usr/bin:/bin:/usr/local/sbin:/usr/sbin:/sbin:/home/cpansand/bin/freebsd9.3:/home/cpansand/bin/sh:/home/cpansand/bin:/usr/games:/home/cpansand/devel:/usr/home/eserte/src/srezic-misc/scripts
    PERL5LIB = 
    PERL5OPT = 
    PERL5_CPANPLUS_IS_RUNNING = 62073
    PERL5_CPAN_IS_RUNNING = 62073
    PERL5_CPAN_IS_RUNNING_IN_RECURSION = 45067,62073
    PERLDOC = -MPod::Perldoc::ToTextOverstrike
    PERL_BATCH = yes
    PERL_CANARY_STABILITY_NOPROMPT = 1
    PERL_CPAN_REPORTER_CONFIG = /var/tmp/cpansmoker-1023/2022060121/cpanreporter_000_config.ini
    PERL_EXTUTILS_AUTOINSTALL = --defaultdeps
    PERL_USE_UNSAFE_INC = 1
    SHELL = /usr/local/bin/zsh
    TERM = screen
    TMPDIR = /var/tmp/cpansmoker-1023/2022060121

Perl special variables (and OS-specific diagnostics, for MSWin32):

    $^X = /usr/perl5.16.3t/bin/perl5.16.3
    $UID/$EUID = 1023 / 1023
    $GID = 1023 1023
    $EGID = 1023 1023

Perl module toolchain versions installed:

    Module              Have    
    ------------------- --------
    CPAN                2.34    
    CPAN::Meta          2.150010
    Cwd                 3.75    
    ExtUtils::CBuilder  0.280236
    ExtUtils::Command   7.64    
    ExtUtils::Install   2.20    
    ExtUtils::MakeMaker 7.64    
    ExtUtils::Manifest  1.73    
    ExtUtils::ParseXS   3.35    
    File::Spec          3.75    
    JSON                4.06    
    JSON::PP            4.08    
    Module::Build       0.4231  
    Module::Signature   0.88    
    Parse::CPAN::Meta   2.150010
    Test::Harness       3.44    
    Test::More          1.302190
    YAML                1.30    
    YAML::Syck          1.34    
    version             0.9929  


--

Summary of my perl5 (revision 5 version 16 subversion 3) configuration:
   
  Platform:
    osname=freebsd, osvers=9.2-release-p4, archname=amd64-freebsd-thread-multi
    uname='freebsd cvrsnica-freebsd-92 9.2-release-p4 freebsd 9.2-release-p4 #0: tue apr 8 18:08:22 utc 2014 root@amd64-builder.daemonology.net:usrobjusrsrcsysgeneric amd64 '
    config_args='-ds -e -Dprefix=/usr/perl5.16.3t -Dusethreads'
    hint=recommended, useposix=true, d_sigaction=define
    useithreads=define, usemultiplicity=define
    useperlio=define, d_sfio=undef, uselargefiles=define, usesocks=undef
    use64bitint=define, use64bitall=define, uselongdouble=undef
    usemymalloc=n, bincompat5005=undef
  Compiler:
    cc='cc', ccflags ='-DHAS_FPSETMASK -DHAS_FLOATINGPOINT_H -fno-strict-aliasing -pipe -fstack-protector -I/usr/local/include',
    optimize='-O',
    cppflags='-DHAS_FPSETMASK -DHAS_FLOATINGPOINT_H -fno-strict-aliasing -pipe -fstack-protector -I/usr/local/include'
    ccversion='', gccversion='4.2.1 20070831 patched [FreeBSD]', gccosandvers=''
    intsize=4, longsize=8, ptrsize=8, doublesize=8, byteorder=12345678
    d_longlong=define, longlongsize=8, d_longdbl=define, longdblsize=16
    ivtype='long', ivsize=8, nvtype='double', nvsize=8, Off_t='off_t', lseeksize=8
    alignbytes=8, prototype=define
  Linker and Libraries:
    ld='cc', ldflags ='-pthread -Wl,-E  -fstack-protector -L/usr/local/lib'
    libpth=/usr/lib /usr/local/lib
    libs=-lgdbm -lm -lcrypt
    perllibs=-lm -lcrypt
    libc=, so=so, useshrplib=false, libperl=libperl.a
    gnulibc_version=''
  Dynamic Linking:
    dlsrc=dl_dlopen.xs, dlext=so, d_dlsymun=undef, ccdlflags=' '
    cccdlflags='-DPIC -fPIC', lddlflags='-shared  -L/usr/local/lib -fstack-protector'


Characteristics of this binary (from libperl): 
  Compile-time options: HAS_TIMES MULTIPLICITY PERLIO_LAYERS
                        PERL_DONT_CREATE_GVSV PERL_IMPLICIT_CONTEXT
                        PERL_MALLOC_WRAP PERL_PRESERVE_IVUV USE_64_BIT_ALL
                        USE_64_BIT_INT USE_ITHREADS USE_LARGE_FILES
                        USE_LOCALE USE_LOCALE_COLLATE USE_LOCALE_CTYPE
                        USE_LOCALE_NUMERIC USE_PERLIO USE_PERL_ATOF
                        USE_REENTRANT_API
  Built under freebsd
  Compiled at May 16 2014 07:49:48
  %ENV:
    PERL5LIB=""
    PERL5OPT=""
    PERL5_CPANPLUS_IS_RUNNING="62073"
    PERL5_CPAN_IS_RUNNING="62073"
    PERL5_CPAN_IS_RUNNING_IN_RECURSION="45067,62073"
    PERLDOC="-MPod::Perldoc::ToTextOverstrike"
    PERL_BATCH="yes"
    PERL_CANARY_STABILITY_NOPROMPT="1"
    PERL_CPAN_REPORTER_CONFIG="/var/tmp/cpansmoker-1023/2022060121/cpanreporter_000_config.ini"
    PERL_EXTUTILS_AUTOINSTALL="--defaultdeps"
    PERL_USE_UNSAFE_INC="1"
  @INC:
    /usr/perl5.16.3t/lib/site_perl/5.16.3/amd64-freebsd-thread-multi
    /usr/perl5.16.3t/lib/site_perl/5.16.3
    /usr/perl5.16.3t/lib/5.16.3/amd64-freebsd-thread-multi
    /usr/perl5.16.3t/lib/5.16.3
    .