Report for Deeme-Backend-SQLite-0.03

Back
From: metabase:user:320bfe00-2aae-11df-837a-5e0a49663a4f
Subject: PASS Deeme-Backend-SQLite-0.03 v5.18.1 GNU/Linux
Date: 2014-08-12T16:37:12Z

This distribution has been tested as part of the CPAN Testers
project, supporting the Perl programming language.  See
http://wiki.cpantesters.org/ for more information or email
questions to cpan-testers-discuss@perl.org


--
Dear Ettore Di Giacinto,

This is a computer-generated report for Deeme-Backend-SQLite-0.03
on perl 5.18.1, created by CPAN-Reporter-1.2011.

Thank you for uploading your work to CPAN.  Congratulations!
All tests were successful.

Sections of this report:

    * Tester comments
    * Program output
    * Prerequisites
    * Environment and other context

------------------------------
TESTER COMMENTS
------------------------------

Additional comments from tester:

this report is from an automated smoke testing program
and was not reviewed by a human for accuracy

------------------------------
PROGRAM OUTPUT
------------------------------

Output from './Build test':

t/01-basic.t ............ ok
Unquoted string "like" may clash with future reserved word at (eval 41) line 4.
	eval 'sub {
    use warnings;
    use strict \'refs\';
    like pop(), qr/Event "test2" failed: test2: works!/, \'right error\';
}' called at /home/sand/src/perl/repoperls/installed-perls/perl/v5.18.1/165a/lib/site_perl/5.18.1/Deeme/Utils.pm line 10
	Deeme::Utils::_deserialize('ewogICAgdXNlIHdhcm5pbmdzOwogICAgdXNlIHN0cmljdCAncmVmcyc7CiAgI...') called at /home/sand/src/perl/repoperls/installed-perls/perl/v5.18.1/165a/lib/site_perl/5.18.1/Deeme/Backend/DBI.pm line 105
	Deeme::Backend::DBI::events_get('Deeme::Backend::DBI=HASH(0x2557730)', 'error') called at /home/sand/src/perl/repoperls/installed-perls/perl/v5.18.1/165a/lib/site_perl/5.18.1/Deeme.pm line 27
	Deeme::emit('Deeme=HASH(0x2557598)', 'error', 'just') called at t/02-emitter.t line 36
	eval {...} called at t/02-emitter.t line 36
	main::__ANON__() called at /home/sand/src/perl/repoperls/installed-perls/perl/v5.18.1/165a/lib/site_perl/5.18.1/Test/Builder.pm line 221
	Test::Builder::__ANON__() called at /home/sand/src/perl/repoperls/installed-perls/perl/v5.18.1/165a/lib/site_perl/5.18.1/Test/Builder/Trace.pm line 24
	Test::Builder::Trace::nest('Test::Builder::Trace', 'CODE(0x2530548)') called at /home/sand/src/perl/repoperls/installed-perls/perl/v5.18.1/165a/lib/site_perl/5.18.1/Test/Builder.pm line 226
	Test::Builder::__ANON__() called at /home/sand/src/perl/repoperls/installed-perls/perl/v5.18.1/165a/lib/site_perl/5.18.1/Test/Builder/Util.pm line 248
	eval {...} called at /home/sand/src/perl/repoperls/installed-perls/perl/v5.18.1/165a/lib/site_perl/5.18.1/Test/Builder/Util.pm line 248
	Test::Builder::Util::try('CODE(0x25306b0)') called at /home/sand/src/perl/repoperls/installed-perls/perl/v5.18.1/165a/lib/site_perl/5.18.1/Test/Builder.pm line 226
	Test::Builder::subtest('Test::Builder=HASH(0x1b3f090)', 'SQLite Backend', 'CODE(0x1e60ea0)') called at /home/sand/src/perl/repoperls/installed-perls/perl/v5.18.1/165a/lib/site_perl/5.18.1/Test/More.pm line 343
	Test::More::subtest('SQLite Backend', 'CODE(0x1e60ea0)') called at t/02-emitter.t line 91
Unquoted string "like" may clash with future reserved word at (eval 44) line 4.
	eval 'sub {
    use warnings;
    use strict \'refs\';
    like pop(), qr/Event "test2" failed: test2: works!/, \'right error\';
}' called at /home/sand/src/perl/repoperls/installed-perls/perl/v5.18.1/165a/lib/site_perl/5.18.1/Deeme/Utils.pm line 10
	Deeme::Utils::_deserialize('ewogICAgdXNlIHdhcm5pbmdzOwogICAgdXNlIHN0cmljdCAncmVmcyc7CiAgI...') called at /home/sand/src/perl/repoperls/installed-perls/perl/v5.18.1/165a/lib/site_perl/5.18.1/Deeme/Backend/DBI.pm line 105
	Deeme::Backend::DBI::events_get('Deeme::Backend::DBI=HASH(0x2557730)', 'error') called at /home/sand/src/perl/repoperls/installed-perls/perl/v5.18.1/165a/lib/site_perl/5.18.1/Deeme.pm line 51
	Deeme::emit_safe('Deeme=HASH(0x2557598)', 'error', 'works') called at t/02-emitter.t line 39
	eval {...} called at t/02-emitter.t line 39
	main::__ANON__() called at /home/sand/src/perl/repoperls/installed-perls/perl/v5.18.1/165a/lib/site_perl/5.18.1/Test/Builder.pm line 221
	Test::Builder::__ANON__() called at /home/sand/src/perl/repoperls/installed-perls/perl/v5.18.1/165a/lib/site_perl/5.18.1/Test/Builder/Trace.pm line 24
	Test::Builder::Trace::nest('Test::Builder::Trace', 'CODE(0x2530548)') called at /home/sand/src/perl/repoperls/installed-perls/perl/v5.18.1/165a/lib/site_perl/5.18.1/Test/Builder.pm line 226
	Test::Builder::__ANON__() called at /home/sand/src/perl/repoperls/installed-perls/perl/v5.18.1/165a/lib/site_perl/5.18.1/Test/Builder/Util.pm line 248
	eval {...} called at /home/sand/src/perl/repoperls/installed-perls/perl/v5.18.1/165a/lib/site_perl/5.18.1/Test/Builder/Util.pm line 248
	Test::Builder::Util::try('CODE(0x25306b0)') called at /home/sand/src/perl/repoperls/installed-perls/perl/v5.18.1/165a/lib/site_perl/5.18.1/Test/Builder.pm line 226
	Test::Builder::subtest('Test::Builder=HASH(0x1b3f090)', 'SQLite Backend', 'CODE(0x1e60ea0)') called at /home/sand/src/perl/repoperls/installed-perls/perl/v5.18.1/165a/lib/site_perl/5.18.1/Test/More.pm line 343
	Test::More::subtest('SQLite Backend', 'CODE(0x1e60ea0)') called at t/02-emitter.t line 91
Unquoted string "like" may clash with future reserved word at (eval 46) line 4.
	eval 'sub {
    use warnings;
    use strict \'refs\';
    like pop(), qr/Event "test2" failed: test2: works!/, \'right error\';
}' called at /home/sand/src/perl/repoperls/installed-perls/perl/v5.18.1/165a/lib/site_perl/5.18.1/Deeme/Utils.pm line 10
	Deeme::Utils::_deserialize('ewogICAgdXNlIHdhcm5pbmdzOwogICAgdXNlIHN0cmljdCAncmVmcyc7CiAgI...') called at /home/sand/src/perl/repoperls/installed-perls/perl/v5.18.1/165a/lib/site_perl/5.18.1/Deeme/Backend/DBI.pm line 105
	Deeme::Backend::DBI::events_get('Deeme::Backend::DBI=HASH(0x2557730)', 'error') called at /home/sand/src/perl/repoperls/installed-perls/perl/v5.18.1/165a/lib/site_perl/5.18.1/Deeme.pm line 27
	Deeme::emit('Deeme=HASH(0x2557598)', 'error', 'Event "error" failed: works at (eval 45) line 4.\x{a}') called at /home/sand/src/perl/repoperls/installed-perls/perl/v5.18.1/165a/lib/site_perl/5.18.1/Deeme.pm line 58
	Deeme::emit_safe('Deeme=HASH(0x2557598)', 'error', 'works') called at t/02-emitter.t line 39
	eval {...} called at t/02-emitter.t line 39
	main::__ANON__() called at /home/sand/src/perl/repoperls/installed-perls/perl/v5.18.1/165a/lib/site_perl/5.18.1/Test/Builder.pm line 221
	Test::Builder::__ANON__() called at /home/sand/src/perl/repoperls/installed-perls/perl/v5.18.1/165a/lib/site_perl/5.18.1/Test/Builder/Trace.pm line 24
	Test::Builder::Trace::nest('Test::Builder::Trace', 'CODE(0x2530548)') called at /home/sand/src/perl/repoperls/installed-perls/perl/v5.18.1/165a/lib/site_perl/5.18.1/Test/Builder.pm line 226
	Test::Builder::__ANON__() called at /home/sand/src/perl/repoperls/installed-perls/perl/v5.18.1/165a/lib/site_perl/5.18.1/Test/Builder/Util.pm line 248
	eval {...} called at /home/sand/src/perl/repoperls/installed-perls/perl/v5.18.1/165a/lib/site_perl/5.18.1/Test/Builder/Util.pm line 248
	Test::Builder::Util::try('CODE(0x25306b0)') called at /home/sand/src/perl/repoperls/installed-perls/perl/v5.18.1/165a/lib/site_perl/5.18.1/Test/Builder.pm line 226
	Test::Builder::subtest('Test::Builder=HASH(0x1b3f090)', 'SQLite Backend', 'CODE(0x1e60ea0)') called at /home/sand/src/perl/repoperls/installed-perls/perl/v5.18.1/165a/lib/site_perl/5.18.1/Test/More.pm line 343
	Test::More::subtest('SQLite Backend', 'CODE(0x1e60ea0)') called at t/02-emitter.t line 91
t/02-emitter.t .......... ok
t/release-pod-syntax.t .. skipped: these tests are for release candidate testing
All tests successful.
Files=3, Tests=4,  2 wallclock secs ( 0.04 usr  0.00 sys +  0.39 cusr  0.02 csys =  0.45 CPU)
Result: PASS

------------------------------
PREREQUISITES
------------------------------

Prerequisite modules loaded:

requires:

    Module              Need     Have        
    ------------------- -------- ------------
    DBD::SQLite         0        1.42        
    DBI                 0        1.631       
    Deeme               0        0.04        
    Deeme::Backend::DBI 0        0.01        
    Deeme::Obj          0        0           
    Deeme::Utils        0        0           
    feature             0        1.32        

build_requires:

    Module              Need     Have        
    ------------------- -------- ------------
    Carp::Always        0        0.13        
    Test::More          0        1.301001_032

configure_requires:

    Module              Need     Have        
    ------------------- -------- ------------
    Module::Build::Tiny 0.037    0.037       
    perl                5.008005 5.018001    


------------------------------
ENVIRONMENT AND OTHER CONTEXT
------------------------------

Environment variables:

    AUTOMATED_TESTING = 1
    LANG = en_US.UTF-8
    LANGUAGE = en_US:en
    PATH = /usr/lib/ccache:/home/sand/bin:/usr/local/bin:/usr/bin:/bin:/usr/games:/usr/local/perl/bin:/usr/X11/bin:/sbin:/usr/sbin
    PERL5LIB = 
    PERL5OPT = 
    PERL5_CPANPLUS_IS_RUNNING = 15199
    PERL5_CPAN_IS_RUNNING = 15199
    PERL_MM_USE_DEFAULT = 1
    SHELL = /usr/bin/zsh
    TERM = screen

Perl special variables (and OS-specific diagnostics, for MSWin32):

    $^X = /home/sand/src/perl/repoperls/installed-perls/perl/v5.18.1/165a/bin/perl
    $UID/$EUID = 1005 / 1005
    $GID = 1005 1005
    $EGID = 1005 1005

Perl module toolchain versions installed:

    Module              Have        
    ------------------- ------------
    CPAN                2.05        
    CPAN::Meta          2.142060    
    Cwd                 3.47        
    ExtUtils::CBuilder  0.280216    
    ExtUtils::Command   1.17        
    ExtUtils::Install   1.59        
    ExtUtils::MakeMaker 6.98        
    ExtUtils::Manifest  1.63        
    ExtUtils::ParseXS   3.24        
    File::Spec          3.47        
    JSON                2.90        
    JSON::PP            2.27203     
    Module::Build       0.4206      
    Module::Signature   0.73        
    Parse::CPAN::Meta   1.4414      
    Test::Harness       3.32        
    Test::More          1.301001_032
    YAML                1.01        
    YAML::Syck          1.27        
    version             0.9908      


--

Summary of my perl5 (revision 5 version 18 subversion 1) configuration:
  Commit id: 75c3005ee5b6ece3ad3c827cb300945f672c2bd1
  Platform:
    osname=linux, osvers=3.14-2-amd64, archname=x86_64-linux
    uname='linux k83 3.14-2-amd64 #1 smp debian 3.14.13-2 (2014-07-24) x86_64 gnulinux '
    config_args='-Dprefix=/home/sand/src/perl/repoperls/installed-perls/perl/v5.18.1/165a -Dmyhostname=k83 -Dinstallusrbinperl=n -Uversiononly -Dusedevel -des -Ui_db -Uuseithreads -Uuselongdouble -DDEBUGGING=-g'
    hint=recommended, useposix=true, d_sigaction=define
    useithreads=undef, usemultiplicity=undef
    useperlio=define, d_sfio=undef, uselargefiles=define, usesocks=undef
    use64bitint=define, use64bitall=define, uselongdouble=undef
    usemymalloc=n, bincompat5005=undef
  Compiler:
    cc='cc', ccflags ='-fno-strict-aliasing -pipe -fstack-protector -I/usr/local/include -D_LARGEFILE_SOURCE -D_FILE_OFFSET_BITS=64',
    optimize='-O2 -g',
    cppflags='-fno-strict-aliasing -pipe -fstack-protector -I/usr/local/include'
    ccversion='', gccversion='4.9.1', gccosandvers=''
    intsize=4, longsize=8, ptrsize=8, doublesize=8, byteorder=12345678
    d_longlong=define, longlongsize=8, d_longdbl=define, longdblsize=16
    ivtype='long', ivsize=8, nvtype='double', nvsize=8, Off_t='off_t', lseeksize=8
    alignbytes=8, prototype=define
  Linker and Libraries:
    ld='cc', ldflags =' -fstack-protector -L/usr/local/lib'
    libpth=/usr/local/lib /lib/x86_64-linux-gnu /lib/../lib /usr/lib/x86_64-linux-gnu /usr/lib/../lib /lib /usr/lib
    libs=-lnsl -lgdbm -ldb -ldl -lm -lcrypt -lutil -lc -lgdbm_compat
    perllibs=-lnsl -ldl -lm -lcrypt -lutil -lc
    libc=, so=so, useshrplib=false, libperl=libperl.a
    gnulibc_version='2.19'
  Dynamic Linking:
    dlsrc=dl_dlopen.xs, dlext=so, d_dlsymun=undef, ccdlflags='-Wl,-E'
    cccdlflags='-fPIC', lddlflags='-shared -O2 -g -L/usr/local/lib -fstack-protector'


Characteristics of this binary (from libperl): 
  Compile-time options: HAS_TIMES PERLIO_LAYERS PERL_DONT_CREATE_GVSV
                        PERL_HASH_FUNC_ONE_AT_A_TIME_HARD PERL_MALLOC_WRAP
                        PERL_PRESERVE_IVUV PERL_SAWAMPERSAND PERL_USE_DEVEL
                        USE_64_BIT_ALL USE_64_BIT_INT USE_LARGE_FILES
                        USE_LOCALE USE_LOCALE_COLLATE USE_LOCALE_CTYPE
                        USE_LOCALE_NUMERIC USE_PERLIO USE_PERL_ATOF
  Built under linux
  Compiled at Aug 11 2014 05:05:11
  %ENV:
    PERL5LIB=""
    PERL5OPT=""
    PERL5_CPANPLUS_IS_RUNNING="15199"
    PERL5_CPAN_IS_RUNNING="15199"
    PERL_MM_USE_DEFAULT="1"
  @INC:
    /home/sand/src/perl/repoperls/installed-perls/perl/v5.18.1/165a/lib/site_perl/5.18.1/x86_64-linux
    /home/sand/src/perl/repoperls/installed-perls/perl/v5.18.1/165a/lib/site_perl/5.18.1
    /home/sand/src/perl/repoperls/installed-perls/perl/v5.18.1/165a/lib/5.18.1/x86_64-linux
    /home/sand/src/perl/repoperls/installed-perls/perl/v5.18.1/165a/lib/5.18.1
    .