Report for Crypt-OpenSSL-RSA-0.28

Back
From: metabase:user:314402c4-2aae-11df-837a-5e0a49663a4f
Subject: PASS Crypt-OpenSSL-RSA-0.28 v5.22.3 GNU/Linux
Date: 2017-06-24T08:27:07Z

This distribution has been tested as part of the CPAN Testers
project, supporting the Perl programming language.  See
http://wiki.cpantesters.org/ for more information or email
questions to cpan-testers-discuss@perl.org


--
Dear Moritz Onken,

This is a computer-generated report for Crypt-OpenSSL-RSA-0.28
on perl 5.22.3, created by CPAN-Reporter-1.2018.

Thank you for uploading your work to CPAN.  Congratulations!
All tests were successful.

Sections of this report:

    * Tester comments
    * Program output
    * Prerequisites
    * Environment and other context

------------------------------
TESTER COMMENTS
------------------------------

Additional comments from tester:

none provided

------------------------------
PROGRAM OUTPUT
------------------------------

Output from 'make test':

Running Mkbootstrap for Crypt::OpenSSL::RSA ()
chmod 644 "RSA.bs"
PERL_DL_NONLAZY=1 "/opt/perl-5.22.3/bin/perl" "-MExtUtils::Command::MM" "-MTest::Harness" "-e" "undef *Test::Harness::Switches; test_harness(0, 'blib/lib', 'blib/arch')" t/*.t
t/bignum.t .. skipped: (no reason given)
t/format.t .. ok
t/rsa.t ..... ok
All tests successful.
Files=3, Tests=73,  0 wallclock secs ( 0.01 usr  0.02 sys +  0.07 cusr  0.02 csys =  0.12 CPU)
Result: PASS

------------------------------
PREREQUISITES
------------------------------

Prerequisite modules loaded:

requires:

    Module                 Need Have   
    ---------------------- ---- -------
    Crypt::OpenSSL::Random 0    0.11   
    Test                   0    1.26_01

build_requires:

    Module                 Need Have   
    ---------------------- ---- -------
    ExtUtils::MakeMaker    0    7.04_02

configure_requires:

    Module                 Need Have   
    ---------------------- ---- -------
    ExtUtils::MakeMaker    0    7.04_02


------------------------------
ENVIRONMENT AND OTHER CONTEXT
------------------------------

Environment variables:

    LANG = en_US.UTF-8
    PATH = /usr/local/bin:/usr/bin:/bin:/usr/local/sbin:/usr/sbin:/sbin:/home/cpansand/bin/linux-gnu:/home/cpansand/bin/sh:/home/cpansand/bin:/usr/games:/home/cpansand/devel:/home/eserte/src/srezic-misc/scripts
    PERL5LIB = /home/cpansand/.cpan/build/2017062406/Crypt-OpenSSL-Random-0.11-GtfwxA/blib/arch:/home/cpansand/.cpan/build/2017062406/Crypt-OpenSSL-Random-0.11-GtfwxA/blib/lib:/home/cpansand/.cpan/build/2017062406/Regexp-Common-2017060201-EzZKja/blib/arch:/home/cpansand/.cpan/build/2017062406/Regexp-Common-2017060201-EzZKja/blib/lib:/home/cpansand/.cpan/build/2017062406/Email-Simple-2.213-lzADe2/blib/arch:/home/cpansand/.cpan/build/2017062406/Email-Simple-2.213-lzADe2/blib/lib:/home/cpansand/.cpan/build/2017062406/Email-Date-Format-1.005-hXGd1r/blib/arch:/home/cpansand/.cpan/build/2017062406/Email-Date-Format-1.005-hXGd1r/blib/lib:/home/cpansand/.cpan/build/2017062406/Net-SMTPS-0.06-khFa0l/blib/arch:/home/cpansand/.cpan/build/2017062406/Net-SMTPS-0.06-khFa0l/blib/lib:/home/cpansand/.cpan/build/2017062406/Authen-SASL-2.16-RfRBAn/blib/arch:/home/cpansand/.cpan/build/2017062406/Authen-SASL-2.16-RfRBAn/blib/lib
    PERL5OPT = 
    PERL5_CPANPLUS_IS_RUNNING = 20126
    PERL5_CPAN_IS_RUNNING = 20126
    PERL5_CPAN_IS_RUNNING_IN_RECURSION = 15477,20126
    PERLDOC = -MPod::Perldoc::ToTextOverstrike
    PERL_BATCH = yes
    PERL_CANARY_STABILITY_NOPROMPT = 1
    PERL_CPAN_REPORTER_CONFIG = /var/tmp/cpansmoker-1023/2017062406/cpanreporter_000_config.ini
    PERL_EXTUTILS_AUTOINSTALL = --defaultdeps
    SHELL = /bin/zsh
    TERM = screen
    TMPDIR = /var/tmp/cpansmoker-1023/2017062406

Perl special variables (and OS-specific diagnostics, for MSWin32):

    $^X = /opt/perl-5.22.3/bin/perl
    $UID/$EUID = 1023 / 1023
    $GID = 1023 1023
    $EGID = 1023 1023

Perl module toolchain versions installed:

    Module              Have      
    ------------------- ----------
    CPAN                2.11_01   
    CPAN::Meta          2.150001  
    Cwd                 3.56_02   
    ExtUtils::CBuilder  0.280221  
    ExtUtils::Command   1.20_01   
    ExtUtils::Install   2.04      
    ExtUtils::MakeMaker 7.04_02   
    ExtUtils::Manifest  1.70      
    ExtUtils::ParseXS   3.28      
    File::Spec          3.56_02   
    JSON                2.94      
    JSON::PP            2.27300_01
    Module::Build       0.4224    
    Module::Signature   n/a       
    Parse::CPAN::Meta   1.4414_001
    Test::Harness       3.35_01   
    Test::More          1.302086  
    YAML                1.23      
    YAML::Syck          1.30      
    version             0.9909    


--

Summary of my perl5 (revision 5 version 22 subversion 3) configuration:
   
  Platform:
    osname=linux, osvers=2.6.32-696.3.1.el6.x86_64, archname=x86_64-linux
    uname='linux centos6 2.6.32-696.3.1.el6.x86_64 #1 smp tue may 30 19:52:55 utc 2017 x86_64 x86_64 x86_64 gnulinux '
    config_args='-ds -e -Dprefix=/opt/perl-5.22.3 -Dcf_email=srezic@cpan.org'
    hint=recommended, useposix=true, d_sigaction=define
    useithreads=undef, usemultiplicity=undef
    use64bitint=define, use64bitall=define, uselongdouble=undef
    usemymalloc=n, bincompat5005=undef
  Compiler:
    cc='cc', ccflags ='-fwrapv -fno-strict-aliasing -pipe -fstack-protector -I/usr/local/include -D_LARGEFILE_SOURCE -D_FILE_OFFSET_BITS=64 -D_FORTIFY_SOURCE=2',
    optimize='-O2',
    cppflags='-fwrapv -fno-strict-aliasing -pipe -fstack-protector -I/usr/local/include'
    ccversion='', gccversion='4.4.7 20120313 (Red Hat 4.4.7-18)', gccosandvers=''
    intsize=4, longsize=8, ptrsize=8, doublesize=8, byteorder=12345678, doublekind=3
    d_longlong=define, longlongsize=8, d_longdbl=define, longdblsize=16, longdblkind=3
    ivtype='long', ivsize=8, nvtype='double', nvsize=8, Off_t='off_t', lseeksize=8
    alignbytes=8, prototype=define
  Linker and Libraries:
    ld='cc', ldflags =' -fstack-protector -L/usr/local/lib'
    libpth=/usr/local/lib /usr/lib /lib/../lib64 /usr/lib/../lib64 /lib /lib64 /usr/lib64 /usr/local/lib64
    libs=-lpthread -lnsl -lgdbm -ldb -ldl -lm -lcrypt -lutil -lc
    perllibs=-lpthread -lnsl -ldl -lm -lcrypt -lutil -lc
    libc=libc-2.12.so, so=so, useshrplib=false, libperl=libperl.a
    gnulibc_version='2.12'
  Dynamic Linking:
    dlsrc=dl_dlopen.xs, dlext=so, d_dlsymun=undef, ccdlflags='-Wl,-E'
    cccdlflags='-fPIC', lddlflags='-shared -O2 -L/usr/local/lib -fstack-protector'


Characteristics of this binary (from libperl): 
  Compile-time options: HAS_TIMES PERLIO_LAYERS PERL_DONT_CREATE_GVSV
                        PERL_HASH_FUNC_ONE_AT_A_TIME_HARD PERL_MALLOC_WRAP
                        PERL_NEW_COPY_ON_WRITE PERL_PRESERVE_IVUV
                        USE_64_BIT_ALL USE_64_BIT_INT USE_LARGE_FILES
                        USE_LOCALE USE_LOCALE_COLLATE USE_LOCALE_CTYPE
                        USE_LOCALE_NUMERIC USE_LOCALE_TIME USE_PERLIO
                        USE_PERL_ATOF
  Built under linux
  Compiled at Jun 21 2017 19:22:49
  %ENV:
    PERL5LIB="/home/cpansand/.cpan/build/2017062406/Crypt-OpenSSL-Random-0.11-GtfwxA/blib/arch:/home/cpansand/.cpan/build/2017062406/Crypt-OpenSSL-Random-0.11-GtfwxA/blib/lib:/home/cpansand/.cpan/build/2017062406/Regexp-Common-2017060201-EzZKja/blib/arch:/home/cpansand/.cpan/build/2017062406/Regexp-Common-2017060201-EzZKja/blib/lib:/home/cpansand/.cpan/build/2017062406/Email-Simple-2.213-lzADe2/blib/arch:/home/cpansand/.cpan/build/2017062406/Email-Simple-2.213-lzADe2/blib/lib:/home/cpansand/.cpan/build/2017062406/Email-Date-Format-1.005-hXGd1r/blib/arch:/home/cpansand/.cpan/build/2017062406/Email-Date-Format-1.005-hXGd1r/blib/lib:/home/cpansand/.cpan/build/2017062406/Net-SMTPS-0.06-khFa0l/blib/arch:/home/cpansand/.cpan/build/2017062406/Net-SMTPS-0.06-khFa0l/blib/lib:/home/cpansand/.cpan/build/2017062406/Authen-SASL-2.16-RfRBAn/blib/arch:/home/cpansand/.cpan/build/2017062406/Authen-SASL-2.16-RfRBAn/blib/lib"
    PERL5OPT=""
    PERL5_CPANPLUS_IS_RUNNING="20126"
    PERL5_CPAN_IS_RUNNING="20126"
    PERL5_CPAN_IS_RUNNING_IN_RECURSION="15477,20126"
    PERLDOC="-MPod::Perldoc::ToTextOverstrike"
    PERL_BATCH="yes"
    PERL_CANARY_STABILITY_NOPROMPT="1"
    PERL_CPAN_REPORTER_CONFIG="/var/tmp/cpansmoker-1023/2017062406/cpanreporter_000_config.ini"
    PERL_EXTUTILS_AUTOINSTALL="--defaultdeps"
  @INC:
    /home/cpansand/.cpan/build/2017062406/Crypt-OpenSSL-Random-0.11-GtfwxA/blib/arch
    /home/cpansand/.cpan/build/2017062406/Crypt-OpenSSL-Random-0.11-GtfwxA/blib/lib
    /home/cpansand/.cpan/build/2017062406/Regexp-Common-2017060201-EzZKja/blib/arch
    /home/cpansand/.cpan/build/2017062406/Regexp-Common-2017060201-EzZKja/blib/lib
    /home/cpansand/.cpan/build/2017062406/Email-Simple-2.213-lzADe2/blib/arch
    /home/cpansand/.cpan/build/2017062406/Email-Simple-2.213-lzADe2/blib/lib
    /home/cpansand/.cpan/build/2017062406/Email-Date-Format-1.005-hXGd1r/blib/arch
    /home/cpansand/.cpan/build/2017062406/Email-Date-Format-1.005-hXGd1r/blib/lib
    /home/cpansand/.cpan/build/2017062406/Net-SMTPS-0.06-khFa0l/blib/arch
    /home/cpansand/.cpan/build/2017062406/Net-SMTPS-0.06-khFa0l/blib/lib
    /home/cpansand/.cpan/build/2017062406/Authen-SASL-2.16-RfRBAn/blib/arch
    /home/cpansand/.cpan/build/2017062406/Authen-SASL-2.16-RfRBAn/blib/lib
    /opt/perl-5.22.3/lib/site_perl/5.22.3/x86_64-linux
    /opt/perl-5.22.3/lib/site_perl/5.22.3
    /opt/perl-5.22.3/lib/5.22.3/x86_64-linux
    /opt/perl-5.22.3/lib/5.22.3
    .