XML-SemanticDiff v1.0007 Perl 5 v5.26.2 x86_64-linux-multi

Status
Pass
From
Nigel Horne
Dist
XML-SemanticDiff v1.0007
Platform
Perl 5 v5.26.2 x86_64-linux-multi
Date
2019-03-30 12:18:23
ID
e984aee2-52e5-11e9-bf31-80c71e9d5857
This distribution has been tested as part of the CPAN Testers
project, supporting the Perl programming language.  See
http://wiki.cpantesters.org/ for more information or email
questions to cpan-testers-discuss@perl.org


--
Dear Chris Prather,

This is a computer-generated report for XML-SemanticDiff-1.0007
on perl 5.26.2, created by CPAN-Reporter-1.2018.

Thank you for uploading your work to CPAN.  Congratulations!
All tests were successful.

Sections of this report:

    * Tester comments
    * Program output
    * Prerequisites
    * Environment and other context

------------------------------
TESTER COMMENTS
------------------------------

Additional comments from tester:

this report is from an automated smoke testing program
and was not reviewed by a human for accuracy

------------------------------
PROGRAM OUTPUT
------------------------------

Output from './Build test':

t/01basic.t ........................... ok
t/05simple_handler.t .................. ok
t/06pass_to_handler.t ................. ok
t/02load_xml.t ........................ ok
t/07pitest.t .......................... ok
t/04namespaces.t ...................... ok
t/03simple_compare.t .................. ok
t/00-compile.t ........................ ok
t/10wide-chars.t ...................... ok
t/09two-tags.t ........................ ok
t/08nonexist_ns.t ..................... ok
t/13to-doc-read.t ..................... ok
t/11tag-in-different-locations.t ...... ok
t/12missing-element-has-o-as-cdata.t .. ok
t/14ignore_xpath.t .................... ok
t/16zero_to_empty_str_cmp.t ........... ok
t/style-trailing-space.t .............. skipped: Test::TrailingSpace required for trailing space test.
t/15ignore_multi.t .................... ok
All tests successful.
Files=18, Tests=47,  0 wallclock secs ( 0.04 usr  0.02 sys +  0.90 cusr  0.21 csys =  1.17 CPU)
Result: PASS

------------------------------
PREREQUISITES
------------------------------

Prerequisite modules loaded:

requires:

    Module        Need  Have    
    ------------- ----- --------
    Digest::MD5   0     2.55    
    Encode        0     2.98    
    perl          5.008 5.026002
    strict        0     1.11    
    warnings      0     1.37    
    XML::Parser   0     2.44    

build_requires:

    Module        Need  Have    
    ------------- ----- --------
    File::Spec    0     3.75    
    IO::Handle    0     1.39    
    IPC::Open3    0     1.20    
    Module::Build 0.28  0.4224  
    Test          0     1.30    
    Test::More    0.88  1.302140

configure_requires:

    Module        Need  Have    
    ------------- ----- --------
    Module::Build 0.28  0.4224  


------------------------------
ENVIRONMENT AND OTHER CONTEXT
------------------------------

Environment variables:

    AUTOMATED_TESTING = 1
    HARNESS_OPTIONS = j10
    LANG = en_GB.UTF-8
    NONINTERACTIVE_TESTING = 1
    PATH = /home/njh/perl5/perlbrew/bin:/home/njh/perl5/perlbrew/perls/perl-5.26.2-multi/bin:/usr/bin:/bin:/home/njh/src/njh/smoker/bin
    PERL5LIB = /tmp/build/Mojolicious-8.13-6/blib/arch:/tmp/build/Mojolicious-8.13-6/blib/lib:/tmp/build/Image-Size-3.300-6/blib/arch:/tmp/build/Image-Size-3.300-6/blib/lib:/tmp/build/File-Rsync-0.49-6/blib/arch:/tmp/build/File-Rsync-0.49-6/blib/lib:/tmp/build/Data-Printer-0.40-7/blib/arch:/tmp/build/Data-Printer-0.40-7/blib/lib:/tmp/build/Sort-Naturally-1.03-7/blib/arch:/tmp/build/Sort-Naturally-1.03-7/blib/lib:/tmp/build/Clone-PP-1.07-7/blib/arch:/tmp/build/Clone-PP-1.07-7/blib/lib
    PERL5OPT = 
    PERL5_CPANPLUS_IS_RUNNING = 14126
    PERL5_CPAN_IS_RUNNING = 14126
    PERLBREW_HOME = /home/njh/.perlbrew
    PERLBREW_MANPATH = /home/njh/perl5/perlbrew/perls/perl-5.26.2-multi/man
    PERLBREW_PATH = /home/njh/perl5/perlbrew/bin:/home/njh/perl5/perlbrew/perls/perl-5.26.2-multi/bin
    PERLBREW_PERL = perl-5.26.2-multi
    PERLBREW_ROOT = /home/njh/perl5/perlbrew
    PERLBREW_SHELLRC_VERSION = 0.86
    PERLBREW_VERSION = 0.86
    PERL_MM_USE_DEFAULT = 1
    PERL_USE_UNSAFE_INC = 1
    SHELL = /bin/sh
    TMPDIR = /tmp/testwrapper.14113

Perl special variables (and OS-specific diagnostics, for MSWin32):

    $^X = /home/njh/perl5/perlbrew/perls/perl-5.26.2-multi/bin/perl5.26.2
    $UID/$EUID = 1000 / 1000
    $GID = 1000 4 24 25 29 30 44 46 107 112 118 996 1000
    $EGID = 1000 4 24 25 29 30 44 46 107 112 118 996 1000

Perl module toolchain versions installed:

    Module              Have    
    ------------------- --------
    CPAN                2.25    
    CPAN::Meta          2.150010
    Cwd                 3.75    
    ExtUtils::CBuilder  0.280230
    ExtUtils::Command   7.34    
    ExtUtils::Install   2.14    
    ExtUtils::MakeMaker 7.34    
    ExtUtils::Manifest  1.72    
    ExtUtils::ParseXS   3.35    
    File::Spec          3.75    
    JSON                4.02    
    JSON::PP            2.97001 
    Module::Build       0.4224  
    Module::Signature   n/a     
    Parse::CPAN::Meta   2.150010
    Test::Harness       3.42    
    Test::More          1.302140
    YAML                1.27    
    YAML::Syck          1.31    
    version             0.9924  


--

Summary of my perl5 (revision 5 version 26 subversion 2) configuration:
   
  Platform:
    osname=linux
    osvers=4.15.0-2-amd64
    archname=x86_64-linux-multi
    uname='linux microcenter 4.15.0-2-amd64 #1 smp debian 4.15.11-1 (2018-03-20) x86_64 gnulinux '
    config_args='-de -Dprefix=/home/njh/perl5/perlbrew/perls/perl-5.26.2-multi -Dusedevel -Dusemultiplicity -Accflags= -Aeval:scriptdir=/home/njh/perl5/perlbrew/perls/perl-5.26.2-multi/bin'
    hint=recommended
    useposix=true
    d_sigaction=define
    useithreads=undef
    usemultiplicity=define
    use64bitint=define
    use64bitall=define
    uselongdouble=undef
    usemymalloc=n
    default_inc_excludes_dot=define
    bincompat5005=undef
  Compiler:
    cc='cc'
    ccflags ='-fwrapv -fno-strict-aliasing -pipe -fstack-protector-strong -I/usr/local/include -D_LARGEFILE_SOURCE -D_FILE_OFFSET_BITS=64 -D_FORTIFY_SOURCE=2'
    optimize='-O2'
    cppflags='-fwrapv -fno-strict-aliasing -pipe -fstack-protector-strong -I/usr/local/include'
    ccversion=''
    gccversion='7.3.0'
    gccosandvers=''
    intsize=4
    longsize=8
    ptrsize=8
    doublesize=8
    byteorder=12345678
    doublekind=3
    d_longlong=define
    longlongsize=8
    d_longdbl=define
    longdblsize=16
    longdblkind=3
    ivtype='long'
    ivsize=8
    nvtype='double'
    nvsize=8
    Off_t='off_t'
    lseeksize=8
    alignbytes=8
    prototype=define
  Linker and Libraries:
    ld='cc'
    ldflags =' -fstack-protector-strong -L/usr/local/lib'
    libpth=/usr/local/lib /usr/lib/gcc/x86_64-linux-gnu/7/include-fixed /usr/include/x86_64-linux-gnu /usr/lib /lib/x86_64-linux-gnu /lib/../lib /usr/lib/x86_64-linux-gnu /usr/lib/../lib /lib
    libs=-lpthread -lnsl -lgdbm -ldb -ldl -lm -lcrypt -lutil -lc
    perllibs=-lpthread -lnsl -ldl -lm -lcrypt -lutil -lc
    libc=libc-2.27.so
    so=so
    useshrplib=false
    libperl=libperl.a
    gnulibc_version='2.27'
  Dynamic Linking:
    dlsrc=dl_dlopen.xs
    dlext=so
    d_dlsymun=undef
    ccdlflags='-Wl,-E'
    cccdlflags='-fPIC'
    lddlflags='-shared -O2 -L/usr/local/lib -fstack-protector-strong'


Characteristics of this binary (from libperl): 
  Compile-time options:
    HAS_TIMES
    MULTIPLICITY
    PERLIO_LAYERS
    PERL_COPY_ON_WRITE
    PERL_DONT_CREATE_GVSV
    PERL_IMPLICIT_CONTEXT
    PERL_MALLOC_WRAP
    PERL_OP_PARENT
    PERL_PRESERVE_IVUV
    PERL_USE_DEVEL
    USE_64_BIT_ALL
    USE_64_BIT_INT
    USE_LARGE_FILES
    USE_LOCALE
    USE_LOCALE_COLLATE
    USE_LOCALE_CTYPE
    USE_LOCALE_NUMERIC
    USE_LOCALE_TIME
    USE_PERLIO
    USE_PERL_ATOF
  Built under linux
  Compiled at Apr 23 2018 06:17:18
  %ENV:
    PERL5LIB="/tmp/build/Mojolicious-8.13-6/blib/arch:/tmp/build/Mojolicious-8.13-6/blib/lib:/tmp/build/Image-Size-3.300-6/blib/arch:/tmp/build/Image-Size-3.300-6/blib/lib:/tmp/build/File-Rsync-0.49-6/blib/arch:/tmp/build/File-Rsync-0.49-6/blib/lib:/tmp/build/Data-Printer-0.40-7/blib/arch:/tmp/build/Data-Printer-0.40-7/blib/lib:/tmp/build/Sort-Naturally-1.03-7/blib/arch:/tmp/build/Sort-Naturally-1.03-7/blib/lib:/tmp/build/Clone-PP-1.07-7/blib/arch:/tmp/build/Clone-PP-1.07-7/blib/lib"
    PERL5OPT=""
    PERL5_CPANPLUS_IS_RUNNING="14126"
    PERL5_CPAN_IS_RUNNING="14126"
    PERLBREW_HOME="/home/njh/.perlbrew"
    PERLBREW_MANPATH="/home/njh/perl5/perlbrew/perls/perl-5.26.2-multi/man"
    PERLBREW_PATH="/home/njh/perl5/perlbrew/bin:/home/njh/perl5/perlbrew/perls/perl-5.26.2-multi/bin"
    PERLBREW_PERL="perl-5.26.2-multi"
    PERLBREW_ROOT="/home/njh/perl5/perlbrew"
    PERLBREW_SHELLRC_VERSION="0.86"
    PERLBREW_VERSION="0.86"
    PERL_MM_USE_DEFAULT="1"
    PERL_USE_UNSAFE_INC="1"
  @INC:
    /tmp/build/Mojolicious-8.13-6/blib/arch
    /tmp/build/Mojolicious-8.13-6/blib/lib
    /tmp/build/Image-Size-3.300-6/blib/arch
    /tmp/build/Image-Size-3.300-6/blib/lib
    /tmp/build/File-Rsync-0.49-6/blib/arch
    /tmp/build/File-Rsync-0.49-6/blib/lib
    /tmp/build/Data-Printer-0.40-7/blib/arch
    /tmp/build/Data-Printer-0.40-7/blib/lib
    /tmp/build/Sort-Naturally-1.03-7/blib/arch
    /tmp/build/Sort-Naturally-1.03-7/blib/lib
    /tmp/build/Clone-PP-1.07-7/blib/arch
    /tmp/build/Clone-PP-1.07-7/blib/lib
    /home/njh/perl5/perlbrew/perls/perl-5.26.2-multi/lib/site_perl/5.26.2/x86_64-linux-multi
    /home/njh/perl5/perlbrew/perls/perl-5.26.2-multi/lib/site_perl/5.26.2
    /home/njh/perl5/perlbrew/perls/perl-5.26.2-multi/lib/5.26.2/x86_64-linux-multi
    /home/njh/perl5/perlbrew/perls/perl-5.26.2-multi/lib/5.26.2
    .