Back
From: metabase:user:30f4dfbe-2aae-11df-837a-5e0a49663a4f
Subject: UNKNOWN Alien-Debian-Apt-PM-0.03 v5.14.0 Mac OS X
Date: 2011-10-01T01:58:52Z
This distribution has been tested as part of the CPAN Testers
project, supporting the Perl programming language. See
http://wiki.cpantesters.org/ for more information or email
questions to cpan-testers-discuss@perl.org
--
Dear Jozef Kutej,
This is a computer-generated report for Alien-Debian-Apt-PM-0.03
on perl 5.14.0, created by CPAN-Reporter-1.2002.
Thank you for uploading your work to CPAN. However, attempting to
test your distribution gave an inconclusive result.
This could be because your distribution had an error during the make/build
stage, did not define tests, tests could not be found, because your tests were
interrupted before they finished, or because the results of the tests could not
be parsed. You may wish to consult the CPAN Testers Wiki:
http://wiki.cpantesters.org/wiki/CPANAuthorNotes
Sections of this report:
* Tester comments
* Program output
* Prerequisites
* Environment and other context
------------------------------
TESTER COMMENTS
------------------------------
Additional comments from tester:
this report is from an automated smoke testing program
and was not reviewed by a human for accuracy
------------------------------
PROGRAM OUTPUT
------------------------------
Output from './Build test':
t/distribution.t .. skipped: Test::Distribution not installed
t/pod-coverage.t .. skipped: Test::Pod::Coverage 1.08 required for testing POD coverage
t/pod-spell.t ..... skipped: Set the environment variable TEST_SPELLING to enable this test.
t/pod.t ........... skipped: Test::Pod 1.22 required for testing POD
Files=4, Tests=0, 0 wallclock secs ( 0.03 usr 0.01 sys + 0.08 cusr 0.03 csys = 0.15 CPU)
Result: NOTESTS
------------------------------
PREREQUISITES
------------------------------
Prerequisite modules loaded:
configure_requires:
Module Need Have
------------- ---- ------
Module::Build 0.36 0.3800
------------------------------
ENVIRONMENT AND OTHER CONTEXT
------------------------------
Environment variables:
AUTOMATED_TESTING = 1
LD_LIBRARY_PATH = /usr/local/lib
PATH = /Users/nigel/perl5/perlbrew/bin:/Users/nigel/perl5/perlbrew/perls/perl-5.14.0/bin:/usr/local/bin:/usr/bin:/bin:/usr/sbin:/sbin:/usr/local/bin:/usr/X11/bin:/Users/nigel/bin:/Users/nigel/perl/bin
PERL5LIB =
PERL5OPT =
PERL5_CPANPLUS_IS_RUNNING = 93714
PERL5_CPAN_IS_RUNNING = 93714
PERL5_MINISMOKEBOX = 0.54
PERLBREW_PATH = /Users/nigel/perl5/perlbrew/bin:/Users/nigel/perl5/perlbrew/perls/perl-5.14.0/bin
PERLBREW_PERL = perl-5.14.0
PERLBREW_ROOT = /Users/nigel/perl5/perlbrew
PERLBREW_VERSION = 0.29
PERL_EXTUTILS_AUTOINSTALL = --defaultdeps
PERL_MM_USE_DEFAULT = 1
SHELL = /bin/sh
VERSIONER_PERL_PREFER_32_BIT = no
VERSIONER_PERL_VERSION = 5.12
Perl special variables (and OS-specific diagnostics, for MSWin32):
$^X = /Users/nigel/perl5/perlbrew/perls/perl-5.14.0/bin/perl
$UID/$EUID = 1077 / 1077
$GID = 20 20 402 12 33 61 79 80 81 98 100 204 401 403
$EGID = 20 20 402 12 33 61 79 80 81 98 100 204 401 403
Perl module toolchain versions installed:
Module Have
------------------- --------
CPAN 1.9600
CPAN::Meta 2.112621
Cwd 3.36
ExtUtils::CBuilder 0.280203
ExtUtils::Command 1.17
ExtUtils::Install 1.56
ExtUtils::MakeMaker 6.58
ExtUtils::Manifest 1.60
ExtUtils::ParseXS 2.2210
File::Spec 3.33
JSON 2.53
JSON::PP 2.27105
Module::Build 0.3800
Module::Signature n/a
Parse::CPAN::Meta 1.4401
Test::Harness 3.23
Test::More 0.98
YAML n/a
YAML::Syck 1.17
version 0.94
--
Summary of my perl5 (revision 5 version 14 subversion 0) configuration:
Platform:
osname=darwin, osvers=10.8.0, archname=darwin-2level
uname='darwin nigel.int.kcilink.com 10.8.0 darwin kernel version 10.8.0: tue jun 7 16:33:36 pdt 2011; root:xnu-1504.15.3~1release_i386 i386 '
config_args='-de -Dprefix=/Users/nigel/perl5/perlbrew/perls/perl-5.14.0'
hint=recommended, useposix=true, d_sigaction=define
useithreads=undef, usemultiplicity=undef
useperlio=define, d_sfio=undef, uselargefiles=define, usesocks=undef
use64bitint=define, use64bitall=define, uselongdouble=undef
usemymalloc=n, bincompat5005=undef
Compiler:
cc='cc', ccflags ='-fno-common -DPERL_DARWIN -fno-strict-aliasing -pipe -fstack-protector -I/usr/local/include',
optimize='-O3',
cppflags='-fno-common -DPERL_DARWIN -fno-strict-aliasing -pipe -fstack-protector -I/usr/local/include'
ccversion='', gccversion='4.2.1 (Based on Apple Inc. build 5658) (LLVM build 2335.9)', gccosandvers=''
intsize=4, longsize=8, ptrsize=8, doublesize=8, byteorder=12345678
d_longlong=define, longlongsize=8, d_longdbl=define, longdblsize=16
ivtype='long', ivsize=8, nvtype='double', nvsize=8, Off_t='off_t', lseeksize=8
alignbytes=8, prototype=define
Linker and Libraries:
ld='env MACOSX_DEPLOYMENT_TARGET=10.3 cc', ldflags =' -fstack-protector -L/usr/local/lib'
libpth=/usr/local/lib /usr/lib
libs=-ldbm -ldl -lm -lutil -lc
perllibs=-ldl -lm -lutil -lc
libc=/usr/lib/libc.dylib, so=dylib, useshrplib=false, libperl=libperl.a
gnulibc_version=''
Dynamic Linking:
dlsrc=dl_dlopen.xs, dlext=bundle, d_dlsymun=undef, ccdlflags=' '
cccdlflags=' ', lddlflags=' -bundle -undefined dynamic_lookup -L/usr/local/lib -fstack-protector'
Characteristics of this binary (from libperl):
Compile-time options: PERL_DONT_CREATE_GVSV PERL_MALLOC_WRAP
PERL_PRESERVE_IVUV USE_64_BIT_ALL USE_64_BIT_INT
USE_LARGE_FILES USE_PERLIO USE_PERL_ATOF
Built under darwin
Compiled at Jul 5 2011 11:18:52
%ENV:
PERL5LIB=""
PERL5OPT=""
PERL5_CPANPLUS_IS_RUNNING="93714"
PERL5_CPAN_IS_RUNNING="93714"
PERL5_MINISMOKEBOX="0.54"
PERLBREW_PATH="/Users/nigel/perl5/perlbrew/bin:/Users/nigel/perl5/perlbrew/perls/perl-5.14.0/bin"
PERLBREW_PERL="perl-5.14.0"
PERLBREW_ROOT="/Users/nigel/perl5/perlbrew"
PERLBREW_VERSION="0.29"
PERL_EXTUTILS_AUTOINSTALL="--defaultdeps"
PERL_MM_USE_DEFAULT="1"
@INC:
/Users/nigel/perl5/perlbrew/perls/perl-5.14.0/lib/site_perl/5.14.0/darwin-2level
/Users/nigel/perl5/perlbrew/perls/perl-5.14.0/lib/site_perl/5.14.0
/Users/nigel/perl5/perlbrew/perls/perl-5.14.0/lib/5.14.0/darwin-2level
/Users/nigel/perl5/perlbrew/perls/perl-5.14.0/lib/5.14.0
.