Report for Web-Scraper-0.36

Back
From: metabase:user:314402c4-2aae-11df-837a-5e0a49663a4f
Subject: PASS Web-Scraper-0.36 v5.15.9 FreeBSD
Date: 2012-04-25T09:34:53Z

This distribution has been tested as part of the CPAN Testers
project, supporting the Perl programming language.  See
http://wiki.cpantesters.org/ for more information or email
questions to cpan-testers-discuss@perl.org


--
Dear Tatsuhiko Miyagawa,

This is a computer-generated report for Web-Scraper-0.36
on perl 5.15.9, created by CPAN-Reporter-1.2005.

Thank you for uploading your work to CPAN.  Congratulations!
All tests were successful.

Sections of this report:

    * Tester comments
    * Program output
    * Prerequisites
    * Environment and other context

------------------------------
TESTER COMMENTS
------------------------------

Additional comments from tester:

none provided

------------------------------
PROGRAM OUTPUT
------------------------------

Output from '/usr/bin/make test':

PERL_DL_NONLAZY=1 /usr/perl5.15.9/bin/perl5.15.9 "-MExtUtils::Command::MM" "-e" "test_harness(0, 'inc', 'blib/lib', 'blib/arch')" t/*.t
t/00_compile.t ................. ok
t/01_process.t ................. ok
t/02_process_multi.t ........... ok
t/03_scraper_nest.t ............ ok
t/04_callback.t ................ ok
t/05_process_first.t ........... ok
t/06_define.t .................. ok
t/07-live.t .................... skipped: LIVE_TEST not enabled
t/08-leak.t .................... skipped: LEAK_TEST is not defined
t/09-process_hash.t ............ ok
t/11_absolute.t ................ ok
t/12_html.t .................... ok
t/13_textnode.t ................ ok
t/14_absolute_nested.t ......... ok
t/15_absolute_hash.t ........... ok
t/16_filter.t .................. ok
t/17_filter_loop.t ............. ok
t/18_http_response.t ........... skipped: LIVE_TEST not enabled
t/19_decode_content.t .......... skipped: LIVE_TEST not enabled
t/20_comment_nodes.t ........... ok
t/21_html5.t ................... ok
t/libxml-00_compile.t .......... ok
t/libxml-01_process.t .......... ok
t/libxml-02_process_multi.t .... ok
t/libxml-03_scraper_nest.t ..... ok
t/libxml-04_callback.t ......... ok
t/libxml-05_process_first.t .... ok
t/libxml-06_define.t ........... ok
t/libxml-07-live.t ............. skipped: LIVE_TEST not enabled
t/libxml-08-leak.t ............. skipped: LEAK_TEST is not defined
t/libxml-09-process_hash.t ..... ok
t/libxml-11_absolute.t ......... ok
t/libxml-13_textnode.t ......... ok
t/libxml-14_absolute_nested.t .. ok
t/libxml-15_absolute_hash.t .... ok
t/libxml-16_filter.t ........... ok
t/libxml-17_filter_loop.t ...... ok
t/libxml-18_http_response.t .... skipped: LIVE_TEST not enabled
t/libxml-19_decode_content.t ... skipped: LIVE_TEST not enabled
t/libxml-20_comment_nodes.t .... ok
t/libxml-21_html5.t ............ ok
t/redefine.t ................... ok
t/xml-simple.t ................. ok
All tests successful.
Files=43, Tests=77, 13 wallclock secs ( 0.19 usr  0.05 sys +  8.52 cusr  2.87 csys = 11.63 CPU)
Result: PASS

------------------------------
PREREQUISITES
------------------------------

Prerequisite modules loaded:

requires:

    Module                   Need     Have    
    ------------------------ -------- --------
    HTML::Entities           0        3.69    
    HTML::Selector::XPath    0.03     0.14    
    HTML::Tagset             0        3.20    
    HTML::TreeBuilder        3.23     4.2     
  ! HTML::TreeBuilder::XPath 0.08     broken  
    LWP                      5.827    6.04    
    perl                     5.008001 5.015009
    Scalar::Util             0        1.23    
    UNIVERSAL::require       0        0.13    
    URI                      0        1.60    
  ! XML::XPathEngine         0.08     broken  
    YAML                     0        0.80    

build_requires:

    Module                   Need     Have    
    ------------------------ -------- --------
    ExtUtils::MakeMaker      6.6302   6.63_02 
    Test::Base               0        0.60    
    Test::More               0        0.98    
    Test::Requires           0        0.06    

configure_requires:

    Module                   Need     Have    
    ------------------------ -------- --------
    ExtUtils::MakeMaker      6.62     6.63_02 


------------------------------
ENVIRONMENT AND OTHER CONTEXT
------------------------------

Environment variables:

    DBIC_NO_WARN_BAD_PERL = 1
    PATH = /usr/local/bin:/usr/X11R6/bin:/usr/X11/bin:/usr/perl5.8.0/bin:/usr/bin:/bin:/usr/local/sbin:/usr/sbin:/sbin:/usr/local/pilot/bin:/home/cpansand/bin/freebsd8.0:/home/cpansand/bin/sh:/home/cpansand/bin:/usr/X386/bin:/usr/games:/home/cpansand/devel:/usr/home/e/eserte/work/srezic-misc/scripts
    PERL5LIB = /usr/local/src/CPAN/build/WWW-Session-0.03-L86kP1/blib/arch:/usr/local/src/CPAN/build/WWW-Session-0.03-L86kP1/blib/lib:/usr/local/src/CPAN/build/Data-CloudWeights-0.7.143-pSOZ_j/blib/arch:/usr/local/src/CPAN/build/Data-CloudWeights-0.7.143-pSOZ_j/blib/lib:/usr/local/src/CPAN/build/Net-LCDproc-0.1.1-ybZmv7/blib/arch:/usr/local/src/CPAN/build/Net-LCDproc-0.1.1-ybZmv7/blib/lib:/usr/local/src/CPAN/build/Video-Subtitle-SRT-0.03-I6He0W/blib/arch:/usr/local/src/CPAN/build/Video-Subtitle-SRT-0.03-I6He0W/blib/lib:/usr/local/src/CPAN/build/PerlIO-eol-0.14-uzWPUa/blib/arch:/usr/local/src/CPAN/build/PerlIO-eol-0.14-uzWPUa/blib/lib:/usr/local/src/CPAN/build/Net-SSLeay-1.48-U2xega/blib/arch:/usr/local/src/CPAN/build/Net-SSLeay-1.48-U2xega/blib/lib:/usr/local/src/CPAN/build/MooseX-ABC-0.06-s7vjkB/blib/arch:/usr/local/src/CPAN/build/MooseX-ABC-0.06-s7vjkB/blib/lib
    PERL5OPT = 
    PERL5_CPANPLUS_IS_RUNNING = 56291
    PERL5_CPAN_IS_RUNNING = 56291
    PERL5_CPAN_IS_RUNNING_IN_RECURSION = 56189,56291
    PERL_BATCH = yes
    PERL_CPAN_REPORTER_CONFIG = /var/tmp/cpansmoker-1023/NB2QkN_OyN_config.ini
    PERL_EXTUTILS_AUTOINSTALL = --defaultdeps
    PERL_HTML_DISPLAY_CLASS = HTML::Display::Mozilla
    SHELL = /usr/local/bin/zsh
    TERM = screen
    TMPDIR = /var/tmp/cpansmoker-1023

Perl special variables (and OS-specific diagnostics, for MSWin32):

    $^X = /usr/perl5.15.9/bin/perl5.15.9
    $UID/$EUID = 1023 / 1023
    $GID = 1023 1023
    $EGID = 1023 1023

Perl module toolchain versions installed:

    Module              Have    
    ------------------- --------
    CPAN                1.9800  
    CPAN::Meta          2.120630
    Cwd                 3.39_02 
    ExtUtils::CBuilder  0.280206
    ExtUtils::Command   1.17    
    ExtUtils::Install   1.58    
    ExtUtils::MakeMaker 6.63_02 
    ExtUtils::Manifest  1.61    
    ExtUtils::ParseXS   3.16    
    File::Spec          3.39_02 
    JSON                2.53    
    JSON::PP            2.27200 
    Module::Build       0.40    
    Module::Signature   0.68    
    Parse::CPAN::Meta   1.4404  
    Test::Harness       3.23    
    Test::More          0.98    
    YAML                0.80    
    YAML::Syck          1.20    
    version             0.97    


--

Summary of my perl5 (revision 5 version 15 subversion 9) configuration:
   
  Platform:
    osname=freebsd, osvers=8.0-release-p4, archname=i386-freebsd
    uname='freebsd biokovo.herceg.de 8.0-release-p4 freebsd 8.0-release-p4 #0: mon jul 12 20:22:27 utc 2010 root@i386-builder.daemonology.net:usrobjusrsrcsysgeneric i386 '
    config_args='-Dprefix=/usr/perl5.15.9 -Dusemymalloc=n -D cc=ccache cc -D usedevel=define -Dgccansipedantic -Duse64bit -de -D hintfile=myfreebsd'
    hint=recommended, useposix=true, d_sigaction=define
    useithreads=undef, usemultiplicity=undef
    useperlio=define, d_sfio=undef, uselargefiles=define, usesocks=undef
    use64bitint=undef, use64bitall=undef, uselongdouble=undef
    usemymalloc=n, bincompat5005=undef
  Compiler:
    cc='ccache cc', ccflags ='-DHAS_FPSETMASK -DHAS_FLOATINGPOINT_H -fno-strict-aliasing -pipe -fstack-protector -I/usr/local/include',
    optimize='-O2 -mtune=athlon64 -pipe',
    cppflags='-DHAS_FPSETMASK -DHAS_FLOATINGPOINT_H -fno-strict-aliasing -pipe -fstack-protector -I/usr/local/include'
    ccversion='', gccversion='4.2.1 20070719  [FreeBSD]', gccosandvers=''
    intsize=4, longsize=4, ptrsize=4, doublesize=8, byteorder=1234
    d_longlong=define, longlongsize=8, d_longdbl=define, longdblsize=12
    ivtype='long', ivsize=4, nvtype='double', nvsize=8, Off_t='off_t', lseeksize=8
    alignbytes=4, prototype=define
  Linker and Libraries:
    ld='ccache cc', ldflags ='-Wl,-E  -fstack-protector -L/usr/local/lib'
    libpth=/usr/lib /usr/local/lib
    libs=-lgdbm -lm -lcrypt -lutil -lc
    perllibs=-lm -lcrypt -lutil -lc
    libc=, so=so, useshrplib=false, libperl=libperl.a
    gnulibc_version=''
  Dynamic Linking:
    dlsrc=dl_dlopen.xs, dlext=so, d_dlsymun=undef, ccdlflags=' '
    cccdlflags='-DPIC -fPIC', lddlflags='-shared  -L/usr/local/lib -fstack-protector'


Characteristics of this binary (from libperl): 
  Compile-time options: HAS_TIMES PERLIO_LAYERS PERL_DONT_CREATE_GVSV
                        PERL_MALLOC_WRAP PERL_PRESERVE_IVUV PERL_USE_DEVEL
                        USE_LARGE_FILES USE_LOCALE USE_LOCALE_COLLATE
                        USE_LOCALE_CTYPE USE_LOCALE_NUMERIC USE_PERLIO
                        USE_PERL_ATOF
  Built under freebsd
  Compiled at Mar 21 2012 07:28:15
  %ENV:
    PERL5LIB="/usr/local/src/CPAN/build/WWW-Session-0.03-L86kP1/blib/arch:/usr/local/src/CPAN/build/WWW-Session-0.03-L86kP1/blib/lib:/usr/local/src/CPAN/build/Data-CloudWeights-0.7.143-pSOZ_j/blib/arch:/usr/local/src/CPAN/build/Data-CloudWeights-0.7.143-pSOZ_j/blib/lib:/usr/local/src/CPAN/build/Net-LCDproc-0.1.1-ybZmv7/blib/arch:/usr/local/src/CPAN/build/Net-LCDproc-0.1.1-ybZmv7/blib/lib:/usr/local/src/CPAN/build/Video-Subtitle-SRT-0.03-I6He0W/blib/arch:/usr/local/src/CPAN/build/Video-Subtitle-SRT-0.03-I6He0W/blib/lib:/usr/local/src/CPAN/build/PerlIO-eol-0.14-uzWPUa/blib/arch:/usr/local/src/CPAN/build/PerlIO-eol-0.14-uzWPUa/blib/lib:/usr/local/src/CPAN/build/Net-SSLeay-1.48-U2xega/blib/arch:/usr/local/src/CPAN/build/Net-SSLeay-1.48-U2xega/blib/lib:/usr/local/src/CPAN/build/MooseX-ABC-0.06-s7vjkB/blib/arch:/usr/local/src/CPAN/build/MooseX-ABC-0.06-s7vjkB/blib/lib"
    PERL5OPT=""
    PERL5_CPANPLUS_IS_RUNNING="56291"
    PERL5_CPAN_IS_RUNNING="56291"
    PERL5_CPAN_IS_RUNNING_IN_RECURSION="56189,56291"
    PERL_BATCH="yes"
    PERL_CPAN_REPORTER_CONFIG="/var/tmp/cpansmoker-1023/NB2QkN_OyN_config.ini"
    PERL_EXTUTILS_AUTOINSTALL="--defaultdeps"
    PERL_HTML_DISPLAY_CLASS="HTML::Display::Mozilla"
  @INC:
    /usr/local/src/CPAN/build/WWW-Session-0.03-L86kP1/blib/arch
    /usr/local/src/CPAN/build/WWW-Session-0.03-L86kP1/blib/lib
    /usr/local/src/CPAN/build/Data-CloudWeights-0.7.143-pSOZ_j/blib/arch
    /usr/local/src/CPAN/build/Data-CloudWeights-0.7.143-pSOZ_j/blib/lib
    /usr/local/src/CPAN/build/Net-LCDproc-0.1.1-ybZmv7/blib/arch
    /usr/local/src/CPAN/build/Net-LCDproc-0.1.1-ybZmv7/blib/lib
    /usr/local/src/CPAN/build/Video-Subtitle-SRT-0.03-I6He0W/blib/arch
    /usr/local/src/CPAN/build/Video-Subtitle-SRT-0.03-I6He0W/blib/lib
    /usr/local/src/CPAN/build/PerlIO-eol-0.14-uzWPUa/blib/arch
    /usr/local/src/CPAN/build/PerlIO-eol-0.14-uzWPUa/blib/lib
    /usr/local/src/CPAN/build/Net-SSLeay-1.48-U2xega/blib/arch
    /usr/local/src/CPAN/build/Net-SSLeay-1.48-U2xega/blib/lib
    /usr/local/src/CPAN/build/MooseX-ABC-0.06-s7vjkB/blib/arch
    /usr/local/src/CPAN/build/MooseX-ABC-0.06-s7vjkB/blib/lib
    /usr/perl5.15.9/lib/site_perl/5.15.9/i386-freebsd
    /usr/perl5.15.9/lib/site_perl/5.15.9
    /usr/perl5.15.9/lib/5.15.9/i386-freebsd
    /usr/perl5.15.9/lib/5.15.9
    .