Perl-Critic v1.140 Perl 5 v5.30.0 x86_64-linux-ld
- Status
- Pass
- From
- Martin Becker
- Dist
-
Perl-Critic v1.140
- Platform
- Perl 5 v5.30.0 x86_64-linux-ld
- Date
- 2022-05-29 08:54:13
- ID
- e9bc2bb6-df2c-11ec-94e2-c2e166caa979
This distribution has been tested as part of the CPAN Testers
project, supporting the Perl programming language. See
http://wiki.cpantesters.org/ for more information or email
questions to cpan-testers-discuss@perl.org
--
Dear Andy Lester,
This is a computer-generated report for Perl-Critic-1.140
on perl 5.30.0, created by CPAN-Reporter-1.2018.
Thank you for uploading your work to CPAN. Congratulations!
All tests were successful.
Sections of this report:
* Tester comments
* Program output
* Prerequisites
* Environment and other context
------------------------------
TESTER COMMENTS
------------------------------
Additional comments from tester:
none provided
------------------------------
PROGRAM OUTPUT
------------------------------
Output from './Build test':
# Testing Perl::Critic 1.140 with PPI 1.270 under Perl 5.030000, /opt/perl530/bin/perl
t/00_modules.t ................................ ok
t/00_versions.t ............................... ok
t/01_config.t ................................. ok
t/01_config_bad_perlcriticrc.t ................ ok
t/01_policy_config.t .......................... ok
t/02_policy.t ................................. ok
t/03_annotations.t ............................ ok
t/03_pragmas.t ................................ ok
t/04_options_processor.t ...................... ok
t/05_utils.t .................................. ok
t/05_utils_perl.t ............................. ok
t/05_utils_pod.t .............................. ok
t/05_utils_ppi.t .............................. ok
t/06_violation.t .............................. ok
t/07_command.t ................................ ok
t/07_perlcritic.t ............................. ok
t/08_document.t ............................... ok
t/09_theme.t .................................. ok
t/10_user_profile.t ........................... ok
t/11_policy_factory.t ......................... ok
t/12_policy_listing.t ......................... ok
t/12_theme_listing.t .......................... ok
t/13_bundled_policies.t ....................... ok
t/14_policy_parameter_behavior_boolean.t ...... ok
t/14_policy_parameter_behavior_enumeration.t .. ok
t/14_policy_parameter_behavior_integer.t ...... ok
t/14_policy_parameter_behavior_list_string.t .. ok
t/14_policy_parameter_behavior_string.t ....... ok
t/14_policy_parameters.t ...................... ok
t/15_statistics.t ............................. ok
t/16_roundtrip_defaults.t ..................... ok
t/20_policies.t ............................... ok
t/20_policy_pod_spelling.t .................... ok
t/20_policy_prohibit_evil_modules.t ........... ok
t/20_policy_prohibit_hard_tabs.t .............. ok
t/20_policy_prohibit_trailing_whitespace.t .... ok
t/20_policy_require_consistent_newlines.t ..... ok
t/20_policy_require_tidy_code.t ............... ok
t/92_memory_leaks.t ........................... skipped: Test::Memory::Cycle required to test memory leaks
t/gh-734.t .................................... ok
All tests successful.
Files=40, Tests=8079, 33 wallclock secs ( 0.49 usr 0.17 sys + 28.31 cusr 4.00 csys = 32.97 CPU)
Result: PASS
------------------------------
PREREQUISITES
------------------------------
Prerequisite modules loaded:
requires:
Module Need Have
-------------------------- -------- --------
B::Keywords 1.05 1.20
base 0 2.27
Carp 0 1.50
charnames 0 1.45
Config::Tiny 2 2.24
English 0 1.10
Exception::Class 1.23 1.44
Exporter 5.63 5.73
Fatal 0 2.29
File::Basename 0 2.85
File::Find 0 1.36
File::Path 0 2.16
File::Spec 0 3.78
File::Spec::Unix 0 3.78
File::Temp 0 0.2311
File::Which 0 1.27
Getopt::Long 0 2.52
IO::String 0 1.08
IPC::Open2 1 1.04
List::MoreUtils 0.19 0.430
List::Util 0 1.62
Module::Build 0.4204 0.4229
Module::Pluggable 3.1 5.2
overload 0 1.30
perl 5.006001 5.030000
Perl::Tidy 0 20190915
Pod::Parser 0 1.63
Pod::PlainText 0 2.07
Pod::Select 0 1.63
Pod::Spell 1 1.20
Pod::Usage 0 1.69
PPI 1.265 1.270
PPI::Document 1.265 1.270
PPI::Document::File 1.265 1.270
PPI::Node 1.265 1.270
PPI::Token::Quote::Single 1.265 1.270
PPI::Token::Whitespace 1.265 1.270
PPIx::QuoteLike 0 0.008
PPIx::Regexp 0.027 0.085
PPIx::Regexp::Util 0.068 0.085
PPIx::Utilities::Node 1.001 1.001000
PPIx::Utilities::Statement 1.001 1.001000
Readonly 2 2.05
Scalar::Util 0 1.62
strict 0 1.11
String::Format 1.18 1.18
Task::Weaken 0 1.06
Term::ANSIColor 2.02 5.01
Test::Builder 0.92 1.302168
Text::ParseWords 3 3.30
version 0.77 0.9924
warnings 0 1.44
build_requires:
Module Need Have
-------------------------- -------- --------
lib 0 0.65
Test::Deep 0 1.128
Test::More 0 1.302168
configure_requires:
Module Need Have
-------------------------- -------- --------
Module::Build 0.4204 0.4229
------------------------------
ENVIRONMENT AND OTHER CONTEXT
------------------------------
Environment variables:
LANG = C
LC_CTYPE = en_US
NONINTERACTIVE_TESTING = 1
PATH = /opt/perl530/bin:/opt/perl534/bin:/home/martin/bin:/usr/local/bin:/usr/bin:/bin:/usr/local/games:/usr/games
PERL5LIB =
PERL5OPT =
PERL5_CPANPLUS_IS_RUNNING = 52379
PERL5_CPAN_IS_RUNNING = 52379
PERL_MM_USE_DEFAULT = 1
PERL_USE_UNSAFE_INC = 1
SHELL = /bin/bash
TERM = screen
Perl special variables (and OS-specific diagnostics, for MSWin32):
$^X = /opt/perl530/bin/perl
$UID/$EUID = 1000 / 1000
$GID = 1000 24 25 27 29 30 44 46 50 108 116 1000
$EGID = 1000 24 25 27 29 30 44 46 50 108 116 1000
Perl module toolchain versions installed:
Module Have
------------------- --------
CPAN 2.34
CPAN::Meta 2.150010
Cwd 3.78
ExtUtils::CBuilder 0.280236
ExtUtils::Command 7.64
ExtUtils::Install 2.14
ExtUtils::MakeMaker 7.64
ExtUtils::Manifest 1.72
ExtUtils::ParseXS 3.40
File::Spec 3.78
JSON 4.06
JSON::PP 4.04
Module::Build 0.4229
Module::Signature 0.88
Parse::CPAN::Meta 2.150010
Test::Harness 3.42
Test::More 1.302168
YAML 1.29
YAML::Syck 1.31
version 0.9924
--
Summary of my perl5 (revision 5 version 30 subversion 0) configuration:
Platform:
osname=linux
osvers=4.19.0-6-amd64
archname=x86_64-linux-ld
uname='linux dijkstra 4.19.0-6-amd64 #1 smp debian 4.19.67-2+deb10u1 (2019-09-20) x86_64 gnulinux '
config_args='-Dprefix=/opt/perl530 -Duse64bitint -Duse64bitall -Duselongdouble -Dperladmin=none -Dcf_email=cpants@dijkstra.localdomain -de'
hint=recommended
useposix=true
d_sigaction=define
useithreads=undef
usemultiplicity=undef
use64bitint=define
use64bitall=define
uselongdouble=define
usemymalloc=n
default_inc_excludes_dot=define
bincompat5005=undef
Compiler:
cc='cc'
ccflags ='-fwrapv -fno-strict-aliasing -pipe -fstack-protector-strong -I/usr/local/include -D_LARGEFILE_SOURCE -D_FILE_OFFSET_BITS=64 -D_FORTIFY_SOURCE=2'
optimize='-O2'
cppflags='-fwrapv -fno-strict-aliasing -pipe -fstack-protector-strong -I/usr/local/include'
ccversion=''
gccversion='8.3.0'
gccosandvers=''
intsize=4
longsize=8
ptrsize=8
doublesize=8
byteorder=12345678
doublekind=3
d_longlong=define
longlongsize=8
d_longdbl=define
longdblsize=16
longdblkind=3
ivtype='long'
ivsize=8
nvtype='long double'
nvsize=16
Off_t='off_t'
lseeksize=8
alignbytes=16
prototype=define
Linker and Libraries:
ld='cc'
ldflags =' -fstack-protector-strong -L/usr/local/lib'
libpth=/usr/local/lib /usr/lib/gcc/x86_64-linux-gnu/8/include-fixed /usr/include/x86_64-linux-gnu /usr/lib /lib/x86_64-linux-gnu /lib/../lib /usr/lib/x86_64-linux-gnu /usr/lib/../lib /lib
libs=-lpthread -lnsl -ldl -lm -lcrypt -lutil -lc
perllibs=-lpthread -lnsl -ldl -lm -lcrypt -lutil -lc
libc=libc-2.28.so
so=so
useshrplib=false
libperl=libperl.a
gnulibc_version='2.28'
Dynamic Linking:
dlsrc=dl_dlopen.xs
dlext=so
d_dlsymun=undef
ccdlflags='-Wl,-E'
cccdlflags='-fPIC'
lddlflags='-shared -O2 -L/usr/local/lib -fstack-protector-strong'
Characteristics of this binary (from libperl):
Compile-time options:
HAS_TIMES
PERLIO_LAYERS
PERL_COPY_ON_WRITE
PERL_DONT_CREATE_GVSV
PERL_MALLOC_WRAP
PERL_OP_PARENT
PERL_PRESERVE_IVUV
USE_64_BIT_ALL
USE_64_BIT_INT
USE_LARGE_FILES
USE_LOCALE
USE_LOCALE_COLLATE
USE_LOCALE_CTYPE
USE_LOCALE_NUMERIC
USE_LOCALE_TIME
USE_LONG_DOUBLE
USE_PERLIO
USE_PERL_ATOF
Built under linux
Compiled at Oct 5 2019 15:35:47
%ENV:
PERL5LIB=""
PERL5OPT=""
PERL5_CPANPLUS_IS_RUNNING="52379"
PERL5_CPAN_IS_RUNNING="52379"
PERL_MM_USE_DEFAULT="1"
PERL_USE_UNSAFE_INC="1"
@INC:
/opt/perl530/lib/site_perl/5.30.0/x86_64-linux-ld
/opt/perl530/lib/site_perl/5.30.0
/opt/perl530/lib/5.30.0/x86_64-linux-ld
/opt/perl530/lib/5.30.0
.