Back
From: metabase:user:a0e144f2-373b-11e6-8edd-c6848980b093
Subject: PASS SQL-Type-Guess-0.03 v5.26.0 GNU/Linux
Date: 2017-04-09T05:18:06Z
This distribution has been tested as part of the CPAN Testers
project, supporting the Perl programming language. See
http://wiki.cpantesters.org/ for more information or email
questions to cpan-testers-discuss@perl.org
--
Dear Max Maischein,
This is a computer-generated report for SQL-Type-Guess-0.03
on perl 5.26.0, created by CPAN-Reporter-1.2018.
Thank you for uploading your work to CPAN. Congratulations!
All tests were successful.
Sections of this report:
* Tester comments
* Program output
* Prerequisites
* Environment and other context
------------------------------
TESTER COMMENTS
------------------------------
Additional comments from tester:
this report is from an automated smoke testing program
and was not reviewed by a human for accuracy
------------------------------
PROGRAM OUTPUT
------------------------------
Output from '/usr/bin/make test':
PERL_DL_NONLAZY=1 "/home/cpan3/install/bin/perl" "-MExtUtils::Command::MM" "-MTest::Harness" "-e" "undef *Test::Harness::Switches; test_harness(0, 'blib/lib', 'blib/arch')" t/00-load.t t/01_synopsis.t t/02_data_types.t t/99-changes.t t/99-examples.t t/99-manifest.t t/99-pod.t t/99-todo.t t/99-unix-text.t t/99-versions.t
Redundant argument in sprintf at /home/cpan3/.cpan/build/SQL-Type-Guess-0.03-0/blib/lib/SQL/Type/Guess.pm line 166.
Redundant argument in sprintf at /home/cpan3/.cpan/build/SQL-Type-Guess-0.03-0/blib/lib/SQL/Type/Guess.pm line 166.
Redundant argument in sprintf at /home/cpan3/.cpan/build/SQL-Type-Guess-0.03-0/blib/lib/SQL/Type/Guess.pm line 166.
# Testing SQL::Type::Guess 0.03, Perl 5.026000
# Carp 1.38
# Config 5.026000
# DynaLoader 1.41
# Exporter 5.72
# List::Util 1.47
# PerlIO 1.10
# SQL::Type::Guess 0.03
# Scalar::Util 1.47
# Test::Builder 1.302078
# Test::Builder::Formatter 1.302078
# Test::Builder::Module 1.302078
# Test::Builder::TodoDiag 1.302078
# Test::More 1.302078
# Test2::API 1.302078
# Test2::API::Context 1.302078
# Test2::API::Instance 1.302078
# Test2::API::Stack 1.302078
# Test2::Event 1.302078
# Test2::Event::Bail 1.302078
# Test2::Event::Diag 1.302078
# Test2::Event::Exception 1.302078
# Test2::Event::Info 1.302078
# Test2::Event::Note 1.302078
# Test2::Event::Ok 1.302078
# Test2::Event::Plan 1.302078
# Test2::Event::Skip 1.302078
# Test2::Event::Subtest 1.302078
# Test2::Event::Waiting 1.302078
# Test2::Formatter 1.302078
# Test2::Formatter::TAP 1.302078
# Test2::Hub 1.302078
# Test2::Hub::Interceptor 1.302078
# Test2::Hub::Interceptor::Terminator 1.302078
# Test2::Hub::Subtest 1.302078
# Test2::Util 1.302078
# Test2::Util::ExternalMeta 1.302078
# Test2::Util::HashBase 0.002
# Test2::Util::Trace 1.302078
# XSLoader 0.24
# mro 1.20
# strict 1.11
# vars 1.03
# warnings 1.37
# warnings::register 1.04
t/00-load.t ........ ok
t/01_synopsis.t .... ok
Redundant argument in sprintf at /home/cpan3/.cpan/build/SQL-Type-Guess-0.03-0/blib/lib/SQL/Type/Guess.pm line 166.
t/02_data_types.t .. ok
# Checking for version 0.03
t/99-changes.t ..... ok
t/99-examples.t .... skipped: No examples directory found
t/99-manifest.t .... ok
t/99-pod.t ......... ok
t/99-todo.t ........ ok
t/99-unix-text.t ... ok
# Checking for $VERSION= '0.03';
t/99-versions.t .... ok
All tests successful.
Files=10, Tests=28, 0 wallclock secs ( 0.04 usr 0.01 sys + 0.86 cusr 0.05 csys = 0.96 CPU)
Result: PASS
------------------------------
PREREQUISITES
------------------------------
Prerequisite modules loaded:
requires:
Module Need Have
------------------- ----- --------
perl 5.008 5.026000
strict 0 1.11
build_requires:
Module Need Have
------------------- ----- --------
ExtUtils::MakeMaker 0 7.24
configure_requires:
Module Need Have
------------------- ----- --------
ExtUtils::MakeMaker 0 7.24
------------------------------
ENVIRONMENT AND OTHER CONTEXT
------------------------------
Environment variables:
AUTOMATED_TESTING = 1
HARNESS_OPTIONS = j3
LANG = en_US.UTF-8
PATH = /usr/local/bin:/usr/bin:/bin:/usr/local/games:/usr/games
PERL5LIB =
PERL5OPT =
PERL5_CPANPLUS_IS_RUNNING = 16660
PERL5_CPAN_IS_RUNNING = 16660
PERL5_CPAN_IS_RUNNING_IN_RECURSION = 23928,16660
PERL_CR_SMOKER_CURRENT = SQL-Type-Guess-0.03
PERL_CR_SMOKER_RUNONCE = 1
PERL_EXTUTILS_AUTOINSTALL = --defaultdeps
PERL_MM_USE_DEFAULT = 1
SHELL = /bin/bash
TERM = putty-256color
Perl special variables (and OS-specific diagnostics, for MSWin32):
$^X = /home/cpan3/install/bin/perl
$UID/$EUID = 1004 / 1004
$GID = 1004 1004
$EGID = 1004 1004
Perl module toolchain versions installed:
Module Have
------------------- --------
CPAN 2.16
CPAN::Meta 2.150010
Cwd 3.62
ExtUtils::CBuilder 0.280224
ExtUtils::Command 7.24
ExtUtils::Install 2.04
ExtUtils::MakeMaker 7.24
ExtUtils::Manifest 1.70
ExtUtils::ParseXS 3.30
File::Spec 3.62
JSON 2.91_04
JSON::PP 2.27400
Module::Build 0.4222
Module::Signature 0.81
Parse::CPAN::Meta 2.150010
Test::Harness 3.38
Test::More 1.302078
YAML 1.23
YAML::Syck 1.29
version 0.9917
--
Summary of my perl5 (revision 5 version 26 subversion 0) configuration:
Commit id: 5fc389563644287b3e5f448616ce62dd0ce4e7a6
Platform:
osname=linux
osvers=3.16.0-4-amd64
archname=x86_64-linux-thread-multi
uname='linux digitalis 3.16.0-4-amd64 #1 smp debian 3.16.36-1+deb8u2 (2016-10-19) x86_64 gnulinux '
config_args='-Dusedevel -DDEBUGGING -Dusethreads -Dprefix=/home/cpan3/install -Uversiononly -des'
hint=recommended
useposix=true
d_sigaction=define
useithreads=define
usemultiplicity=define
use64bitint=define
use64bitall=define
uselongdouble=undef
usemymalloc=n
default_inc_excludes_dot=define
bincompat5005=undef
Compiler:
cc='cc'
ccflags ='-D_REENTRANT -D_GNU_SOURCE -fwrapv -DDEBUGGING -fno-strict-aliasing -pipe -fstack-protector-strong -I/usr/local/include -D_LARGEFILE_SOURCE -D_FILE_OFFSET_BITS=64 -D_FORTIFY_SOURCE=2'
optimize='-O2 -g'
cppflags='-D_REENTRANT -D_GNU_SOURCE -fwrapv -DDEBUGGING -fno-strict-aliasing -pipe -fstack-protector-strong -I/usr/local/include'
ccversion=''
gccversion='4.9.2'
gccosandvers=''
intsize=4
longsize=8
ptrsize=8
doublesize=8
byteorder=12345678
doublekind=3
d_longlong=define
longlongsize=8
d_longdbl=define
longdblsize=16
longdblkind=3
ivtype='long'
ivsize=8
nvtype='double'
nvsize=8
Off_t='off_t'
lseeksize=8
alignbytes=8
prototype=define
Linker and Libraries:
ld='cc'
ldflags =' -fstack-protector-strong -L/usr/local/lib'
libpth=/usr/local/lib /usr/lib/gcc/x86_64-linux-gnu/4.9/include-fixed /usr/include/x86_64-linux-gnu /usr/lib /lib/x86_64-linux-gnu /lib/../lib /usr/lib/x86_64-linux-gnu /usr/lib/../lib /lib /lib64 /usr/lib64
libs=-lpthread -lnsl -ldl -lm -lcrypt -lutil -lc
perllibs=-lpthread -lnsl -ldl -lm -lcrypt -lutil -lc
libc=libc-2.19.so
so=so
useshrplib=false
libperl=libperl.a
gnulibc_version='2.19'
Dynamic Linking:
dlsrc=dl_dlopen.xs
dlext=so
d_dlsymun=undef
ccdlflags='-Wl,-E'
cccdlflags='-fPIC'
lddlflags='-shared -O2 -g -L/usr/local/lib -fstack-protector-strong'
Characteristics of this binary (from libperl):
Compile-time options:
DEBUGGING
HAS_TIMES
MULTIPLICITY
PERLIO_LAYERS
PERL_COPY_ON_WRITE
PERL_DONT_CREATE_GVSV
PERL_IMPLICIT_CONTEXT
PERL_MALLOC_WRAP
PERL_OP_PARENT
PERL_PRESERVE_IVUV
PERL_TRACK_MEMPOOL
PERL_USE_DEVEL
USE_64_BIT_ALL
USE_64_BIT_INT
USE_ITHREADS
USE_LARGE_FILES
USE_LOCALE
USE_LOCALE_COLLATE
USE_LOCALE_CTYPE
USE_LOCALE_NUMERIC
USE_LOCALE_TIME
USE_PERLIO
USE_PERL_ATOF
USE_REENTRANT_API
Built under linux
Compiled at Apr 4 2017 17:17:54
%ENV:
PERL5LIB=""
PERL5OPT=""
PERL5_CPANPLUS_IS_RUNNING="16660"
PERL5_CPAN_IS_RUNNING="16660"
PERL5_CPAN_IS_RUNNING_IN_RECURSION="23928,16660"
PERL_CR_SMOKER_CURRENT="SQL-Type-Guess-0.03"
PERL_CR_SMOKER_RUNONCE="1"
PERL_EXTUTILS_AUTOINSTALL="--defaultdeps"
PERL_MM_USE_DEFAULT="1"
@INC:
/home/cpan3/install/lib/perl5/site_perl/5.26.0/x86_64-linux-thread-multi
/home/cpan3/install/lib/perl5/site_perl/5.26.0
/home/cpan3/install/lib/perl5/5.26.0/x86_64-linux-thread-multi
/home/cpan3/install/lib/perl5/5.26.0