Dist-Zilla-Plugin-CheckChangesHasContent v0.011 Perl 5 v5.28.1 darwin-2level
- Status
- Pass
- From
- Neil Bowers
- Dist
-
Dist-Zilla-Plugin-CheckChangesHasContent v0.011
- Platform
- Perl 5 v5.28.1 darwin-2level
- Date
- 2021-06-30 05:13:32
- ID
- e9d963b0-d961-11eb-9dba-e82bfc29d15d
This distribution has been tested as part of the CPAN Testers
project, supporting the Perl programming language. See
http://wiki.cpantesters.org/ for more information or email
questions to cpan-testers-discuss@perl.org
--
Dear David Golden,
This is a computer-generated report for Dist-Zilla-Plugin-CheckChangesHasContent-0.011
on perl 5.28.1, created by CPAN-Reporter-1.2018.
Thank you for uploading your work to CPAN. Congratulations!
All tests were successful.
Sections of this report:
* Tester comments
* Program output
* Prerequisites
* Environment and other context
------------------------------
TESTER COMMENTS
------------------------------
Additional comments from tester:
none provided
------------------------------
PROGRAM OUTPUT
------------------------------
Output from '/usr/bin/make test':
PERL_DL_NONLAZY=1 "/usr/local/perl/5281/bin/perl" "-MExtUtils::Command::MM" "-MTest::Harness" "-e" "undef *Test::Harness::Switches; test_harness(0, 'blib/lib', 'blib/arch')" t/*.t
#
# Versions for all modules listed in MYMETA.json (including optional ones):
#
# === Configure Requires ===
#
# Module Want Have
# ------------------- ---- ----
# ExtUtils::MakeMaker 6.17 7.62
#
# === Build Requires ===
#
# Module Want Have
# ------------------- ---- ----
# ExtUtils::MakeMaker any 7.62
#
# === Test Requires ===
#
# Module Want Have
# ------------------- ---- --------
# Capture::Tiny any 0.48
# Cwd any 3.74
# Dist::Zilla::Tester any 6.022
# ExtUtils::MakeMaker any 7.62
# File::Spec any 3.74
# Path::Tiny any 0.118
# Test::Fatal any 0.016
# Test::Harness any 3.42
# Test::More 0.88 1.302185
#
# === Test Recommends ===
#
# Module Want Have
# ---------- -------- --------
# CPAN::Meta 2.120900 2.150010
#
# === Runtime Requires ===
#
# Module Want Have
# -------------------------------- -------- --------
# Data::Section 0.200002 0.200007
# Dist::Zilla 6 6.022
# Dist::Zilla::File::InMemory any 6.022
# Dist::Zilla::Role::BeforeRelease any 6.022
# Dist::Zilla::Role::FileGatherer any 6.022
# Dist::Zilla::Role::FileMunger any 6.022
# Dist::Zilla::Role::TextTemplate any 6.022
# List::Util any 1.56
# Moose 2 2.2015
# Moose::Util::TypeConstraints any 2.2015
# Sub::Exporter::ForMethods any 0.100054
# autodie 2.00 2.29
# namespace::autoclean 0.28 0.29
# strict any 1.11
# warnings any 1.42
#
t/00-report-prereqs.t ....... ok
t/checkhascontent.t ......... ok
t/test_changeshascontent.t .. ok
All tests successful.
Files=3, Tests=40, 2 wallclock secs ( 0.02 usr 0.01 sys + 1.95 cusr 0.44 csys = 2.42 CPU)
Result: PASS
------------------------------
PREREQUISITES
------------------------------
Prerequisite modules loaded:
requires:
Module Need Have
-------------------------------- -------- --------
autodie 2.00 2.29
Data::Section 0.200002 0.200007
Dist::Zilla 6 6.022
Dist::Zilla::File::InMemory 0 6.022
Dist::Zilla::Role::BeforeRelease 0 6.022
Dist::Zilla::Role::FileGatherer 0 6.022
Dist::Zilla::Role::FileMunger 0 6.022
Dist::Zilla::Role::TextTemplate 0 6.022
List::Util 0 1.56
Moose 2 2.2015
Moose::Util::TypeConstraints 0 2.2015
namespace::autoclean 0.28 0.29
perl 5.006 5.028001
strict 0 1.11
Sub::Exporter::ForMethods 0 0.100054
warnings 0 1.42
build_requires:
Module Need Have
-------------------------------- -------- --------
Capture::Tiny 0 0.48
Cwd 0 3.74
Dist::Zilla::Tester 0 6.022
ExtUtils::MakeMaker 0 7.62
File::Spec 0 3.74
Path::Tiny 0 0.118
Test::Fatal 0 0.016
Test::Harness 0 3.42
Test::More 0.88 1.302185
configure_requires:
Module Need Have
-------------------------------- -------- --------
ExtUtils::MakeMaker 6.17 7.62
perl 5.006 5.028001
------------------------------
ENVIRONMENT AND OTHER CONTEXT
------------------------------
Environment variables:
NONINTERACTIVE_TESTING = 1
PATH = /usr/local/apache/bin:/usr/local/bin:/opt/local/bin:/usr/local/bin:/usr/bin:/bin:/usr/sbin:/sbin:/Applications/VMware Fusion.app/Contents/Public:/usr/local/go/bin:/opt/X11/bin:/usr/local/git/bin
PERL5LIB =
PERL5OPT =
PERL5_CPANPLUS_IS_RUNNING = 12642
PERL5_CPAN_IS_RUNNING = 12642
PERL_MM_USE_DEFAULT = 1
PERL_USE_UNSAFE_INC = 1
SHELL = /bin/sh
TERM = xterm
Perl special variables (and OS-specific diagnostics, for MSWin32):
$^X = /usr/local/perl/5281/bin/perl
$UID/$EUID = 0 / 0
$GID = 0 0 1 2 3 4 5 8 9 12 20 29 61 80 701 702 33
$EGID = 0 0 1 2 3 4 5 8 9 12 20 29 61 80 701 702 33
Perl module toolchain versions installed:
Module Have
------------------- --------
CPAN 2.20
CPAN::Meta 2.150010
Cwd 3.74
ExtUtils::CBuilder 0.280230
ExtUtils::Command 7.62
ExtUtils::Install 2.14
ExtUtils::MakeMaker 7.62
ExtUtils::Manifest 1.70
ExtUtils::ParseXS 3.39
File::Spec 3.74
JSON 4.03
JSON::PP 2.97001
Module::Build 0.4231
Module::Signature n/a
Parse::CPAN::Meta 2.150010
Test::Harness 3.42
Test::More 1.302185
YAML 1.30
YAML::Syck n/a
version 0.9923
--
Summary of my perl5 (revision 5 version 28 subversion 1) configuration:
Platform:
osname=darwin
osvers=20.4.0
archname=darwin-2level
uname='darwin tucumcari.local 20.4.0 darwin kernel version 20.4.0: thu apr 22 21:46:47 pdt 2021; root:xnu-7195.101.2~1release_x86_64 x86_64 '
config_args=''
hint=recommended
useposix=true
d_sigaction=define
useithreads=undef
usemultiplicity=undef
use64bitint=define
use64bitall=define
uselongdouble=undef
usemymalloc=n
default_inc_excludes_dot=define
bincompat5005=undef
Compiler:
cc='cc'
ccflags ='-fno-common -DPERL_DARWIN -mmacosx-version-min=11.3 -fno-strict-aliasing -pipe -fstack-protector-strong -I/usr/local/include -I/opt/local/include -DPERL_USE_SAFE_PUTENV'
optimize='-O3'
cppflags='-fno-common -DPERL_DARWIN -mmacosx-version-min=11.3 -fno-strict-aliasing -pipe -fstack-protector-strong -I/usr/local/include -I/opt/local/include'
ccversion=''
gccversion='Apple LLVM 12.0.0 (clang-1200.0.32.29)'
gccosandvers=''
intsize=4
longsize=8
ptrsize=8
doublesize=8
byteorder=12345678
doublekind=3
d_longlong=define
longlongsize=8
d_longdbl=define
longdblsize=16
longdblkind=3
ivtype='long'
ivsize=8
nvtype='double'
nvsize=8
Off_t='off_t'
lseeksize=8
alignbytes=8
prototype=define
Linker and Libraries:
ld='cc'
ldflags =' -mmacosx-version-min=11.3 -fstack-protector-strong -L/usr/local/lib -L/opt/local/lib'
libpth=/usr/local/lib /Applications/Xcode.app/Contents/Developer/Toolchains/XcodeDefault.xctoolchain/usr/lib/clang/12.0.0/lib /Applications/Xcode.app/Contents/Developer/Platforms/MacOSX.platform/Developer/SDKs/MacOSX.sdk/usr/lib /Applications/Xcode.app/Contents/Developer/Toolchains/XcodeDefault.xctoolchain/usr/lib /opt/local/lib /usr/lib
libs=-lgdbm
perllibs=
libc=
so=dylib
useshrplib=false
libperl=libperl.a
gnulibc_version=''
Dynamic Linking:
dlsrc=dl_dlopen.xs
dlext=bundle
d_dlsymun=undef
ccdlflags=' '
cccdlflags=' '
lddlflags=' -mmacosx-version-min=11.3 -bundle -undefined dynamic_lookup -L/usr/local/lib -L/opt/local/lib -fstack-protector-strong'
Characteristics of this binary (from libperl):
Compile-time options:
HAS_TIMES
PERLIO_LAYERS
PERL_COPY_ON_WRITE
PERL_DONT_CREATE_GVSV
PERL_MALLOC_WRAP
PERL_OP_PARENT
PERL_PRESERVE_IVUV
PERL_USE_SAFE_PUTENV
USE_64_BIT_ALL
USE_64_BIT_INT
USE_LARGE_FILES
USE_LOCALE
USE_LOCALE_COLLATE
USE_LOCALE_CTYPE
USE_LOCALE_NUMERIC
USE_LOCALE_TIME
USE_PERLIO
USE_PERL_ATOF
Built under darwin
Compiled at May 18 2021 22:52:23
%ENV:
PERL5LIB=""
PERL5OPT=""
PERL5_CPANPLUS_IS_RUNNING="12642"
PERL5_CPAN_IS_RUNNING="12642"
PERL_MM_USE_DEFAULT="1"
PERL_USE_UNSAFE_INC="1"
@INC:
/usr/local/perl/5281/lib/site_perl/5.28.1/darwin-2level
/usr/local/perl/5281/lib/site_perl/5.28.1
/usr/local/perl/5281/lib/5.28.1/darwin-2level
/usr/local/perl/5281/lib/5.28.1
.