Report for DBIx-TransactionManager-1.13

Back
From: metabase:user:30f4dfbe-2aae-11df-837a-5e0a49663a4f
Subject: PASS DBIx-TransactionManager-1.13 v5.23.2 FreeBSD
Date: 2015-09-30T19:17:38Z

This distribution has been tested as part of the CPAN Testers
project, supporting the Perl programming language.  See
http://wiki.cpantesters.org/ for more information or email
questions to cpan-testers-discuss@perl.org


--
Dear Atsushi Kobayashi,

This is a computer-generated report for DBIx-TransactionManager-1.13
on perl 5.23.2, created by CPAN-Reporter-1.2015.

Thank you for uploading your work to CPAN.  Congratulations!
All tests were successful.

Sections of this report:

    * Tester comments
    * Program output
    * Prerequisites
    * Environment and other context

------------------------------
TESTER COMMENTS
------------------------------

Additional comments from tester:

this report is from an automated smoke testing program
and was not reviewed by a human for accuracy

------------------------------
PROGRAM OUTPUT
------------------------------

Output from '/usr/bin/make test':

PERL_DL_NONLAZY=1 "/usr/home/njh/perl5/perlbrew/perls/perl-5.23.2/bin/perl5.23.2" "-MExtUtils::Command::MM" "-MTest::Harness" "-e" "undef *Test::Harness::Switches; test_harness(0, 'inc', 'blib/lib', 'blib/arch')" t/*.t
t/00_compile.t ........... ok
t/active_transactions.t .. ok
t/basic.t ................ ok
t/scope.t ................ ok
All tests successful.
Files=4, Tests=55,  3 wallclock secs ( 0.38 usr  0.11 sys +  2.23 cusr  0.52 csys =  3.23 CPU)
Result: PASS

------------------------------
PREREQUISITES
------------------------------

Prerequisite modules loaded:

requires:

    Module              Need Have    
    ------------------- ---- --------
    DBI                 0    1.634   
    Try::Tiny           0    0.22    

build_requires:

    Module              Need Have    
    ------------------- ---- --------
    ExtUtils::MakeMaker 6.36 7.10    
    Test::More          0.96 1.001014

configure_requires:

    Module              Need Have    
    ------------------- ---- --------
    ExtUtils::MakeMaker 6.36 7.10    


------------------------------
ENVIRONMENT AND OTHER CONTEXT
------------------------------

Environment variables:

    AUTOMATED_TESTING = 1
    PATH = /home/njh/perl5/perlbrew/bin:/home/njh/perl5/perlbrew/perls/perl-5.23.2/bin:/home/njh/perl5/perlbrew/bin:/home/njh/perl5/perlbrew/perls/perl-5.23.2/bin:/sbin:/bin:/usr/sbin:/usr/bin:/usr/games:/usr/local/sbin:/usr/local/bin:/home/njh/bin
    PERL5LIB = /home/njh/.cpan/build/Try-Tiny-0.22-CaZ4ro/blib/arch:/home/njh/.cpan/build/Try-Tiny-0.22-CaZ4ro/blib/lib:/home/njh/.cpan/build/SQL-Interp-1.22-YDBP7P/blib/arch:/home/njh/.cpan/build/SQL-Interp-1.22-YDBP7P/blib/lib:/home/njh/.cpan/build/Sub-Exporter-0.987-nzIKms/blib/arch:/home/njh/.cpan/build/Sub-Exporter-0.987-nzIKms/blib/lib:/home/njh/.cpan/build/Data-OptList-0.109-f35Rlf/blib/arch:/home/njh/.cpan/build/Data-OptList-0.109-f35Rlf/blib/lib:/home/njh/.cpan/build/Params-Util-1.07-57ZYlI/blib/arch:/home/njh/.cpan/build/Params-Util-1.07-57ZYlI/blib/lib:/home/njh/.cpan/build/Sub-Install-0.928-MU6JYF/blib/arch:/home/njh/.cpan/build/Sub-Install-0.928-MU6JYF/blib/lib
    PERL5OPT = 
    PERL5_CPANPLUS_IS_RUNNING = 80471
    PERL5_CPAN_IS_RUNNING = 80471
    PERL5_MINISMOKEBOX = 0.58
    PERLBREW_BASHRC_VERSION = 0.73
    PERLBREW_HOME = /home/njh/.perlbrew
    PERLBREW_LIB = 
    PERLBREW_MANPATH = /home/njh/perl5/perlbrew/perls/perl-5.23.2/man
    PERLBREW_PATH = /home/njh/perl5/perlbrew/bin:/home/njh/perl5/perlbrew/perls/perl-5.23.2/bin
    PERLBREW_PERL = perl-5.23.2
    PERLBREW_ROOT = /home/njh/perl5/perlbrew
    PERLBREW_VERSION = 0.73
    PERL_EXTUTILS_AUTOINSTALL = --defaultdeps
    PERL_LOCAL_LIB_ROOT = 
    PERL_MM_USE_DEFAULT = 1
    SHELL = /bin/bash
    TERM = xterm-256color
    TMPDIR = /tmp

Perl special variables (and OS-specific diagnostics, for MSWin32):

    $^X = /usr/home/njh/perl5/perlbrew/perls/perl-5.23.2/bin/perl5.23.2
    $UID/$EUID = 1000 / 1000
    $GID = 1000 1000 0
    $EGID = 1000 1000 0

Perl module toolchain versions installed:

    Module              Have    
    ------------------- --------
    CPAN                2.11    
    CPAN::Meta          2.150005
    Cwd                 3.57    
    ExtUtils::CBuilder  0.280223
    ExtUtils::Command   7.10    
    ExtUtils::Install   2.04    
    ExtUtils::MakeMaker 7.10    
    ExtUtils::Manifest  1.70    
    ExtUtils::ParseXS   3.30    
    File::Spec          3.57    
    JSON                n/a     
    JSON::PP            2.27300 
    Module::Build       0.4214  
    Module::Signature   0.79    
    Parse::CPAN::Meta   1.4417  
    Test::Harness       3.35    
    Test::More          1.001014
    YAML                1.15    
    YAML::Syck          1.29    
    version             0.9912  


--

Summary of my perl5 (revision 5 version 23 subversion 2) configuration:
   
  Platform:
    osname=freebsd, osvers=9.1-release, archname=i386-freebsd-thread-multi
    uname='freebsd amber 9.1-release freebsd 9.1-release #0 r243826: tue dec 4 06:55:39 utc 2012 root@obrian.cse.buffalo.edu:usrobjusrsrcsysgeneric i386 '
    config_args='-de -Dprefix=/home/njh/perl5/perlbrew/perls/perl-5.23.2 -Duseithreads -Dusemultiplicity -Dusedevel -Dusedevel -Accflags=-O2 -W -Wformat=2 -Wswitch -Wshadow -Wwrite-strings -Wuninitialized -Wall -pipe -mtune=native -march=native -fomit-frame-pointer -msse2 -msse -mmmx -mfpmath=sse -D_FORTIFY_SOURCE=2 -Wpointer-arith -Wstrict-prototypes -fstack-protector -Wstack-protector -Wextra -Wbad-function-cast -Wcast-align -Wcast-qual -Wdisabled-optimization -Wendif-labels -Wfloat-equal -Wformat-nonliteral -Winline -Wmissing-declarations -Wmissing-prototypes -Wnested-externs -Wpointer-arith -Wundef -Wformat-security -ftree-vectorize -Aeval:scriptdir=/home/njh/perl5/perlbrew/perls/perl-5.23.2/bin'
    hint=recommended, useposix=true, d_sigaction=define
    useithreads=define, usemultiplicity=define
    use64bitint=undef, use64bitall=undef, uselongdouble=undef
    usemymalloc=n, bincompat5005=undef
  Compiler:
    cc='cc', ccflags ='-DHAS_FPSETMASK -DHAS_FLOATINGPOINT_H -O2 -W -Wformat=2 -Wswitch -Wshadow -Wwrite-strings -Wuninitialized -Wall -pipe -mtune=native -march=native -fomit-frame-pointer -msse2 -msse -mmmx -mfpmath=sse -D_FORTIFY_SOURCE=2 -Wpointer-arith -Wstrict-prototypes -fstack-protector -Wstack-protector -Wextra -Wbad-function-cast -Wcast-align -Wcast-qual -Wdisabled-optimization -Wendif-labels -Wfloat-equal -Wformat-nonliteral -Winline -Wmissing-declarations -Wmissing-prototypes -Wnested-externs -Wpointer-arith -Wundef -Wformat-security -ftree-vectorize -fno-strict-aliasing -I/usr/local/include',
    optimize='-O',
    cppflags='-DHAS_FPSETMASK -DHAS_FLOATINGPOINT_H -O2 -W -Wformat=2 -Wswitch -Wshadow -Wwrite-strings -Wuninitialized -Wall -pipe -mtune=native -march=native -fomit-frame-pointer -msse2 -msse -mmmx -mfpmath=sse -D_FORTIFY_SOURCE=2 -Wpointer-arith -Wstrict-prototypes -fstack-protector -Wstack-protector -Wextra -Wbad-function-cast -Wcast-align -Wcast-qual -Wdisabled-optimization -Wendif-labels -Wfloat-equal -Wformat-nonliteral -Winline -Wmissing-declarations -Wmissing-prototypes -Wnested-externs -Wpointer-arith -Wundef -Wformat-security -ftree-vectorize -fno-strict-aliasing -I/usr/local/include'
    ccversion='', gccversion='4.2.1 20070831 patched [FreeBSD]', gccosandvers=''
    intsize=4, longsize=4, ptrsize=4, doublesize=8, byteorder=1234, doublekind=3
    d_longlong=define, longlongsize=8, d_longdbl=define, longdblsize=12, longdblkind=-1
    ivtype='long', ivsize=4, nvtype='double', nvsize=8, Off_t='off_t', lseeksize=8
    alignbytes=4, prototype=define
  Linker and Libraries:
    ld='cc', ldflags ='-pthread -Wl,-E  -fstack-protector -L/usr/local/lib'
    libpth=/usr/lib /usr/local/lib /usr/include/gcc/4.2 /usr/lib
    libs=-lpthread -lm -lcrypt
    perllibs=-lpthread -lm -lcrypt
    libc=, so=so, useshrplib=false, libperl=libperl.a
    gnulibc_version=''
  Dynamic Linking:
    dlsrc=dl_dlopen.xs, dlext=so, d_dlsymun=undef, ccdlflags=' '
    cccdlflags='-DPIC -fPIC', lddlflags='-shared  -L/usr/local/lib -fstack-protector'


Characteristics of this binary (from libperl): 
  Compile-time options: HAS_TIMES MULTIPLICITY PERLIO_LAYERS
                        PERL_COPY_ON_WRITE PERL_DONT_CREATE_GVSV
                        PERL_HASH_FUNC_ONE_AT_A_TIME_HARD
                        PERL_IMPLICIT_CONTEXT PERL_MALLOC_WRAP
                        PERL_PRESERVE_IVUV PERL_USE_DEVEL USE_ITHREADS
                        USE_LARGE_FILES USE_LOCALE USE_LOCALE_COLLATE
                        USE_LOCALE_CTYPE USE_LOCALE_NUMERIC USE_LOCALE_TIME
                        USE_PERLIO USE_PERL_ATOF USE_REENTRANT_API
  Locally applied patches:
	Devel::PatchPerl 1.30
  Built under freebsd
  Compiled at Sep 22 2015 11:20:02
  %ENV:
    PERL5LIB="/home/njh/.cpan/build/Try-Tiny-0.22-CaZ4ro/blib/arch:/home/njh/.cpan/build/Try-Tiny-0.22-CaZ4ro/blib/lib:/home/njh/.cpan/build/SQL-Interp-1.22-YDBP7P/blib/arch:/home/njh/.cpan/build/SQL-Interp-1.22-YDBP7P/blib/lib:/home/njh/.cpan/build/Sub-Exporter-0.987-nzIKms/blib/arch:/home/njh/.cpan/build/Sub-Exporter-0.987-nzIKms/blib/lib:/home/njh/.cpan/build/Data-OptList-0.109-f35Rlf/blib/arch:/home/njh/.cpan/build/Data-OptList-0.109-f35Rlf/blib/lib:/home/njh/.cpan/build/Params-Util-1.07-57ZYlI/blib/arch:/home/njh/.cpan/build/Params-Util-1.07-57ZYlI/blib/lib:/home/njh/.cpan/build/Sub-Install-0.928-MU6JYF/blib/arch:/home/njh/.cpan/build/Sub-Install-0.928-MU6JYF/blib/lib"
    PERL5OPT=""
    PERL5_CPANPLUS_IS_RUNNING="80471"
    PERL5_CPAN_IS_RUNNING="80471"
    PERL5_MINISMOKEBOX="0.58"
    PERLBREW_BASHRC_VERSION="0.73"
    PERLBREW_HOME="/home/njh/.perlbrew"
    PERLBREW_LIB=""
    PERLBREW_MANPATH="/home/njh/perl5/perlbrew/perls/perl-5.23.2/man"
    PERLBREW_PATH="/home/njh/perl5/perlbrew/bin:/home/njh/perl5/perlbrew/perls/perl-5.23.2/bin"
    PERLBREW_PERL="perl-5.23.2"
    PERLBREW_ROOT="/home/njh/perl5/perlbrew"
    PERLBREW_VERSION="0.73"
    PERL_EXTUTILS_AUTOINSTALL="--defaultdeps"
    PERL_LOCAL_LIB_ROOT=""
    PERL_MM_USE_DEFAULT="1"
  @INC:
    /home/njh/.cpan/build/Try-Tiny-0.22-CaZ4ro/blib/arch
    /home/njh/.cpan/build/Try-Tiny-0.22-CaZ4ro/blib/lib
    /home/njh/.cpan/build/SQL-Interp-1.22-YDBP7P/blib/arch
    /home/njh/.cpan/build/SQL-Interp-1.22-YDBP7P/blib/lib
    /home/njh/.cpan/build/Sub-Exporter-0.987-nzIKms/blib/arch
    /home/njh/.cpan/build/Sub-Exporter-0.987-nzIKms/blib/lib
    /home/njh/.cpan/build/Data-OptList-0.109-f35Rlf/blib/arch
    /home/njh/.cpan/build/Data-OptList-0.109-f35Rlf/blib/lib
    /home/njh/.cpan/build/Params-Util-1.07-57ZYlI/blib/arch
    /home/njh/.cpan/build/Params-Util-1.07-57ZYlI/blib/lib
    /home/njh/.cpan/build/Sub-Install-0.928-MU6JYF/blib/arch
    /home/njh/.cpan/build/Sub-Install-0.928-MU6JYF/blib/lib
    /home/njh/perl5/perlbrew/perls/perl-5.23.2/lib/site_perl/5.23.2/i386-freebsd-thread-multi
    /home/njh/perl5/perlbrew/perls/perl-5.23.2/lib/site_perl/5.23.2
    /home/njh/perl5/perlbrew/perls/perl-5.23.2/lib/5.23.2/i386-freebsd-thread-multi
    /home/njh/perl5/perlbrew/perls/perl-5.23.2/lib/5.23.2
    .