Astro-Catalog v4.37 Perl 5 v5.20.1 i686-linux-64int

Status
Pass
From
Chris Williams (BINGOS)
Dist
Astro-Catalog v4.37
Platform
Perl 5 v5.20.1 i686-linux-64int
Date
2023-04-19 23:42:58
ID
e9ee7bd6-df0b-11ed-aba6-9a79f339625c
This distribution has been tested as part of the CPAN Testers
project, supporting the Perl programming language.  See
http://wiki.cpantesters.org/ for more information or email
questions to cpan-testers-discuss@perl.org


--

Dear Graham Bell,

This is a computer-generated error report created automatically by
CPANPLUS, version 0.9914. Testers personal comments may appear
at the end of this report.


Thank you for uploading your work to CPAN.  Congratulations!
All tests were successful.

TEST RESULTS:

Below is the error stack from stage 'make test':

# Tk::AstroCatalog can not locate Tk.pm
# Astro::Catalog::IO::FITSTable can not locate Astro/FITS/CFITSIO.pm
# Astro::Catalog::IO::VEX can not locate Astro/VEX.pm
# Astro::Catalog::IO::LCOGTFITSTable can not locate Astro/FITS/CFITSIO.pm
# Astro::Catalog::IO::Hedwig can not locate Text/CSV.pm
# Astro::Catalog::IO::VOTable can not locate Astro/VO/VOTable/Document.pm
t/1_compile.t ..... ok
t/2_astrom.t ...... ok
t/2_cluster.t ..... ok
t/2_findoff.t ..... ok
t/2_fitstable.t ... skipped: Tests require Astro::FITS::CFITSIO
t/2_gaiapick.t .... ok
t/2_jcmt.t ........ ok
t/2_jcmt_loose.t .. ok
t/2_northstar.t ... ok
t/2_ritmatch.t .... ok
t/2_sextractor.t .. ok
t/2_simple.t ...... ok
t/2_stl.t ......... ok
t/2_tst.t ......... ok
t/2_ukirtbs.t ..... ok
t/2_votable.t ..... skipped: Astro::VO::VOTable not installed
t/2_xy.t .......... ok
t/3_catalog.t ..... ok
t/3_item.t ........ ok
t/3_morphology.t .. ok
t/3_star.t ........ ok
t/4_cmc.t ......... ok
Unable to find plausible coordinate in string '------ ------ ------' at /home/cpan/pit/jail/3uhqRvltB0/lib/perl5/Astro/Coords/Equatorial.pm line 148.
Unable to find plausible coordinate in string '------ ----- ----' at /home/cpan/pit/jail/3uhqRvltB0/lib/perl5/Astro/Coords/Equatorial.pm line 150.
# Cannot connect to ESO GSC: Coordinates must be an Astro::Coords object at /home/cpan/pit/64bit/conf/perl-5.20.1/.cpanplus/5.20.1/build/ShFYzAmskw/Astro-Catalog-4.37/blib/lib/Astro/Catalog/Query/GSC.pm line 205.
t/4_gsc.t ......... ok
# Error 500: Failed to establish network connection using url http://scully.harvard.edu/~cgi/MPCheck.COM?ps=n&sort=d&type=p&month=3&mot=h&which=pos&tmot=s&needed=f&radius=300&ra=07+13+42&decl=-14+02+00&TextArea=&oc=500&year=2004&limit=20&day=1.87 at t/4_mpc.t line 99.
t/4_mpc.t ......... ok
# Cannot connect to Sesame: Service description 'http://cdsws.u-strasbg.fr/axis/services/Sesame?wsdl' can't be loaded: 500 Can't connect to cdsws.u-strasbg.fr:80 (Name or service not known)
# Cannot connect to Sesame: Service description 'http://cdsws.u-strasbg.fr/axis/services/Sesame?wsdl' can't be loaded: 500 Can't connect to cdsws.u-strasbg.fr:80 (Name or service not known)
t/4_sesame.t ...... ok
# Can not construct Skycat client: unable to find a remote service named gsc@eso at t/4_skycat_gsc.t line 107.
t/4_skycat_gsc.t .. ok
# Cannot connect to USNO-A2: Error 404: Failed to establish network connection using url http://archive.eso.org/skycat/servers/usnoa_res?radmax=1&format=1&sort=ra&nout=2000&object=HT Cas&magfaint=100&magbright=0 at t/4_usnoa2.t line 152.
t/4_usnoa2.t ...... ok
All tests successful.
Files=27, Tests=3453, 15 wallclock secs ( 0.33 usr  0.03 sys + 12.41 cusr  1.04 csys = 13.81 CPU)
Result: PASS


PREREQUISITES:

Here is a list of prerequisites you specified and versions we
managed to load:

	  Module Name                        Have     Want
	  Astro::Coords                      0.21     0.12
	  Astro::Flux                        0.01     0.01
	  Astro::Telescope                   0.71      0.5
	  Carp                             1.3301     1.01
	  Class::Struct                      0.65     0.63
	  Data::Dumper                      2.151     2.12
	  DateTime                           1.59        0
	  DateTime::Format::ISO8601          0.16        0
	  File::Spec                         3.75     0.84
	  File::Temp                       0.2311     0.14
	  LWP                                6.68     5.53
	  Misc::Quality                      0.01     0.01
	  Net::Domain                        2.23     2.13
	  Number::Uncertainty                 1.4     0.01
	  Pod::Usage                         1.63     1.14
	  SOAP::Lite                         1.27        0
	  Scalar::Util                       1.63     1.14
	  Test::More                     1.302194        0
	  Time::Piece                        1.27     1.08

Perl module toolchain versions installed:
	Module Name                        Have
	CPANPLUS                         0.9914
	CPANPLUS::Dist::Build              0.90
	Cwd                                3.75
	ExtUtils::CBuilder             0.280236
	ExtUtils::Command                  7.70
	ExtUtils::Install                  2.22
	ExtUtils::MakeMaker                7.70
	ExtUtils::Manifest                 1.73
	ExtUtils::ParseXS                  3.44
	File::Spec                         3.75
	Module::Build                    0.4232
	Pod::Parser                        1.62
	Pod::Simple                        3.28
	Test2                          1.302194
	Test::Harness                      3.44
	Test::More                     1.302194
	version                          0.9929

******************************** NOTE ********************************
The comments above are created mechanically, possibly without manual
checking by the sender.  As there are many people performing automatic
tests on each upload to CPAN, it is likely that you will receive
identical messages about the same problem.

If you believe that the message is mistaken, please reply to the first
one with correction and/or additional informations, and do not take
it personally.  We appreciate your patience. :)
**********************************************************************

Additional comments:


This report was machine-generated by CPANPLUS::Dist::YACSmoke 1.08.
Powered by minismokebox version 0.68

CPANPLUS is prefering Build.PL

------------------------------
ENVIRONMENT AND OTHER CONTEXT
------------------------------

Environment variables:

    AUTOMATED_TESTING = 1
    LANG = en_GB.UTF-8
    LANGUAGE = en_GB:en
    NONINTERACTIVE_TESTING = 1
    PATH = /home/cpan/pit/64bit/conf/perl-5.20.1/.cpanplus/5.20.1/build/ShFYzAmskw/Astro-Catalog-4.37/blib/script:/usr/local/bin:/usr/bin:/bin:/usr/local/games:/usr/games
    PERL5LIB = /home/cpan/pit/jail/3uhqRvltB0/lib/perl5:/home/cpan/pit/64bit/conf/perl-5.20.1/.cpanplus/5.20.1/build/ShFYzAmskw/Astro-Catalog-4.37/blib/lib:/home/cpan/pit/64bit/conf/perl-5.20.1/.cpanplus/5.20.1/build/ShFYzAmskw/Astro-Catalog-4.37/blib/arch
    PERL5_CPANPLUS_IS_RUNNING = 8393
    PERL5_CPANPLUS_IS_VERSION = 0.9914
    PERL5_MINISMOKEBOX = 0.68
    PERL5_YACSMOKE_BASE = /home/cpan/pit/64bit/conf/perl-5.20.1
    PERL_EXTUTILS_AUTOINSTALL = --defaultdeps
    PERL_LOCAL_LIB_ROOT = /home/cpan/pit/jail/3uhqRvltB0
    PERL_MB_OPT = --install_base "/home/cpan/pit/jail/3uhqRvltB0"
    PERL_MM_OPT = INSTALL_BASE=/home/cpan/pit/jail/3uhqRvltB0
    PERL_MM_USE_DEFAULT = 1
    SHELL = /bin/bash
    TERM = screen.xterm-256color

Perl special variables (and OS-specific diagnostics, for MSWin32):

    Perl: $^X = /home/cpan/pit/64bit/perl-5.20.1/bin/perl
    UID:  $<  = 1001
    EUID: $>  = 1001
    GID:  $(  = 1001 1001
    EGID: $)  = 1001 1001


-------------------------------


--

Summary of my perl5 (revision 5 version 20 subversion 1) configuration:
   
  Platform:
    osname=linux, osvers=5.10.0-12-686, archname=i686-linux-64int
    uname='linux dagobah 5.10.0-12-686 #1 smp debian 5.10.103-1 (2022-03-07) i686 gnulinux '
    config_args='-des -Dprefix=/home/cpan/pit/64bit/perl-5.20.1 -Duse64bitint'
    hint=recommended, useposix=true, d_sigaction=define
    useithreads=undef, usemultiplicity=undef
    use64bitint=define, use64bitall=undef, uselongdouble=undef
    usemymalloc=n, bincompat5005=undef
  Compiler:
    cc='cc', ccflags ='-fwrapv -fno-strict-aliasing -pipe -fstack-protector -I/usr/local/include -D_LARGEFILE_SOURCE -D_FILE_OFFSET_BITS=64',
    optimize='-O2',
    cppflags='-fwrapv -fno-strict-aliasing -pipe -fstack-protector -I/usr/local/include'
    ccversion='', gccversion='10.2.1 20210110', gccosandvers=''
    intsize=4, longsize=4, ptrsize=4, doublesize=8, byteorder=12345678
    d_longlong=define, longlongsize=8, d_longdbl=define, longdblsize=12
    ivtype='long long', ivsize=8, nvtype='double', nvsize=8, Off_t='off_t', lseeksize=8
    alignbytes=4, prototype=define
  Linker and Libraries:
    ld='cc', ldflags =' -fstack-protector -L/usr/local/lib'
    libpth=/usr/local/lib /usr/include/i386-linux-gnu /usr/lib /lib/i386-linux-gnu /lib/../lib /usr/lib/i386-linux-gnu /usr/lib/../lib /lib /lib64 /usr/lib64
    libs=-lnsl -lgdbm -ldl -lm -lcrypt -lutil -lc
    perllibs=-lnsl -ldl -lm -lcrypt -lutil -lc
    libc=libc-2.31.so, so=so, useshrplib=false, libperl=libperl.a
    gnulibc_version='2.31'
  Dynamic Linking:
    dlsrc=dl_dlopen.xs, dlext=so, d_dlsymun=undef, ccdlflags='-Wl,-E'
    cccdlflags='-fPIC', lddlflags='-shared -O2 -L/usr/local/lib -fstack-protector'


Characteristics of this binary (from libperl): 
  Compile-time options: HAS_TIMES PERLIO_LAYERS PERL_DONT_CREATE_GVSV
                        PERL_HASH_FUNC_ONE_AT_A_TIME_HARD PERL_MALLOC_WRAP
                        PERL_NEW_COPY_ON_WRITE PERL_PRESERVE_IVUV
                        USE_64_BIT_INT USE_LARGE_FILES USE_LOCALE
                        USE_LOCALE_COLLATE USE_LOCALE_CTYPE
                        USE_LOCALE_NUMERIC USE_PERLIO USE_PERL_ATOF
  Locally applied patches:
	Devel::PatchPerl 2.08
  Built under linux
  Compiled at Mar 18 2022 21:10:04
  %ENV:
    PERL5LIB="/home/cpan/pit/jail/3uhqRvltB0/lib/perl5:/home/cpan/pit/64bit/conf/perl-5.20.1/.cpanplus/5.20.1/build/ShFYzAmskw/Astro-Catalog-4.37/blib/lib:/home/cpan/pit/64bit/conf/perl-5.20.1/.cpanplus/5.20.1/build/ShFYzAmskw/Astro-Catalog-4.37/blib/arch"
    PERL5_CPANPLUS_IS_RUNNING="8393"
    PERL5_CPANPLUS_IS_VERSION="0.9914"
    PERL5_MINISMOKEBOX="0.68"
    PERL5_YACSMOKE_BASE="/home/cpan/pit/64bit/conf/perl-5.20.1"
    PERL_EXTUTILS_AUTOINSTALL="--defaultdeps"
    PERL_LOCAL_LIB_ROOT="/home/cpan/pit/jail/3uhqRvltB0"
    PERL_MB_OPT="--install_base "/home/cpan/pit/jail/3uhqRvltB0""
    PERL_MM_OPT="INSTALL_BASE=/home/cpan/pit/jail/3uhqRvltB0"
    PERL_MM_USE_DEFAULT="1"
  @INC:
    /home/cpan/pit/jail/3uhqRvltB0/lib/perl5/5.20.1/i686-linux-64int
    /home/cpan/pit/jail/3uhqRvltB0/lib/perl5/5.20.1
    /home/cpan/pit/jail/3uhqRvltB0/lib/perl5/i686-linux-64int
    /home/cpan/pit/jail/3uhqRvltB0/lib/perl5
    /home/cpan/pit/64bit/conf/perl-5.20.1/.cpanplus/5.20.1/build/ShFYzAmskw/Astro-Catalog-4.37/blib/lib
    /home/cpan/pit/64bit/conf/perl-5.20.1/.cpanplus/5.20.1/build/ShFYzAmskw/Astro-Catalog-4.37/blib/arch
    /home/cpan/pit/64bit/perl-5.20.1/lib/site_perl/5.20.1/i686-linux-64int
    /home/cpan/pit/64bit/perl-5.20.1/lib/site_perl/5.20.1
    /home/cpan/pit/64bit/perl-5.20.1/lib/5.20.1/i686-linux-64int
    /home/cpan/pit/64bit/perl-5.20.1/lib/5.20.1
    .