autodie v2.29 Perl 5 v5.16.2 x86_64-linux-ld

Status
Pass
From
Nigel Horne
Dist
autodie v2.29
Platform
Perl 5 v5.16.2 x86_64-linux-ld
Date
2018-03-22 07:59:14
ID
e9f610ec-2da6-11e8-a5c2-681ee0f8fa91
This distribution has been tested as part of the CPAN Testers
project, supporting the Perl programming language.  See
http://wiki.cpantesters.org/ for more information or email
questions to cpan-testers-discuss@perl.org


--
Dear Paul Jamieson Fenwick,

This is a computer-generated report for autodie-2.29
on perl 5.16.2, created by CPAN-Reporter-1.2018.

Thank you for uploading your work to CPAN.  Congratulations!
All tests were successful.

Sections of this report:

    * Tester comments
    * Program output
    * Prerequisites
    * Environment and other context

------------------------------
TESTER COMMENTS
------------------------------

Additional comments from tester:

this report is from an automated smoke testing program
and was not reviewed by a human for accuracy

------------------------------
PROGRAM OUTPUT
------------------------------

Output from '/usr/bin/make test':

PERL_DL_NONLAZY=1 "/home/njh/perl5/perlbrew/perls/perl-5.16.2-ld/bin/perl5.16.2" "-MExtUtils::Command::MM" "-MTest::Harness" "-e" "undef *Test::Harness::Switches; test_harness(0, 'blib/lib', 'blib/arch')" t/*.t
t/00-load.t ...................... ok
t/args.t ......................... ok
t/author-critic.t ................ skipped: these tests are for testing by the author
t/autodie.t ...................... ok
t/backcompat.t ................... ok
t/basic_exceptions.t ............. ok
t/binmode.t ...................... ok
t/blog_hints.t ................... ok
t/caller.t ....................... ok
t/chmod.t ........................ ok
t/chown.t ........................ ok
t/context.t ...................... ok
t/context_lexical.t .............. ok
t/core-trampoline-slurp.t ........ ok
t/crickey.t ...................... ok
t/critic.t ....................... skipped: Author test.  Set $ENV{AUTHOR_TESTING} to true to run.
t/eval_error.t ................... ok
t/dbmopen.t ...................... ok
t/exception_class.t .............. ok
t/exceptions.t ................... ok
t/exec.t ......................... ok
t/Fatal.t ........................ ok
t/filehandles.t .................. ok
t/fileno.t ....................... ok
t/flock.t ........................ ok
t/fork.t ......................... ok
t/format-clobber.t ............... ok
# Sub::Identify is not loaded
t/hints.t ........................ ok
t/hints_insist.t ................. ok
t/hints_pod_examples.t ........... ok
t/hints_provider_does.t .......... ok
t/hints_provider_easy_does_it.t .. ok
t/hints_provider_isa.t ........... ok
t/import-into.t .................. skipped: Test needs Import::Into >= 1.002004
t/internal-backcompat.t .......... ok
t/internal.t ..................... ok
t/kwalitee.t ..................... skipped: Author test.  Set $ENV{RELEASE_TESTING} to true to run.
t/kill.t ......................... ok
t/lex58.t ........................ skipped: IPC::System::Simple required
t/lethal.t ....................... ok
t/no_carp.t ...................... ok
t/mkdir.t ........................ ok
t/pod-coverage.t ................. skipped: Author test.  Set $ENV{AUTHOR_TESTING} to true to run.
t/open.t ......................... ok
t/pod.t .......................... skipped: Author test.  Set $ENV{AUTHOR_TESTING} to true to run.
t/read.t ......................... ok
t/recv.t ......................... ok
t/release-pod-coverage.t ......... skipped: these tests are for release candidate testing
t/release-pod-syntax.t ........... skipped: these tests are for release candidate testing
t/repeat.t ....................... ok
t/rt-74246.t ..................... ok
t/scope_leak.t ................... ok
t/skip.t ......................... ok
t/socket.t ....................... skipped: Author test.  Set $ENV{AUTHOR_TESTING} to true to run.
t/string-eval-basic.t ............ ok
t/string-eval-leak.t ............. ok
t/sysopen.t ...................... ok
t/system.t ....................... skipped: IPC::System::Simple not installed
t/truncate.t ..................... ok
t/unlink.t ....................... ok
t/user-context.t ................. ok
t/usersub.t ...................... ok
t/utf8_open.t .................... ok
t/utime.t ........................ ok
t/version.t ...................... skipped: Release test.  Set $ENV{RELEASE_TESTING} to true to run.
t/version_tag.t .................. ok
All tests successful.
Files=66, Tests=498,  4 wallclock secs ( 0.32 usr  0.10 sys +  6.20 cusr  1.37 csys =  7.99 CPU)
Result: PASS

------------------------------
PREREQUISITES
------------------------------

Prerequisite modules loaded:

requires:

    Module              Need     Have    
    ------------------- -------- --------
    B                   0        1.35    
    Carp                0        1.38    
    constant            0        1.23    
    Exporter            5.57     5.66    
    Fcntl               0        1.11    
    overload            0        1.18    
    parent              0        0.225   
    perl                5.008004 5.016002
    POSIX               0        1.30    
    Scalar::Util        0        1.25    
    strict              0        1.07    
    Tie::RefHash        0        1.39    
    warnings            0        1.13    

build_requires:

    Module              Need     Have    
    ------------------- -------- --------
    ExtUtils::MakeMaker 0        7.32    
    File::Copy          0        2.23    
    File::Spec          0        3.39_02 
    File::Temp          0        0.22    
    FindBin             0        1.51    
    if                  0        0.0602  
    IO::Handle          0        1.33    
    lib                 0        0.63    
    Socket              0        2.001   
    Test::More          0        1.302122

configure_requires:

    Module              Need     Have    
    ------------------- -------- --------
    ExtUtils::MakeMaker 0        7.32    


------------------------------
ENVIRONMENT AND OTHER CONTEXT
------------------------------

Environment variables:

    AUTOMATED_TESTING = 1
    HARNESS_OPTIONS = j2
    LANG = en_US.UTF-8
    PATH = /home/njh/perl5/perlbrew/bin:/home/njh/perl5/perlbrew/perls/perl-5.16.2-ld/bin:src/njh/smoker/bin:/usr/bin:/bin
    PERL5LIB = /home/njh/.cpan/build/Data-Dumper-2.161-0/blib/arch:/home/njh/.cpan/build/Data-Dumper-2.161-0/blib/lib:/home/njh/.cpan/build/Carp-1.38-0/blib/arch:/home/njh/.cpan/build/Carp-1.38-0/blib/lib:/home/njh/.cpan/build/AnyEvent-HTTP-Message-0.302-0/blib/arch:/home/njh/.cpan/build/AnyEvent-HTTP-Message-0.302-0/blib/lib:/home/njh/.cpan/build/AnyEvent-HTTP-2.23-0/blib/arch:/home/njh/.cpan/build/AnyEvent-HTTP-2.23-0/blib/lib:/home/njh/.cpan/build/common-sense-3.74-0/blib/arch:/home/njh/.cpan/build/common-sense-3.74-0/blib/lib:/home/njh/.cpan/build/AnyEvent-7.14-0/blib/arch:/home/njh/.cpan/build/AnyEvent-7.14-0/blib/lib:/home/njh/.cpan/build/Canary-Stability-2012-0/blib/arch:/home/njh/.cpan/build/Canary-Stability-2012-0/blib/lib
    PERL5OPT = 
    PERL5_CPANPLUS_IS_RUNNING = 18893
    PERL5_CPAN_IS_RUNNING = 18893
    PERLBREW_HOME = /home/njh/.perlbrew
    PERLBREW_MANPATH = /home/njh/perl5/perlbrew/perls/perl-5.16.2-ld/man
    PERLBREW_PATH = /home/njh/perl5/perlbrew/bin:/home/njh/perl5/perlbrew/perls/perl-5.16.2-ld/bin
    PERLBREW_PERL = perl-5.16.2-ld
    PERLBREW_ROOT = /home/njh/perl5/perlbrew
    PERLBREW_SHELLRC_VERSION = 0.82
    PERLBREW_VERSION = 0.82
    SHELL = /bin/sh

Perl special variables (and OS-specific diagnostics, for MSWin32):

    $^X = /home/njh/perl5/perlbrew/perls/perl-5.16.2-ld/bin/perl5.16.2
    $UID/$EUID = 1000 / 1000
    $GID = 1000 1000
    $EGID = 1000 1000

Perl module toolchain versions installed:

    Module              Have    
    ------------------- --------
    CPAN                2.16    
    CPAN::Meta          2.143240
    Cwd                 3.39_02 
    ExtUtils::CBuilder  0.280206
    ExtUtils::Command   7.32    
    ExtUtils::Install   2.06    
    ExtUtils::MakeMaker 7.32    
    ExtUtils::Manifest  1.70    
    ExtUtils::ParseXS   3.16    
    File::Spec          3.39_02 
    JSON                n/a     
    JSON::PP            2.97001 
    Module::Build       0.39_01 
    Module::Signature   n/a     
    Parse::CPAN::Meta   1.4414  
    Test::Harness       3.41    
    Test::More          1.302122
    YAML                1.24    
    YAML::Syck          1.30    
    version             0.99    


--

Summary of my perl5 (revision 5 version 16 subversion 2) configuration:
   
  Platform:
    osname=linux, osvers=4.9.0-5-amd64, archname=x86_64-linux-ld
    uname='linux dev0.teada.net 4.9.0-5-amd64 #1 smp debian 4.9.65-3+deb9u2 (2018-01-04) x86_64 gnulinux '
    config_args='-de -Dprefix=/home/njh/perl5/perlbrew/perls/perl-5.16.2-ld -Dusedevel -Duselongdouble -Accflags= -Aeval:scriptdir=/home/njh/perl5/perlbrew/perls/perl-5.16.2-ld/bin'
    hint=recommended, useposix=true, d_sigaction=define
    useithreads=undef, usemultiplicity=undef
    useperlio=define, d_sfio=undef, uselargefiles=define, usesocks=undef
    use64bitint=define, use64bitall=define, uselongdouble=define
    usemymalloc=n, bincompat5005=undef
  Compiler:
    cc='cc', ccflags ='-fno-strict-aliasing -pipe -fstack-protector -I/usr/local/include -D_LARGEFILE_SOURCE -D_FILE_OFFSET_BITS=64',
    optimize='-O2',
    cppflags='-fno-strict-aliasing -pipe -fstack-protector -I/usr/local/include'
    ccversion='', gccversion='6.3.0 20170516', gccosandvers=''
    intsize=4, longsize=8, ptrsize=8, doublesize=8, byteorder=12345678
    d_longlong=define, longlongsize=8, d_longdbl=define, longdblsize=16
    ivtype='long', ivsize=8, nvtype='long double', nvsize=16, Off_t='off_t', lseeksize=8
    alignbytes=16, prototype=define
  Linker and Libraries:
    ld='cc', ldflags =' -fstack-protector -L/usr/local/lib'
    libpth=/usr/local/lib /lib/x86_64-linux-gnu /lib/../lib /usr/lib/x86_64-linux-gnu /usr/lib/../lib /lib /usr/lib
    libs=-lnsl -ldl -lm -lcrypt -lutil -lc
    perllibs=-lnsl -ldl -lm -lcrypt -lutil -lc
    libc=libc-2.24.so, so=so, useshrplib=false, libperl=libperl.a
    gnulibc_version='2.24'
  Dynamic Linking:
    dlsrc=dl_dlopen.xs, dlext=so, d_dlsymun=undef, ccdlflags='-Wl,-E'
    cccdlflags='-fPIC', lddlflags='-shared -O2 -L/usr/local/lib -fstack-protector'


Characteristics of this binary (from libperl): 
  Compile-time options: HAS_TIMES PERLIO_LAYERS PERL_DONT_CREATE_GVSV
                        PERL_MALLOC_WRAP PERL_PRESERVE_IVUV PERL_USE_DEVEL
                        USE_64_BIT_ALL USE_64_BIT_INT USE_LARGE_FILES
                        USE_LOCALE USE_LOCALE_COLLATE USE_LOCALE_CTYPE
                        USE_LOCALE_NUMERIC USE_LONG_DOUBLE USE_PERLIO
                        USE_PERL_ATOF
  Locally applied patches:
	Devel::PatchPerl 1.48
  Built under linux
  Compiled at Feb 18 2018 02:04:36
  %ENV:
    PERL5LIB="/home/njh/.cpan/build/Data-Dumper-2.161-0/blib/arch:/home/njh/.cpan/build/Data-Dumper-2.161-0/blib/lib:/home/njh/.cpan/build/Carp-1.38-0/blib/arch:/home/njh/.cpan/build/Carp-1.38-0/blib/lib:/home/njh/.cpan/build/AnyEvent-HTTP-Message-0.302-0/blib/arch:/home/njh/.cpan/build/AnyEvent-HTTP-Message-0.302-0/blib/lib:/home/njh/.cpan/build/AnyEvent-HTTP-2.23-0/blib/arch:/home/njh/.cpan/build/AnyEvent-HTTP-2.23-0/blib/lib:/home/njh/.cpan/build/common-sense-3.74-0/blib/arch:/home/njh/.cpan/build/common-sense-3.74-0/blib/lib:/home/njh/.cpan/build/AnyEvent-7.14-0/blib/arch:/home/njh/.cpan/build/AnyEvent-7.14-0/blib/lib:/home/njh/.cpan/build/Canary-Stability-2012-0/blib/arch:/home/njh/.cpan/build/Canary-Stability-2012-0/blib/lib"
    PERL5OPT=""
    PERL5_CPANPLUS_IS_RUNNING="18893"
    PERL5_CPAN_IS_RUNNING="18893"
    PERLBREW_HOME="/home/njh/.perlbrew"
    PERLBREW_MANPATH="/home/njh/perl5/perlbrew/perls/perl-5.16.2-ld/man"
    PERLBREW_PATH="/home/njh/perl5/perlbrew/bin:/home/njh/perl5/perlbrew/perls/perl-5.16.2-ld/bin"
    PERLBREW_PERL="perl-5.16.2-ld"
    PERLBREW_ROOT="/home/njh/perl5/perlbrew"
    PERLBREW_SHELLRC_VERSION="0.82"
    PERLBREW_VERSION="0.82"
  @INC:
    /home/njh/.cpan/build/Data-Dumper-2.161-0/blib/arch
    /home/njh/.cpan/build/Data-Dumper-2.161-0/blib/lib
    /home/njh/.cpan/build/Carp-1.38-0/blib/arch
    /home/njh/.cpan/build/Carp-1.38-0/blib/lib
    /home/njh/.cpan/build/AnyEvent-HTTP-Message-0.302-0/blib/arch
    /home/njh/.cpan/build/AnyEvent-HTTP-Message-0.302-0/blib/lib
    /home/njh/.cpan/build/AnyEvent-HTTP-2.23-0/blib/arch
    /home/njh/.cpan/build/AnyEvent-HTTP-2.23-0/blib/lib
    /home/njh/.cpan/build/common-sense-3.74-0/blib/arch
    /home/njh/.cpan/build/common-sense-3.74-0/blib/lib
    /home/njh/.cpan/build/AnyEvent-7.14-0/blib/arch
    /home/njh/.cpan/build/AnyEvent-7.14-0/blib/lib
    /home/njh/.cpan/build/Canary-Stability-2012-0/blib/arch
    /home/njh/.cpan/build/Canary-Stability-2012-0/blib/lib
    /home/njh/perl5/perlbrew/perls/perl-5.16.2-ld/lib/site_perl/5.16.2/x86_64-linux-ld
    /home/njh/perl5/perlbrew/perls/perl-5.16.2-ld/lib/site_perl/5.16.2
    /home/njh/perl5/perlbrew/perls/perl-5.16.2-ld/lib/5.16.2/x86_64-linux-ld
    /home/njh/perl5/perlbrew/perls/perl-5.16.2-ld/lib/5.16.2
    .