Time-Zone-Olson v0.46 Perl 5 v5.30.3 x86_64-linux
- Status
- Pass
- From
- Slaven Rezić
- Dist
-
Time-Zone-Olson v0.46
- Platform
- Perl 5 v5.30.3 x86_64-linux
- Date
- 2023-02-25 22:36:59
- ID
- ea466b4e-b55c-11ed-94a7-e64d6e8775ea
This distribution has been tested as part of the CPAN Testers
project, supporting the Perl programming language. See
http://wiki.cpantesters.org/ for more information or email
questions to cpan-testers-discuss@perl.org
--
Dear David Dick,
This is a computer-generated report for Time-Zone-Olson-0.46
on perl 5.30.3, created by CPAN-Reporter-1.2018.
Thank you for uploading your work to CPAN. Congratulations!
All tests were successful.
Sections of this report:
* Tester comments
* Program output
* Prerequisites
* Environment and other context
------------------------------
TESTER COMMENTS
------------------------------
Additional comments from tester:
none provided
------------------------------
PROGRAM OUTPUT
------------------------------
Output from '/usr/bin/make test':
PERL_DL_NONLAZY=1 "/opt/perl-5.30.3/bin/perl" "-MExtUtils::Command::MM" "-MTest::Harness" "-e" "undef *Test::Harness::Switches; test_harness(0, 'blib/lib', 'blib/arch')" t/*.t
# Testing Time::Zone::Olson 0.46, Perl 5.030003, /opt/perl-5.30.3/bin/perl
t/00-load.t ........... ok
t/boilerplate.t ....... ok
t/manifest.t .......... skipped: Author tests not required for installation
t/pod-coverage.t ...... ok
t/pod.t ............... ok
# Checking https://raw.githubusercontent.com/unicode-org/cldr/master/common/supplemental/windowsZones.xml
t/windows_zones.t ..... ok
# Olson tz directory is /usr/share/zoneinfo for linux
# Local timezone has been determined to be Etc/UTC
# Local timezone was determined using /etc/localtime
# lrwxrwxrwx. 1 root root 27 Aug 29 07:51 /etc/localtime -> /usr/share/zoneinfo/Etc/UTC
# Comment for 'Australia/Melbourne' is 'Victoria'
# /usr/share/zoneinfo/Etc/UTC -9223372036854775808 = NULL
# /usr/share/zoneinfo/Etc/UTC -9223372036854689408 = NULL
# /usr/share/zoneinfo/Etc/UTC 9223372036854689407 = NULL
# /usr/share/zoneinfo/Etc/UTC 9223372036854775807 = NULL
# gnu test of early date:1901/03/01 09:59:59 AEST
t/zoneinfo_all.t ...... ok
# Determined timezone is Etc/UTC
# TZDIR has not been set
# Output of gnu date command:2015/02/28 11:00:00
# Results of unpack:
# Local timezone has been determined to be Etc/UTC
t/zoneinfo_current.t .. ok
t/zoneinfo_taint.t .... ok
t/zoneinfo_tz_env.t ... ok
All tests successful.
Files=10, Tests=1606, 66 wallclock secs ( 0.18 usr 0.01 sys + 63.48 cusr 1.45 csys = 65.12 CPU)
Result: PASS
------------------------------
PREREQUISITES
------------------------------
Prerequisite modules loaded:
requires:
Module Need Have
-------------------- ----- --------
Carp 0 1.50
Config 0 5.030003
Digest::SHA 0 6.02
DirHandle 0 1.05
Encode 0 3.19
English 0 1.10
File::Find 0 1.36
File::Spec 0 3.78
FileHandle 0 2.03
perl 5.006 5.030003
POSIX 0 1.88
strict 0 1.11
warnings 0 1.44
build_requires:
Module Need Have
-------------------- ----- --------
ExtUtils::MakeMaker 0 7.64
Fcntl 0 1.13
File::Temp 0 0.2309
HTTP::Request 0 6.44
LWP::Protocol::https 6.06 6.10
LWP::UserAgent 0 6.67
Test::More 0 1.302192
Time::Local 0 1.30
XML::LibXML 0 2.0207
configure_requires:
Module Need Have
-------------------- ----- --------
ExtUtils::MakeMaker 0 7.64
------------------------------
ENVIRONMENT AND OTHER CONTEXT
------------------------------
Environment variables:
LANG = en_US.UTF-8
PATH = /usr/local/bin:/usr/bin:/bin:/usr/local/sbin:/usr/sbin:/sbin:/home/cpansand/bin/linux-gnu:/home/cpansand/bin/sh:/home/cpansand/bin:/usr/games:/home/cpansand/devel:/home/eserte/src/srezic-misc/scripts
PERL5LIB =
PERL5OPT =
PERL5_CPANPLUS_IS_RUNNING = 1609973
PERL5_CPAN_IS_RUNNING = 1609973
PERL5_CPAN_IS_RUNNING_IN_RECURSION = 1563699,1609973
PERLDOC = -MPod::Perldoc::ToTextOverstrike
PERL_BATCH = yes
PERL_CANARY_STABILITY_NOPROMPT = 1
PERL_CPAN_REPORTER_CONFIG = /var/tmp/cpansmoker-1023/2023022521/cpanreporter_000_config.ini
PERL_EXTUTILS_AUTOINSTALL = --defaultdeps
PERL_USE_UNSAFE_INC = 1
SHELL = /usr/bin/zsh
TERM = screen
TMPDIR = /var/tmp/cpansmoker-1023/2023022521
Perl special variables (and OS-specific diagnostics, for MSWin32):
$^X = /opt/perl-5.30.3/bin/perl
$UID/$EUID = 1023 / 1023
$GID = 1023 1023
$EGID = 1023 1023
Perl module toolchain versions installed:
Module Have
------------------- --------
CPAN 2.22
CPAN::Meta 2.150010
Cwd 3.78
ExtUtils::CBuilder 0.280236
ExtUtils::Command 7.64
ExtUtils::Install 2.14
ExtUtils::MakeMaker 7.64
ExtUtils::Manifest 1.72
ExtUtils::ParseXS 3.40
File::Spec 3.78
JSON 4.09
JSON::PP 4.13
Module::Build 0.4231
Module::Signature n/a
Parse::CPAN::Meta 2.150010
Test::Harness 3.42
Test::More 1.302192
YAML 1.30
YAML::Syck 1.34
version 0.9924
--
Summary of my perl5 (revision 5 version 30 subversion 3) configuration:
Platform:
osname=linux
osvers=5.19.9-200.fc36.x86_64
archname=x86_64-linux
uname='linux cloud4.bbbike.org 5.19.9-200.fc36.x86_64 #1 smp preempt_dynamic thu sep 15 09:49:52 utc 2022 x86_64 x86_64 x86_64 gnulinux '
config_args='-ds -e -Dprefix=/opt/perl-5.30.3 -Dcf_email=srezic@cpan.org'
hint=recommended
useposix=true
d_sigaction=define
useithreads=undef
usemultiplicity=undef
use64bitint=define
use64bitall=define
uselongdouble=undef
usemymalloc=n
default_inc_excludes_dot=define
bincompat5005=undef
Compiler:
cc='cc'
ccflags ='-fwrapv -fno-strict-aliasing -pipe -fstack-protector-strong -I/usr/local/include -D_LARGEFILE_SOURCE -D_FILE_OFFSET_BITS=64 -D_FORTIFY_SOURCE=2'
optimize='-O2'
cppflags='-fwrapv -fno-strict-aliasing -pipe -fstack-protector-strong -I/usr/local/include'
ccversion=''
gccversion='12.2.1 20220819 (Red Hat 12.2.1-2)'
gccosandvers=''
intsize=4
longsize=8
ptrsize=8
doublesize=8
byteorder=12345678
doublekind=3
d_longlong=define
longlongsize=8
d_longdbl=define
longdblsize=16
longdblkind=3
ivtype='long'
ivsize=8
nvtype='double'
nvsize=8
Off_t='off_t'
lseeksize=8
alignbytes=8
prototype=define
Linker and Libraries:
ld='cc'
ldflags =' -fstack-protector-strong -L/usr/local/lib'
libpth=/usr/local/lib /usr/lib /lib/../lib64 /usr/lib/../lib64 /lib /lib64 /usr/lib64 /usr/local/lib64
libs=-lpthread -ldb -ldl -lm -lcrypt -lutil -lc
perllibs=-lpthread -ldl -lm -lcrypt -lutil -lc
libc=/lib/../lib64/libc.so.6
so=so
useshrplib=false
libperl=libperl.a
gnulibc_version='2.35'
Dynamic Linking:
dlsrc=dl_dlopen.xs
dlext=so
d_dlsymun=undef
ccdlflags='-Wl,-E'
cccdlflags='-fPIC'
lddlflags='-shared -O2 -L/usr/local/lib -fstack-protector-strong'
Characteristics of this binary (from libperl):
Compile-time options:
HAS_TIMES
PERLIO_LAYERS
PERL_COPY_ON_WRITE
PERL_DONT_CREATE_GVSV
PERL_MALLOC_WRAP
PERL_OP_PARENT
PERL_PRESERVE_IVUV
USE_64_BIT_ALL
USE_64_BIT_INT
USE_LARGE_FILES
USE_LOCALE
USE_LOCALE_COLLATE
USE_LOCALE_CTYPE
USE_LOCALE_NUMERIC
USE_LOCALE_TIME
USE_PERLIO
USE_PERL_ATOF
Built under linux
Compiled at Sep 23 2022 05:46:53
%ENV:
PERL5LIB=""
PERL5OPT=""
PERL5_CPANPLUS_IS_RUNNING="1609973"
PERL5_CPAN_IS_RUNNING="1609973"
PERL5_CPAN_IS_RUNNING_IN_RECURSION="1563699,1609973"
PERLDOC="-MPod::Perldoc::ToTextOverstrike"
PERL_BATCH="yes"
PERL_CANARY_STABILITY_NOPROMPT="1"
PERL_CPAN_REPORTER_CONFIG="/var/tmp/cpansmoker-1023/2023022521/cpanreporter_000_config.ini"
PERL_EXTUTILS_AUTOINSTALL="--defaultdeps"
PERL_USE_UNSAFE_INC="1"
@INC:
/opt/perl-5.30.3/lib/site_perl/5.30.3/x86_64-linux
/opt/perl-5.30.3/lib/site_perl/5.30.3
/opt/perl-5.30.3/lib/5.30.3/x86_64-linux
/opt/perl-5.30.3/lib/5.30.3
.