Report for MooseX-UndefTolerant-0.21

Back
From: metabase:user:fb19509c-17e3-11e3-a14d-fdb79081a995
Subject: PASS MooseX-UndefTolerant-0.21 v5.25.11 Mac OS X
Date: 2017-05-23T20:10:49Z

This distribution has been tested as part of the CPAN Testers
project, supporting the Perl programming language.  See
http://wiki.cpantesters.org/ for more information or email
questions to cpan-testers-discuss@perl.org


--
Dear ETHER,

This is a computer-generated report for MooseX-UndefTolerant-0.21
on perl 5.25.11, created by App::cpanminus::reporter 0.17 (1.7042).

Thank you for uploading your work to CPAN.  Congratulations!
All tests were successful.

Sections of this report:

    * Tester comments
    * Program output
    * Prerequisites
    * Environment and other context

------------------------------
TESTER COMMENTS
------------------------------

Additional comments from tester:

none provided

------------------------------
PROGRAM OUTPUT
------------------------------

Output from '':

Building and testing MooseX-UndefTolerant-0.21
do "t/00-report-prereqs.dd" failed, '.' is no longer in @INC at t/00-report-prereqs.t line 74.
# 
# Versions for all modules listed in MYMETA.json (including optional ones):
# 
# === Configure Requires ===
# 
#     Module               Want  Have
#     ------------------- ----- -----
#     Module::Build::Tiny 0.034 0.039
# 
# === Test Requires ===
# 
#     Module           Want     Have
#     ---------------- ---- --------
#     File::Spec        any     3.67
#     Module::Metadata  any 1.000033
#     Test::Fatal       any    0.014
#     Test::Moose       any   2.2005
#     Test::More       0.88 1.302083
#     if                any   0.0606
#     lib               any     0.64
# 
# === Test Recommends ===
# 
#     Module         Want     Have
#     ---------- -------- --------
#     CPAN::Meta 2.120900 2.150010
# 
# === Runtime Requires ===
# 
#     Module               Want   Have
#     -------------------- ---- ------
#     Moose                0.89 2.2005
#     Moose::Exporter       any 2.2005
#     Moose::Role           any 2.2005
#     namespace::autoclean  any   0.28
#     strict                any   1.11
#     warnings              any   1.37
# 
# === Other Modules ===
# 
#     Module       Have
#     --------- -------
#     JSON::PP  2.91_04
#     Sub::Name    0.23
#     YAML         1.23
#     autodie      2.29
# 
t/00-report-prereqs.t .. ok
# Testing MooseX::UndefTolerant 0.21, Perl 5.025011, /Users/ether/perl5/perlbrew/perls/25.11/bin/perl5.25.11
t/00-load.t ............ ok
t/basic.t .............. ok
t/defaults.t ........... ok
t/constructor.t ........ ok
t/roles.t .............. ok
t/undef_init_arg.t ..... ok
t/zzz-check-breaks.t ... ok
All tests successful.
Files=8, Tests=158,  2 wallclock secs ( 0.07 usr  0.02 sys +  4.62 cusr  0.35 csys =  5.06 CPU)
Result: PASS

------------------------------
PREREQUISITES
------------------------------

Prerequisite modules loaded:

    No requirements found

------------------------------
ENVIRONMENT AND OTHER CONTEXT
------------------------------

Environment variables:

    HARNESS_OPTIONS = j5:c
    LANG = en_CA.UTF-8
    NO_NETWORK_TESTING = 1
    PATH = /Users/ether/.perlbrew/libs/25.11@std/bin:/Users/ether/perl5/perlbrew/bin:/Users/ether/perl5/perlbrew/perls/25.11/bin:/Users/ether/bin:/Users/ether/git/misc/install/bourbon/bin:/Users/ether/git/misc/install/generic/bin:/opt/local/bin:/opt/local/sbin:/Users/ether/git/git-hub/lib:/Users/ether/src/CE/devtools:/Users/ether/git/CE/devtools:/Users/ether/src/CE/bin:/Users/ether/git/CE/bin:/usr/bin:/bin:/usr/sbin:/sbin:/usr/local/bin:/opt/local/share/git-core/contrib/workdir
    PERL5LIB = /Users/ether/.perlbrew/libs/25.11@std/lib/perl5
    PERLBREW_BASHRC_VERSION = 0.78
    PERLBREW_HOME = /Users/ether/.perlbrew
    PERLBREW_LIB = std
    PERLBREW_MANPATH = /Users/ether/.perlbrew/libs/25.11@std/man:/Users/ether/perl5/perlbrew/perls/25.11/man
    PERLBREW_PATH = /Users/ether/.perlbrew/libs/25.11@std/bin:/Users/ether/perl5/perlbrew/bin:/Users/ether/perl5/perlbrew/perls/25.11/bin
    PERLBREW_PERL = 25.11
    PERLBREW_ROOT = /Users/ether/perl5/perlbrew
    PERLBREW_VERSION = 0.78
    PERLDOC_PAGER = less -sicMr
    PERL_AUTOINSTALL_PREFER_CPAN = 1
    PERL_INSTALL_QUIET = 1
    PERL_LOCAL_LIB_ROOT = /Users/ether/.perlbrew/libs/25.11@std
    PERL_MB_OPT = --install_base /Users/ether/.perlbrew/libs/25.11@std
    PERL_MM_OPT = INSTALL_BASE=/Users/ether/.perlbrew/libs/25.11@std
    PERL_USE_UNSAFE_INC = 0
    SHELL = /bin/bash
    TERM = xterm-color
    TMPDIR = /var/folders/kx/9dgyhhpn2yb7v2mggnr385fr0000gn/T/

Perl special variables (and OS-specific diagnostics, for MSWin32):

    EGID = 20 20 402 401 12 33 61 79 80 81 98 100 204
    EUID = 501
    EXECUTABLE_NAME = /Users/ether/perl5/perlbrew/perls/25.11/bin/perl5.25.11
    GID = 20 20 402 401 12 33 61 79 80 81 98 100 204
    UID = 501

Perl module toolchain versions installed:

    Module              Have    
    ------------------- --------
    CPAN                2.17    
    CPAN::Meta          2.150010
    Cwd                 3.67    
    ExtUtils::CBuilder  0.280225
    ExtUtils::Command   7.25_01 
    ExtUtils::Install   2.04    
    ExtUtils::MakeMaker 7.25_01 
    ExtUtils::Manifest  1.70    
    ExtUtils::ParseXS   3.34    
    File::Spec          3.67    
    JSON                2.91_04 
    JSON::PP            2.91_04 
    Module::Build       0.4222  
    Module::Signature   n/a     
    Parse::CPAN::Meta   2.150010
    Test::Harness       3.39    
    Test::More          1.302083
    YAML                1.23    
    YAML::Syck          1.29    
    version             0.9917  


--

Summary of my perl5 (revision 5 version 25 subversion 11) configuration:
   
  Platform:
    osname=darwin
    osvers=12.6.0
    archname=darwin-2level
    uname='darwin bourbon 12.6.0 darwin kernel version 12.6.0: wed mar 18 16:23:48 pdt 2015; root:xnu-2050.48.19~1release_x86_64 x86_64 '
    config_args='-de -Dprefix=/Users/ether/perl5/perlbrew/perls/25.11 -Dman1dir=none -Dman3dir=none -Dusedevel -Aeval:scriptdir=/Users/ether/perl5/perlbrew/perls/25.11/bin'
    hint=recommended
    useposix=true
    d_sigaction=define
    useithreads=undef
    usemultiplicity=undef
    use64bitint=define
    use64bitall=define
    uselongdouble=undef
    usemymalloc=n
    default_inc_excludes_dot=define
    bincompat5005=undef
  Compiler:
    cc='cc'
    ccflags ='-fno-common -DPERL_DARWIN -fno-strict-aliasing -pipe -fstack-protector -I/opt/local/include'
    optimize='-O3'
    cppflags='-fno-common -DPERL_DARWIN -fno-strict-aliasing -pipe -fstack-protector -I/opt/local/include'
    ccversion=''
    gccversion='4.2.1 Compatible Apple LLVM 4.2 (clang-425.0.28)'
    gccosandvers=''
    intsize=4
    longsize=8
    ptrsize=8
    doublesize=8
    byteorder=12345678
    doublekind=3
    d_longlong=define
    longlongsize=8
    d_longdbl=define
    longdblsize=16
    longdblkind=3
    ivtype='long'
    ivsize=8
    nvtype='double'
    nvsize=8
    Off_t='off_t'
    lseeksize=8
    alignbytes=8
    prototype=define
  Linker and Libraries:
    ld='env MACOSX_DEPLOYMENT_TARGET=10.3 cc'
    ldflags =' -fstack-protector -L/opt/local/lib'
    libpth=/usr/bin/../lib/clang/4.2/lib /usr/lib /opt/local/lib
    libs=-lpthread -lgdbm -ldbm -ldl -lm -lutil -lc
    perllibs=-lpthread -ldl -lm -lutil -lc
    libc=
    so=dylib
    useshrplib=false
    libperl=libperl.a
    gnulibc_version=''
  Dynamic Linking:
    dlsrc=dl_dlopen.xs
    dlext=bundle
    d_dlsymun=undef
    ccdlflags=' '
    cccdlflags=' '
    lddlflags=' -bundle -undefined dynamic_lookup -L/opt/local/lib -fstack-protector'


Characteristics of this binary (from libperl): 
  Compile-time options:
    HAS_TIMES
    PERLIO_LAYERS
    PERL_COPY_ON_WRITE
    PERL_DONT_CREATE_GVSV
    PERL_MALLOC_WRAP
    PERL_OP_PARENT
    PERL_PRESERVE_IVUV
    PERL_USE_DEVEL
    USE_64_BIT_ALL
    USE_64_BIT_INT
    USE_LARGE_FILES
    USE_LOCALE
    USE_LOCALE_COLLATE
    USE_LOCALE_CTYPE
    USE_LOCALE_NUMERIC
    USE_LOCALE_TIME
    USE_PERLIO
    USE_PERL_ATOF
  Locally applied patches:
    Devel::PatchPerl 1.38
  Built under darwin
  Compiled at Mar 22 2017 11:59:33
  %ENV:
    PERL5LIB="/Users/ether/.perlbrew/libs/25.11@std/lib/perl5"
    PERLBREW_BASHRC_VERSION="0.78"
    PERLBREW_HOME="/Users/ether/.perlbrew"
    PERLBREW_LIB="std"
    PERLBREW_MANPATH="/Users/ether/.perlbrew/libs/25.11@std/man:/Users/ether/perl5/perlbrew/perls/25.11/man"
    PERLBREW_PATH="/Users/ether/.perlbrew/libs/25.11@std/bin:/Users/ether/perl5/perlbrew/bin:/Users/ether/perl5/perlbrew/perls/25.11/bin"
    PERLBREW_PERL="25.11"
    PERLBREW_ROOT="/Users/ether/perl5/perlbrew"
    PERLBREW_VERSION="0.78"
    PERLDOC_PAGER="less -sicMr"
    PERL_AUTOINSTALL_PREFER_CPAN="1"
    PERL_INSTALL_QUIET="1"
    PERL_LOCAL_LIB_ROOT="/Users/ether/.perlbrew/libs/25.11@std"
    PERL_MB_OPT="--install_base /Users/ether/.perlbrew/libs/25.11@std"
    PERL_MM_OPT="INSTALL_BASE=/Users/ether/.perlbrew/libs/25.11@std"
    PERL_USE_UNSAFE_INC="0"
  @INC:
    /Users/ether/.perlbrew/libs/25.11@std/lib/perl5/darwin-2level
    /Users/ether/.perlbrew/libs/25.11@std/lib/perl5
    /Users/ether/perl5/perlbrew/perls/25.11/lib/site_perl/5.25.11/darwin-2level
    /Users/ether/perl5/perlbrew/perls/25.11/lib/site_perl/5.25.11
    /Users/ether/perl5/perlbrew/perls/25.11/lib/5.25.11/darwin-2level
    /Users/ether/perl5/perlbrew/perls/25.11/lib/5.25.11