Report for autodie-2.29

Back
From: metabase:user:66e9a482-228a-11e4-a8ad-1cac160f318f
Subject: PASS autodie-2.29 v5.14.2 Mac OS X
Date: 2015-07-27T22:14:57Z

This distribution has been tested as part of the CPAN Testers
project, supporting the Perl programming language.  See
http://wiki.cpantesters.org/ for more information or email
questions to cpan-testers-discuss@perl.org


--
Dear PJF,

This is a computer-generated report for autodie-2.29
on perl 5.14.2, created by App::cpanminus::reporter 0.13 (1.7039).

Thank you for uploading your work to CPAN.  Congratulations!
All tests were successful.

Sections of this report:

    * Tester comments
    * Program output
    * Prerequisites
    * Environment and other context

------------------------------
TESTER COMMENTS
------------------------------

Additional comments from tester:

none provided

------------------------------
PROGRAM OUTPUT
------------------------------

Output from '':

Building and testing autodie-2.29
cp lib/autodie/Util.pm blib/lib/autodie/Util.pm
cp lib/autodie/hints.pm blib/lib/autodie/hints.pm
cp lib/Fatal.pm blib/lib/Fatal.pm
cp lib/autodie/Scope/Guard.pm blib/lib/autodie/Scope/Guard.pm
cp lib/autodie/Scope/GuardStack.pm blib/lib/autodie/Scope/GuardStack.pm
cp lib/autodie/exception.pm blib/lib/autodie/exception.pm
cp lib/autodie/skip.pm blib/lib/autodie/skip.pm
cp lib/autodie.pm blib/lib/autodie.pm
cp lib/autodie/exception/system.pm blib/lib/autodie/exception/system.pm
Manifying 9 pod documents
PERL_DL_NONLAZY=1 "/opt/plenv/versions/5.14.2/bin/perl5.14.2" "-MExtUtils::Command::MM" "-MTest::Harness" "-e" "undef *Test::Harness::Switches; test_harness(0, 'blib/lib', 'blib/arch')" t/*.t
t/00-load.t ...................... ok
t/args.t ......................... ok
t/author-critic.t ................ skipped: these tests are for testing by the author
t/autodie.t ...................... ok
t/backcompat.t ................... ok
t/basic_exceptions.t ............. ok
t/binmode.t ...................... ok
t/blog_hints.t ................... ok
t/caller.t ....................... ok
t/chmod.t ........................ ok
t/chown.t ........................ ok
t/context.t ...................... ok
t/context_lexical.t .............. ok
t/core-trampoline-slurp.t ........ ok
t/crickey.t ...................... ok
t/critic.t ....................... skipped: Author test.  Set $ENV{AUTHOR_TESTING} to true to run.
t/dbmopen.t ...................... ok
t/eval_error.t ................... ok
t/exception_class.t .............. ok
t/exceptions.t ................... ok
t/exec.t ......................... ok
t/Fatal.t ........................ ok
t/filehandles.t .................. ok
t/fileno.t ....................... ok
t/flock.t ........................ ok
t/fork.t ......................... skipped: BSD::Resource required to test fork()
t/format-clobber.t ............... ok
# Sub::Identify is loaded
t/hints.t ........................ ok
t/hints_insist.t ................. ok
t/hints_pod_examples.t ........... ok
t/hints_provider_does.t .......... ok
t/hints_provider_easy_does_it.t .. ok
t/hints_provider_isa.t ........... ok
t/import-into.t .................. skipped: Test needs Import::Into >= 1.002004
t/internal-backcompat.t .......... ok
t/internal.t ..................... ok
t/kill.t ......................... ok
t/kwalitee.t ..................... skipped: Author test.  Set $ENV{RELEASE_TESTING} to true to run.
t/lethal.t ....................... ok
t/lex58.t ........................ skipped: IPC::System::Simple required
t/mkdir.t ........................ ok
t/no_carp.t ...................... ok
t/open.t ......................... ok
t/pod-coverage.t ................. skipped: Author test.  Set $ENV{AUTHOR_TESTING} to true to run.
t/pod.t .......................... skipped: Author test.  Set $ENV{AUTHOR_TESTING} to true to run.
t/read.t ......................... ok
t/recv.t ......................... ok
t/release-pod-coverage.t ......... skipped: these tests are for release candidate testing
t/release-pod-syntax.t ........... skipped: these tests are for release candidate testing
t/repeat.t ....................... ok
t/rt-74246.t ..................... ok
t/scope_leak.t ................... ok
t/skip.t ......................... ok
t/socket.t ....................... skipped: Author test.  Set $ENV{AUTHOR_TESTING} to true to run.
t/string-eval-basic.t ............ ok
t/string-eval-leak.t ............. ok
t/sysopen.t ...................... ok
t/system.t ....................... skipped: IPC::System::Simple not installed
t/truncate.t ..................... ok
t/unlink.t ....................... ok
t/user-context.t ................. ok
t/usersub.t ...................... ok
t/utf8_open.t .................... ok
t/utime.t ........................ ok
t/version.t ...................... skipped: Release test.  Set $ENV{RELEASE_TESTING} to true to run.
t/version_tag.t .................. ok
All tests successful.
Files=66, Tests=495,  3 wallclock secs ( 0.17 usr  0.09 sys +  1.81 cusr  0.27 csys =  2.34 CPU)
Result: PASS

------------------------------
PREREQUISITES
------------------------------

Prerequisite modules loaded:

    No requirements found

------------------------------
ENVIRONMENT AND OTHER CONTEXT
------------------------------

Environment variables:

    LANG = en_US.UTF-8
    LC_ALL = en_US.UTF-8
    PATH = /opt/plenv/versions/5.14.2/bin:/opt/plenv/libexec:/opt/plenv/plugins/perl-build/bin:/opt/plenv/shims:/opt/plenv/bin:/Users/genehack/bin:/opt/sbt/bin:/opt/scala/bin:/opt/play:/opt/go/bin:/opt/vim/bin:/opt/tmux/bin:/opt/sml/bin:/opt/rust/bin:/opt/python/bin:/opt/node/bin:/opt/git/bin:/opt/emacs/bin:/opt/local/bin:/usr/bin:/bin:/usr/sbin:/sbin:/usr/local/bin:/usr/X11/bin:/Users/genehack/proj/go/bin
    PERL_CPANM_OPT = --skip-installed --prompt
    SHELL = /bin/zsh
    TERM = screen-256color
    TMPDIR = /var/folders/gd/n6xwfsjd0dzcngcyp60cxvth0000gn/T/

Perl special variables (and OS-specific diagnostics, for MSWin32):

    EGID = 20 20 12 61 79 80 81 98 398 399 33 100 204
    EUID = 501
    EXECUTABLE_NAME = /opt/plenv/versions/5.14.2/bin/perl5.14.2
    GID = 20 20 12 61 79 80 81 98 398 399 33 100 204
    UID = 501

Perl module toolchain versions installed:

    Module              Have     
    ------------------- ---------
    CPAN                1.9600_01
    CPAN::Meta          2.150005 
    Cwd                 3.47     
    ExtUtils::CBuilder  0.280203 
    ExtUtils::Command   1.17     
    ExtUtils::Install   1.56     
    ExtUtils::MakeMaker 7.04     
    ExtUtils::Manifest  1.65     
    ExtUtils::ParseXS   3.24     
    File::Spec          3.47     
    JSON                2.90     
    JSON::PP            2.27300  
    Module::Build       0.4214   
    Module::Signature   n/a      
    Parse::CPAN::Meta   1.4417   
    Test::Harness       3.35     
    Test::More          1.001014 
    YAML                n/a      
    YAML::Syck          n/a      
    version             0.88     


--

Summary of my perl5 (revision 5 version 14 subversion 2) configuration:
   
  Platform:
    osname=darwin, osvers=14.4.0, archname=darwin-2level
    uname='darwin irving.home.genehack.org 14.4.0 darwin kernel version 14.4.0: thu may 28 11:35:04 pdt 2015; root:xnu-2782.30.5~1release_x86_64 x86_64 i386 macbookpro11,1 darwin '
    config_args='-Dprefix=/opt/plenv/versions/5.14.2 -de -Dusedevel -A'eval:scriptdir=/opt/plenv/versions/5.14.2/bin''
    hint=recommended, useposix=true, d_sigaction=define
    useithreads=undef, usemultiplicity=undef
    useperlio=define, d_sfio=undef, uselargefiles=define, usesocks=undef
    use64bitint=define, use64bitall=define, uselongdouble=undef
    usemymalloc=n, bincompat5005=undef
  Compiler:
    cc='cc', ccflags ='-fno-common -DPERL_DARWIN -fno-strict-aliasing -pipe -fstack-protector -I/opt/local/include',
    optimize='-O3',
    cppflags='-fno-common -DPERL_DARWIN -fno-strict-aliasing -pipe -fstack-protector -I/opt/local/include'
    ccversion='', gccversion='4.2.1 Compatible Apple LLVM 6.1.0 (clang-602.0.53)', gccosandvers=''
    intsize=4, longsize=8, ptrsize=8, doublesize=8, byteorder=12345678
    d_longlong=define, longlongsize=8, d_longdbl=define, longdblsize=16
    ivtype='long', ivsize=8, nvtype='double', nvsize=8, Off_t='off_t', lseeksize=8
    alignbytes=8, prototype=define
  Linker and Libraries:
    ld='env MACOSX_DEPLOYMENT_TARGET=10.3 cc', ldflags =' -fstack-protector -L/usr/local/lib -L/opt/local/lib'
    libpth=/usr/local/lib /opt/local/lib /usr/lib
    libs=-ldbm -ldl -lm -lutil -lc
    perllibs=-ldl -lm -lutil -lc
    libc=, so=dylib, useshrplib=false, libperl=libperl.a
    gnulibc_version=''
  Dynamic Linking:
    dlsrc=dl_dlopen.xs, dlext=bundle, d_dlsymun=undef, ccdlflags=' '
    cccdlflags=' ', lddlflags=' -bundle -undefined dynamic_lookup -L/usr/local/lib -L/opt/local/lib -fstack-protector'


Characteristics of this binary (from libperl): 
  Compile-time options: PERL_DONT_CREATE_GVSV PERL_MALLOC_WRAP
                        PERL_PRESERVE_IVUV PERL_USE_DEVEL USE_64_BIT_ALL
                        USE_64_BIT_INT USE_LARGE_FILES USE_PERLIO
                        USE_PERL_ATOF
  Locally applied patches:
	Devel::PatchPerl 1.30
  Built under darwin
  Compiled at Jul 10 2015 10:11:50
  %ENV:
    PERL_CPANM_OPT="--skip-installed --prompt"
  @INC:
    /opt/plenv/versions/5.14.2/lib/perl5/site_perl/5.14.2/darwin-2level
    /opt/plenv/versions/5.14.2/lib/perl5/site_perl/5.14.2
    /opt/plenv/versions/5.14.2/lib/perl5/5.14.2/darwin-2level
    /opt/plenv/versions/5.14.2/lib/perl5/5.14.2
    .