MaxMind-DB-Writer v0.300004 Perl 5 v5.38.2 amd64-freebsd
- Status
- Pass
- From
- Slaven Rezić
- Dist
-
MaxMind-DB-Writer v0.300004
- Platform
- Perl 5 v5.38.2 amd64-freebsd
- Date
- 2023-12-15 22:54:34
- ID
- ea8980ba-9b9c-11ee-a7c3-91116e8775ea
This distribution has been tested as part of the CPAN Testers
project, supporting the Perl programming language. See
http://wiki.cpantesters.org/ for more information or email
questions to cpan-testers-discuss@perl.org
--
Dear MaxMind, Inc.,
This is a computer-generated report for MaxMind-DB-Writer-0.300004
on perl 5.38.2, created by CPAN-Reporter-1.2019.
Thank you for uploading your work to CPAN. Congratulations!
All tests were successful.
Sections of this report:
* Tester comments
* Program output
* Prerequisites
* Environment and other context
------------------------------
TESTER COMMENTS
------------------------------
Additional comments from tester:
none provided
------------------------------
PROGRAM OUTPUT
------------------------------
Output from './Build test':
#
# Versions for all modules listed in MYMETA.json (including optional ones):
#
# === Configure Requires ===
#
# Module Want Have
# ------------- ---- ------
# Module::Build 0.28 0.4234
#
# === Build Requires ===
#
# Module Want Have
# ------------------ ---- --------
# ExtUtils::CBuilder any 0.280238
# Module::Build 0.28 0.4234
#
# === Test Requires ===
#
# Module Want Have
# ------------------------------- ---- --------
# Data::Printer any 1.001001
# Devel::Refcount any 0.10
# ExtUtils::MakeMaker any 7.70
# File::Spec any 3.88
# File::Temp any 0.2311
# JSON any 4.10
# List::AllUtils any 0.19
# List::Util any 1.63
# MaxMind::DB::Reader any 1.000014
# Net::Works::Address any 0.22
# Scalar::Util any 1.63
# Test::Bits any 0.02
# Test::Builder any 1.302198
# Test::Fatal any 0.017
# Test::HexDifferences any 1.001
# Test::MaxMind::DB::Common::Data any 0.040001
# Test::More 0.96 1.302198
# Test::Requires any 0.11
# Test::Warnings any 0.032
# lib any 0.65
# utf8 any 1.25
#
# === Test Recommends ===
#
# Module Want Have
# ---------- -------- --------
# CPAN::Meta 2.120900 2.150010
#
# === Runtime Requires ===
#
# Module Want Have
# ---------------------------- -------- --------
# Carp any 1.54
# Data::Dumper::Concise any 2.023
# Data::IEEE754 any 0.02
# Digest::MD5 any 2.58_01
# Digest::SHA any 6.04
# Encode any 3.19
# Exporter any 5.77
# IO::Handle any 1.52
# Math::Int128 0.21 0.22
# Math::Int64 0.51 0.54
# MaxMind::DB::Common 0.031003 0.040001
# MaxMind::DB::Metadata any 0.040001
# MaxMind::DB::Reader::Decoder any 1.000014
# MaxMind::DB::Role::Debugs any 0.040001
# Moose any 2.2206
# Moose::Util::TypeConstraints any 2.2206
# MooseX::Params::Validate any 0.21
# MooseX::StrictConstructor any 0.21
# Net::Works::Network any 0.22
# Sereal::Decoder any 5.004
# Sereal::Encoder 3.002 5.004
# Test::Deep::NoTest any 1.204
# XSLoader any 0.32
# autodie any 2.36
# bytes any 1.08
# constant any 1.33
# namespace::autoclean any 0.29
# perl 5.013002 5.038002
# strict any 1.12
# warnings any 1.65
#
t/00-report-prereqs.t ...................................... ok
t/MaxMind/DB/Writer/Serializer-deduplication.t ............. ok
t/MaxMind/DB/Writer/Serializer-large-pointer.t ............. ok
t/MaxMind/DB/Writer/Serializer-types/array.t ............... ok
t/MaxMind/DB/Writer/Serializer-types/boolean.t ............. ok
t/MaxMind/DB/Writer/Serializer-types/bytes.t ............... ok
t/MaxMind/DB/Writer/Serializer-types/double.t .............. ok
t/MaxMind/DB/Writer/Serializer-types/end_marker.t .......... ok
t/MaxMind/DB/Writer/Serializer-types/float.t ............... ok
t/MaxMind/DB/Writer/Serializer-types/int32.t ............... ok
t/MaxMind/DB/Writer/Serializer-types/map.t ................. ok
t/MaxMind/DB/Writer/Serializer-types/pointer.t ............. ok
t/MaxMind/DB/Writer/Serializer-types/uint128.t ............. ok
t/MaxMind/DB/Writer/Serializer-types/uint16.t .............. ok
t/MaxMind/DB/Writer/Serializer-types/uint32.t .............. ok
t/MaxMind/DB/Writer/Serializer-types/uint64.t .............. ok
t/MaxMind/DB/Writer/Serializer-types/utf8_string.t ......... ok
t/MaxMind/DB/Writer/Serializer-utf8-as-bytes.t ............. ok
t/MaxMind/DB/Writer/Serializer-utf8-round-trip.t ........... ok
t/MaxMind/DB/Writer/Serializer.t ........................... ok
MaxMind::DB::Writer::Tree is deprecated and should no longer be used at t/MaxMind/DB/Writer/Tree-bigint.t line 7.
t/MaxMind/DB/Writer/Tree-bigint.t .......................... ok
MaxMind::DB::Writer::Tree is deprecated and should no longer be used at t/MaxMind/DB/Writer/Tree-data-references.t line 5.
t/MaxMind/DB/Writer/Tree-data-references.t ................. ok
MaxMind::DB::Writer::Tree is deprecated and should no longer be used at t/lib/Test/MaxMind/DB/Writer.pm line 11.
t/MaxMind/DB/Writer/Tree-freeze-thaw.t ..................... ok
MaxMind::DB::Writer::Tree is deprecated and should no longer be used at t/MaxMind/DB/Writer/Tree-insert-range.t line 6.
t/MaxMind/DB/Writer/Tree-insert-range.t .................... ok
MaxMind::DB::Writer::Tree is deprecated and should no longer be used at t/MaxMind/DB/Writer/Tree-ipv4-and-6.t line 7.
t/MaxMind/DB/Writer/Tree-ipv4-and-6.t ...................... ok
MaxMind::DB::Writer::Tree is deprecated and should no longer be used at t/MaxMind/DB/Writer/Tree-ipv6-aliases.t line 6.
t/MaxMind/DB/Writer/Tree-ipv6-aliases.t .................... ok
MaxMind::DB::Writer::Tree is deprecated and should no longer be used at t/lib/Test/MaxMind/DB/Writer.pm line 11.
t/MaxMind/DB/Writer/Tree-iterator-large-dataset.t .......... ok
MaxMind::DB::Writer::Tree is deprecated and should no longer be used at t/lib/Test/MaxMind/DB/Writer.pm line 11.
t/MaxMind/DB/Writer/Tree-iterator.t ........................ ok
MaxMind::DB::Writer::Tree is deprecated and should no longer be used at t/MaxMind/DB/Writer/Tree-output/0-0-0-0.t line 10.
t/MaxMind/DB/Writer/Tree-output/0-0-0-0.t .................. ok
MaxMind::DB::Writer::Tree is deprecated and should no longer be used at t/MaxMind/DB/Writer/Tree-output/basic.t line 8.
t/MaxMind/DB/Writer/Tree-output/basic.t .................... ok
MaxMind::DB::Writer::Tree is deprecated and should no longer be used at t/MaxMind/DB/Writer/Tree-output/freeze-thaw-record-size.t line 8.
t/MaxMind/DB/Writer/Tree-output/freeze-thaw-record-size.t .. ok
MaxMind::DB::Writer::Tree is deprecated and should no longer be used at t/MaxMind/DB/Writer/Tree-output/freeze-then-write-bug.t line 8.
t/MaxMind/DB/Writer/Tree-output/freeze-then-write-bug.t .... ok
MaxMind::DB::Writer::Tree is deprecated and should no longer be used at t/MaxMind/DB/Writer/Tree-output/ipv6-aliases.t line 10.
t/MaxMind/DB/Writer/Tree-output/ipv6-aliases.t ............. ok
MaxMind::DB::Writer::Tree is deprecated and should no longer be used at t/lib/Test/MaxMind/DB/Writer.pm line 11.
t/MaxMind/DB/Writer/Tree-output/record-deduplication.t ..... ok
MaxMind::DB::Writer::Tree is deprecated and should no longer be used at t/MaxMind/DB/Writer/Tree-output/utf8-data.t line 11.
t/MaxMind/DB/Writer/Tree-output/utf8-data.t ................ ok
MaxMind::DB::Writer::Tree is deprecated and should no longer be used at t/lib/Test/MaxMind/DB/Writer.pm line 11.
t/MaxMind/DB/Writer/Tree-record-collisions.t ............... ok
MaxMind::DB::Writer::Tree is deprecated and should no longer be used at t/MaxMind/DB/Writer/Tree-thaw-merge.t line 14.
t/MaxMind/DB/Writer/Tree-thaw-merge.t ...................... ok
MaxMind::DB::Writer::Tree is deprecated and should no longer be used at t/lib/Test/MaxMind/DB/Writer.pm line 11.
t/MaxMind/DB/Writer/Tree.t ................................. ok
t/MaxMind/DB/Writer/Util.t ................................. ok
All tests successful.
Files=39, Tests=458, 26 wallclock secs ( 0.54 usr 0.16 sys + 23.05 cusr 1.94 csys = 25.69 CPU)
Result: PASS
------------------------------
PREREQUISITES
------------------------------
Prerequisite modules loaded:
requires:
Module Need Have
------------------------------- -------- --------
autodie 0 2.36
bytes 0 1.08
Carp 0 1.54
constant 0 1.33
Data::Dumper::Concise 0 2.023
Data::IEEE754 0 0.02
Digest::MD5 0 2.58_01
Digest::SHA 0 6.04
Encode 0 3.19
Exporter 0 5.77
IO::Handle 0 1.52
Math::Int128 0.21 0.22
Math::Int64 0.51 0.54
MaxMind::DB::Common 0.031003 0.040001
MaxMind::DB::Metadata 0 0.040001
MaxMind::DB::Reader::Decoder 0 1.000014
MaxMind::DB::Role::Debugs 0 0.040001
Moose 0 2.2206
Moose::Util::TypeConstraints 0 2.2206
MooseX::Params::Validate 0 0.21
MooseX::StrictConstructor 0 0.21
namespace::autoclean 0 0.29
Net::Works::Network 0 0.22
perl 5.013002 5.038002
Sereal::Decoder 0 5.004
Sereal::Encoder 3.002 5.004
strict 0 1.12
Test::Deep::NoTest 0 1.204
warnings 0 1.65
XSLoader 0 0.32
build_requires:
Module Need Have
------------------------------- -------- --------
Data::Printer 0 1.001001
Devel::Refcount 0 0.10
ExtUtils::CBuilder 0 0.280238
ExtUtils::MakeMaker 0 7.70
File::Spec 0 3.88
File::Temp 0 0.2311
JSON 0 4.10
lib 0 0.65
List::AllUtils 0 0.19
List::Util 0 1.63
MaxMind::DB::Reader 0 1.000014
Module::Build 0.28 0.4234
Net::Works::Address 0 0.22
Scalar::Util 0 1.63
Test::Bits 0 0.02
Test::Builder 0 1.302198
Test::Fatal 0 0.017
Test::HexDifferences 0 1.001
Test::MaxMind::DB::Common::Data 0 0.040001
Test::More 0.96 1.302198
Test::Requires 0 0.11
Test::Warnings 0 0.032
utf8 0 1.25
configure_requires:
Module Need Have
------------------------------- -------- --------
Module::Build 0.28 0.4234
------------------------------
ENVIRONMENT AND OTHER CONTEXT
------------------------------
Environment variables:
LANG = C.UTF-8
PATH = /usr/local/bin:/usr/bin:/bin:/usr/local/sbin:/usr/sbin:/sbin:/home/cpansand/bin/freebsd14.0:/home/cpansand/bin/sh:/home/cpansand/bin:/usr/games:/home/cpansand/devel:/home/eserte/src/srezic-misc/scripts
PERL5LIB =
PERL5OPT =
PERL5_CPANPLUS_IS_RUNNING = 6431
PERL5_CPAN_IS_RUNNING = 6431
PERL5_CPAN_IS_RUNNING_IN_RECURSION = 43737,6431
PERLDOC = -MPod::Perldoc::ToTextOverstrike
PERL_BATCH = yes
PERL_CANARY_STABILITY_NOPROMPT = 1
PERL_CPAN_REPORTER_CONFIG = /var/tmp/cpansmoker-1023/2023121519/cpanreporter_000_config.ini
PERL_EXTUTILS_AUTOINSTALL = --defaultdeps
PERL_USE_UNSAFE_INC = 1
SHELL = /usr/local/bin/zsh
TERM = screen
TMPDIR = /var/tmp/cpansmoker-1023/2023121519
Perl special variables (and OS-specific diagnostics, for MSWin32):
$^X = /usr/perl5.38.2/bin/perl5.38.2
$UID/$EUID = 1023 / 1023
$GID = 1023 1023
$EGID = 1023 1023
Perl module toolchain versions installed:
Module Have
------------------- --------
CPAN 2.36
CPAN::Meta 2.150010
Cwd 3.89
ExtUtils::CBuilder 0.280238
ExtUtils::Command 7.70
ExtUtils::Install 2.22
ExtUtils::MakeMaker 7.70
ExtUtils::Manifest 1.73
ExtUtils::ParseXS 3.51
File::Spec 3.88
JSON 4.10
JSON::PP 4.16
Module::Build 0.4234
Module::Signature n/a
Parse::CPAN::Meta 2.150010
Test2 1.302198
Test::Harness 3.48
Test::More 1.302198
YAML 1.30
YAML::Syck 1.34
version 0.9929
--
Summary of my perl5 (revision 5 version 38 subversion 2) configuration:
Platform:
osname=freebsd
osvers=14.0-stable
archname=amd64-freebsd
uname='freebsd cloud11.bbbike.org 14.0-stable freebsd 14.0-stable #0 stable14-8d42f85d9: wed dec 13 14:10:27 utc 2023 root@cloud11.bbbike.org:usrobjhomeprojectsfreebsd-srcamd64.amd64sysgeneric amd64 '
config_args='-ds -e -Dprefix=/usr/perl5.38.2 -Dcf_email=srezic@cpan.org -Doptimize=-O2 -pipe'
hint=recommended
useposix=true
d_sigaction=define
useithreads=undef
usemultiplicity=undef
use64bitint=define
use64bitall=define
uselongdouble=undef
usemymalloc=n
default_inc_excludes_dot=define
Compiler:
cc='cc'
ccflags ='-DHAS_FPSETMASK -DHAS_FLOATINGPOINT_H -fno-strict-aliasing -pipe -fstack-protector-strong -I/usr/local/include'
optimize='-O2 -pipe'
cppflags='-DHAS_FPSETMASK -DHAS_FLOATINGPOINT_H -fno-strict-aliasing -pipe -fstack-protector-strong -I/usr/local/include'
ccversion=''
gccversion='FreeBSD Clang 16.0.6 (https://github.com/llvm/llvm-project.git llvmorg-16.0.6-0-g7cbf1a259152)'
gccosandvers=''
intsize=4
longsize=8
ptrsize=8
doublesize=8
byteorder=12345678
doublekind=3
d_longlong=define
longlongsize=8
d_longdbl=define
longdblsize=16
longdblkind=3
ivtype='long'
ivsize=8
nvtype='double'
nvsize=8
Off_t='off_t'
lseeksize=8
alignbytes=8
prototype=define
Linker and Libraries:
ld='cc'
ldflags ='-Wl,-E -fstack-protector-strong -L/usr/local/lib'
libpth=/usr/lib /usr/local/lib /usr/lib/clang/16/lib
libs=-lpthread -lgdbm -ldl -lm -lcrypt -lutil -lc
perllibs=-lpthread -ldl -lm -lcrypt -lutil -lc
libc=
so=so
useshrplib=false
libperl=libperl.a
gnulibc_version=''
Dynamic Linking:
dlsrc=dl_dlopen.xs
dlext=so
d_dlsymun=undef
ccdlflags=' '
cccdlflags='-DPIC -fPIC'
lddlflags='-shared -L/usr/local/lib -fstack-protector-strong'
Characteristics of this binary (from libperl):
Compile-time options:
HAS_LONG_DOUBLE
HAS_STRTOLD
HAS_TIMES
PERLIO_LAYERS
PERL_COPY_ON_WRITE
PERL_DONT_CREATE_GVSV
PERL_HASH_FUNC_SIPHASH13
PERL_HASH_USE_SBOX32
PERL_MALLOC_WRAP
PERL_OP_PARENT
PERL_PRESERVE_IVUV
PERL_USE_SAFE_PUTENV
USE_64_BIT_ALL
USE_64_BIT_INT
USE_LARGE_FILES
USE_LOCALE
USE_LOCALE_COLLATE
USE_LOCALE_CTYPE
USE_LOCALE_NUMERIC
USE_LOCALE_TIME
USE_PERLIO
USE_PERL_ATOF
Built under freebsd
Compiled at Dec 13 2023 17:28:52
%ENV:
PERL5LIB=""
PERL5OPT=""
PERL5_CPANPLUS_IS_RUNNING="6431"
PERL5_CPAN_IS_RUNNING="6431"
PERL5_CPAN_IS_RUNNING_IN_RECURSION="43737,6431"
PERLDOC="-MPod::Perldoc::ToTextOverstrike"
PERL_BATCH="yes"
PERL_CANARY_STABILITY_NOPROMPT="1"
PERL_CPAN_REPORTER_CONFIG="/var/tmp/cpansmoker-1023/2023121519/cpanreporter_000_config.ini"
PERL_EXTUTILS_AUTOINSTALL="--defaultdeps"
PERL_USE_UNSAFE_INC="1"
@INC:
/usr/perl5.38.2/lib/site_perl/5.38.2/amd64-freebsd
/usr/perl5.38.2/lib/site_perl/5.38.2
/usr/perl5.38.2/lib/5.38.2/amd64-freebsd
/usr/perl5.38.2/lib/5.38.2
.