Report for LWP-Protocol-Coro-http-v1.0.7

Back
From: metabase:user:314402c4-2aae-11df-837a-5e0a49663a4f
Subject: PASS LWP-Protocol-Coro-http-v1.0.7 v5.12.3 FreeBSD
Date: 2012-11-11T04:11:50Z

This distribution has been tested as part of the CPAN Testers
project, supporting the Perl programming language.  See
http://wiki.cpantesters.org/ for more information or email
questions to cpan-testers-discuss@perl.org


--
Dear ikegami,

This is a computer-generated report for LWP-Protocol-Coro-http-v1.0.7
on perl 5.12.3, created by CPAN-Reporter-1.2006.

Thank you for uploading your work to CPAN.  Congratulations!
All tests were successful.

Sections of this report:

    * Tester comments
    * Program output
    * Prerequisites
    * Environment and other context

------------------------------
TESTER COMMENTS
------------------------------

Additional comments from tester:

none provided

------------------------------
PROGRAM OUTPUT
------------------------------

Output from './Build test':

# Testing LWP::Protocol::Coro::http v1.0.7, Perl 5.012003
# AnyEvent 7.01
# AnyEvent::HTTP 2.13
# AnyEvent::Handle 7.01
# AnyEvent::Util 7.01
# AutoLoader 5.70
# Carp 1.26
# Config <unknown>
# Coro 6.07
# Coro::Channel 6.07
# Coro::Semaphore 6.07
# Coro::State 6.07
# Errno 1.11
# Exporter 5.66
# Exporter::Heavy 5.66
# Fcntl 1.06
# Guard 1.021
# HTTP::Headers 6.00
# HTTP::Message 6.03
# HTTP::Response 6.03
# HTTP::Status 6.03
# LWP::MemberMixin <unknown>
# LWP::Protocol 6.00
# LWP::Protocol::Coro::http v1.0.7
# List::Util 1.25
# Log::Agent 0.307
# Log::Agent::Formatting <unknown>
# Log::Agent::Message <unknown>
# Log::Agent::Priorities <unknown>
# PerlIO 1.06
# Scalar::Util 1.25
# Socket 2.001
# Storable 2.35
# Test::Builder 0.98
# Test::Builder::Module 0.98
# Test::More 0.98
# URI 1.60
# URI::Escape 3.31
# XSLoader 0.16
# base 2.18
# common::sense 3.4
# overload 1.10
# strict 1.04
# vars 1.01
# version 0.9901
# version::vxs 0.9901
# warnings 1.09
# warnings::register 1.01
t/00_load.t .................. ok
# Retrieving URL: http://localhost:38614/
# Waiting for reply
# Waiting for reply
# Waiting for reply
# Waiting for reply
# Shutting down server
# Done
t/01_timer.t ................. ok
# Retrieving URL: http://localhost:64311/chunks
# Waiting for reply
# Got chunk
# Waiting for reply
# Got chunk
# Waiting for reply
# Got chunk
# Waiting for reply
# Got chunk
# Waiting for reply
# Got chunk
# Waiting for reply
# Shutting down server
# Done
t/02_large.t ................. ok
# Retrieving URL: http://localhost:16678/error/after_headers
# Waiting for reply
# Got chunk
# Waiting for reply
# Got chunk
# Waiting for reply
# Shutting down server
# Done
t/03_error_after_headers.t ... ok
# Retrieving URL: http://localhost:19437/error/notfound/foo
# Waiting for reply
# Shutting down server
# Done
t/04_error_404.t ............. ok
# Retrieving URL: http://doesnotexist.example
t/05_error_500_bogus_host.t .. ok
# Retrieving URL: http://localhost:30025/referer
# Waiting for reply
# Shutting down server
# Done
t/06_referer.t ............... ok
# Retrieving URL: http://localhost:31229/
# Shutting down server
# Done
t/07_proxy.t ................. ok
# Retrieving URL: http://localhost:39274/multiline_header
# Waiting for reply
# Shutting down server
# Done
t/08_multiline_header.t ...... ok
All tests successful.
Files=9, Tests=28, 33 wallclock secs ( 0.05 usr  0.06 sys +  2.13 cusr  1.04 csys =  3.28 CPU)
Result: PASS

------------------------------
PREREQUISITES
------------------------------

Prerequisite modules loaded:

requires:

    Module                     Need   Have    
    -------------------------- ------ --------
    AnyEvent::HTTP             2      2.13    
    Coro::Channel              0      6.07    
    HTTP::Response             0      6.03    
    LWP::Protocol              0      6.00    
    LWP::Simple                5.827  6.00    
    version                    0      0.9901  

build_requires:

    Module                     Need   Have    
    -------------------------- ------ --------
    AnyEvent                   0      7.01    
    Carp                       0      1.26    
    CGI                        0      3.60    
    File::Spec                 0      3.33    
    File::Temp                 0      0.22    
    FindBin                    0      1.50    
    Getopt::Long               0      2.38    
    HTTP::Daemon               0      6.01    
    LWP::Simple                0      6.00    
    Test::More                 0      0.98    
    URI                        0      1.60    
    URI::URL                   0      5.04    

configure_requires:

    Module                     Need   Have    
    -------------------------- ------ --------
    Module::Build              0.3614 0.4003  
    Software::License::CC0_1_0 0      0.103004


------------------------------
ENVIRONMENT AND OTHER CONTEXT
------------------------------

Environment variables:

    DBIC_NO_WARN_BAD_PERL = 1
    PATH = /usr/local/bin:/usr/X11R6/bin:/usr/X11/bin:/usr/perl5.8.0/bin:/usr/bin:/bin:/usr/local/sbin:/usr/sbin:/sbin:/usr/local/pilot/bin:/home/cpansand/bin/freebsd8.0:/home/cpansand/bin/sh:/home/cpansand/bin:/usr/X386/bin:/usr/games:/home/cpansand/devel:/usr/home/e/eserte/work/srezic-misc/scripts
    PERL5LIB = /usr/local/src/CPAN/build/LWP-Protocol-AnyEvent-http-v1.0.7-JSRb8_/blib/arch:/usr/local/src/CPAN/build/LWP-Protocol-AnyEvent-http-v1.0.7-JSRb8_/blib/lib:/usr/local/src/CPAN/build/Mail-SMTP-Honeypot-0.10-ZveNnl/blib/arch:/usr/local/src/CPAN/build/Mail-SMTP-Honeypot-0.10-ZveNnl/blib/lib:/usr/local/src/CPAN/build/Git-Hooks-0.019-VsBYJB/blib/arch:/usr/local/src/CPAN/build/Git-Hooks-0.019-VsBYJB/blib/lib:/usr/local/src/CPAN/build/Mojo-TFTPd-0.01-42LRUv/blib/arch:/usr/local/src/CPAN/build/Mojo-TFTPd-0.01-42LRUv/blib/lib:/usr/local/src/CPAN/build/Async-Queue-0.01-Xcs4RJ/blib/arch:/usr/local/src/CPAN/build/Async-Queue-0.01-Xcs4RJ/blib/lib:/usr/local/src/CPAN/build/strictures-1.004003-ZC003s/blib/arch:/usr/local/src/CPAN/build/strictures-1.004003-ZC003s/blib/lib:/usr/local/src/CPAN/build/CGI-Header-0.06-DRFDw_/blib/arch:/usr/local/src/CPAN/build/CGI-Header-0.06-DRFDw_/blib/lib
    PERL5OPT = 
    PERL5_CPANPLUS_IS_RUNNING = 61905
    PERL5_CPAN_IS_RUNNING = 61905
    PERL5_CPAN_IS_RUNNING_IN_RECURSION = 61879,61905
    PERL_BATCH = yes
    PERL_CPAN_REPORTER_CONFIG = /var/tmp/cpansmoker-1023/s7gte6rphH_config.ini
    PERL_EXTUTILS_AUTOINSTALL = --defaultdeps
    PERL_HTML_DISPLAY_CLASS = HTML::Display::Mozilla
    SHELL = /usr/local/bin/zsh
    TERM = screen
    TMPDIR = /var/tmp/cpansmoker-1023

Perl special variables (and OS-specific diagnostics, for MSWin32):

    $^X = /usr/perl5.12.3/bin/perl5.12.3
    $UID/$EUID = 1023 / 1023
    $GID = 1023 1023
    $EGID = 1023 1023

Perl module toolchain versions installed:

    Module              Have    
    ------------------- --------
    CPAN                1.9800  
    CPAN::Meta          2.120921
    Cwd                 3.33    
    ExtUtils::CBuilder  0.280205
    ExtUtils::Command   1.17    
    ExtUtils::Install   1.55    
    ExtUtils::MakeMaker 6.62    
    ExtUtils::Manifest  1.60    
    ExtUtils::ParseXS   3.15    
    File::Spec          3.33    
    JSON                2.53    
    JSON::PP            2.27200 
    Module::Build       0.4003  
    Module::Signature   0.68    
    Parse::CPAN::Meta   1.4403  
    Test::Harness       3.23    
    Test::More          0.98    
    YAML                0.84    
    YAML::Syck          1.20    
    version             0.9901  


--

Summary of my perl5 (revision 5 version 12 subversion 3) configuration:
   
  Platform:
    osname=freebsd, osvers=8.0-release, archname=i386-freebsd
    uname='freebsd biokovo.herceg.de 8.0-release freebsd 8.0-release #0: sat nov 21 15:48:17 utc 2009 root@almeida.cse.buffalo.edu:usrobjusrsrcsysgeneric i386 '
    config_args='-Dprefix=/usr/perl5.12.3 -Dusemymalloc=n -D cc=ccache cc -Dgccansipedantic -Duse64bit -de -D hintfile=myfreebsd'
    hint=recommended, useposix=true, d_sigaction=define
    useithreads=undef, usemultiplicity=undef
    useperlio=define, d_sfio=undef, uselargefiles=define, usesocks=undef
    use64bitint=undef, use64bitall=undef, uselongdouble=undef
    usemymalloc=n, bincompat5005=undef
  Compiler:
    cc='ccache cc', ccflags ='-DHAS_FPSETMASK -DHAS_FLOATINGPOINT_H -fno-strict-aliasing -pipe -fstack-protector -I/usr/local/include',
    optimize='-O2 -mtune=athlon64 -pipe',
    cppflags='-DHAS_FPSETMASK -DHAS_FLOATINGPOINT_H -fno-strict-aliasing -pipe -fstack-protector -I/usr/local/include'
    ccversion='', gccversion='4.2.1 20070719  [FreeBSD]', gccosandvers=''
    intsize=4, longsize=4, ptrsize=4, doublesize=8, byteorder=1234
    d_longlong=define, longlongsize=8, d_longdbl=define, longdblsize=12
    ivtype='long', ivsize=4, nvtype='double', nvsize=8, Off_t='off_t', lseeksize=8
    alignbytes=4, prototype=define
  Linker and Libraries:
    ld='ccache cc', ldflags ='-Wl,-E  -fstack-protector -L/usr/local/lib'
    libpth=/usr/lib /usr/local/lib
    libs=-lgdbm -lm -lcrypt -lutil -lc
    perllibs=-lm -lcrypt -lutil -lc
    libc=, so=so, useshrplib=false, libperl=libperl.a
    gnulibc_version=''
  Dynamic Linking:
    dlsrc=dl_dlopen.xs, dlext=so, d_dlsymun=undef, ccdlflags=' '
    cccdlflags='-DPIC -fPIC', lddlflags='-shared  -L/usr/local/lib -fstack-protector'


Characteristics of this binary (from libperl): 
  Compile-time options: PERL_DONT_CREATE_GVSV PERL_MALLOC_WRAP PERL_USE_DEVEL
                        USE_LARGE_FILES USE_PERLIO USE_PERL_ATOF
  Built under freebsd
  Compiled at Jan 25 2011 22:50:03
  %ENV:
    PERL5LIB="/usr/local/src/CPAN/build/LWP-Protocol-AnyEvent-http-v1.0.7-JSRb8_/blib/arch:/usr/local/src/CPAN/build/LWP-Protocol-AnyEvent-http-v1.0.7-JSRb8_/blib/lib:/usr/local/src/CPAN/build/Mail-SMTP-Honeypot-0.10-ZveNnl/blib/arch:/usr/local/src/CPAN/build/Mail-SMTP-Honeypot-0.10-ZveNnl/blib/lib:/usr/local/src/CPAN/build/Git-Hooks-0.019-VsBYJB/blib/arch:/usr/local/src/CPAN/build/Git-Hooks-0.019-VsBYJB/blib/lib:/usr/local/src/CPAN/build/Mojo-TFTPd-0.01-42LRUv/blib/arch:/usr/local/src/CPAN/build/Mojo-TFTPd-0.01-42LRUv/blib/lib:/usr/local/src/CPAN/build/Async-Queue-0.01-Xcs4RJ/blib/arch:/usr/local/src/CPAN/build/Async-Queue-0.01-Xcs4RJ/blib/lib:/usr/local/src/CPAN/build/strictures-1.004003-ZC003s/blib/arch:/usr/local/src/CPAN/build/strictures-1.004003-ZC003s/blib/lib:/usr/local/src/CPAN/build/CGI-Header-0.06-DRFDw_/blib/arch:/usr/local/src/CPAN/build/CGI-Header-0.06-DRFDw_/blib/lib"
    PERL5OPT=""
    PERL5_CPANPLUS_IS_RUNNING="61905"
    PERL5_CPAN_IS_RUNNING="61905"
    PERL5_CPAN_IS_RUNNING_IN_RECURSION="61879,61905"
    PERL_BATCH="yes"
    PERL_CPAN_REPORTER_CONFIG="/var/tmp/cpansmoker-1023/s7gte6rphH_config.ini"
    PERL_EXTUTILS_AUTOINSTALL="--defaultdeps"
    PERL_HTML_DISPLAY_CLASS="HTML::Display::Mozilla"
  @INC:
    /usr/local/src/CPAN/build/LWP-Protocol-AnyEvent-http-v1.0.7-JSRb8_/blib/arch
    /usr/local/src/CPAN/build/LWP-Protocol-AnyEvent-http-v1.0.7-JSRb8_/blib/lib
    /usr/local/src/CPAN/build/Mail-SMTP-Honeypot-0.10-ZveNnl/blib/arch
    /usr/local/src/CPAN/build/Mail-SMTP-Honeypot-0.10-ZveNnl/blib/lib
    /usr/local/src/CPAN/build/Git-Hooks-0.019-VsBYJB/blib/arch
    /usr/local/src/CPAN/build/Git-Hooks-0.019-VsBYJB/blib/lib
    /usr/local/src/CPAN/build/Mojo-TFTPd-0.01-42LRUv/blib/arch
    /usr/local/src/CPAN/build/Mojo-TFTPd-0.01-42LRUv/blib/lib
    /usr/local/src/CPAN/build/Async-Queue-0.01-Xcs4RJ/blib/arch
    /usr/local/src/CPAN/build/Async-Queue-0.01-Xcs4RJ/blib/lib
    /usr/local/src/CPAN/build/strictures-1.004003-ZC003s/blib/arch
    /usr/local/src/CPAN/build/strictures-1.004003-ZC003s/blib/lib
    /usr/local/src/CPAN/build/CGI-Header-0.06-DRFDw_/blib/arch
    /usr/local/src/CPAN/build/CGI-Header-0.06-DRFDw_/blib/lib
    /usr/perl5.12.3/lib/site_perl/5.12.3/i386-freebsd
    /usr/perl5.12.3/lib/site_perl/5.12.3
    /usr/perl5.12.3/lib/5.12.3/i386-freebsd
    /usr/perl5.12.3/lib/5.12.3
    .