Back
From: metabase:user:320bfe00-2aae-11df-837a-5e0a49663a4f
Subject: PASS Redis-CappedCollection-1.08 v5.25.1 GNU/Linux
Date: 2016-05-21T22:18:17Z
This distribution has been tested as part of the CPAN Testers
project, supporting the Perl programming language. See
http://wiki.cpantesters.org/ for more information or email
questions to cpan-testers-discuss@perl.org
--
Dear Sergey Gladkov,
This is a computer-generated report for Redis-CappedCollection-1.08
on perl 5.25.1, created by CPAN-Reporter-1.2017.
Thank you for uploading your work to CPAN. Congratulations!
All tests were successful.
Sections of this report:
* Tester comments
* Program output
* Prerequisites
* Environment and other context
------------------------------
TESTER COMMENTS
------------------------------
Additional comments from tester:
this report is from an automated smoke testing program
and was not reviewed by a human for accuracy
------------------------------
PROGRAM OUTPUT
------------------------------
Output from '/usr/bin/make test':
PERL_DL_NONLAZY=1 "/tmp/basesmoker-reloperl-dd9U/bin/perl" "-MExtUtils::Command::MM" "-MTest::Harness" "-e" "undef *Test::Harness::Switches; test_harness(0, 'blib/lib', 'blib/arch')" t/00_compile.t t/00_CappedCollection/00_compile.t t/00_CappedCollection/01_new.t t/00_CappedCollection/02_insert.t t/00_CappedCollection/03_update.t t/00_CappedCollection/04_receive.t t/00_CappedCollection/05_collection_info.t t/00_CappedCollection/06_pop_oldest.t t/00_CappedCollection/07_exists.t t/00_CappedCollection/08_lists.t t/00_CappedCollection/09_drop_collection.t t/00_CappedCollection/10_quit.t t/00_CappedCollection/11_max_datasize.t t/00_CappedCollection/12_last_errorcode.t t/00_CappedCollection/13_name.t t/00_CappedCollection/15_min_cleanup_bytes.t t/00_CappedCollection/17_min_cleanup_items.t t/00_CappedCollection/18_info.t t/00_CappedCollection/19_drop.t t/00_CappedCollection/20_cleaning.t t/00_CappedCollection/21_rollback.t t/00_CappedCollection/22_alarm.t t/00_CappedCollection/23_cleaning_bench.t t/00_CappedCollection/24_timeout.t t/00_CappedCollection/25_cleaning_correctness.t t/00_CappedCollection/26_script_variable_protection.t
t/00_CappedCollection/00_compile.t ..................... ok
t/00_CappedCollection/01_new.t ......................... ok
# insert:total_commands_processed average = 24.5727272727272727
# upsert:total_commands_processed average = 25.5727272727272727
t/00_CappedCollection/02_insert.t ...................... ok
t/00_CappedCollection/03_update.t ...................... ok
t/00_CappedCollection/04_receive.t ..................... ok
t/00_CappedCollection/05_collection_info.t ............. ok
t/00_CappedCollection/06_pop_oldest.t .................. ok
t/00_CappedCollection/07_exists.t ...................... ok
t/00_CappedCollection/08_lists.t ....................... ok
t/00_CappedCollection/09_drop_collection.t ............. ok
t/00_CappedCollection/10_quit.t ........................ ok
t/00_CappedCollection/11_max_datasize.t ................ ok
t/00_CappedCollection/12_last_errorcode.t .............. ok
t/00_CappedCollection/13_name.t ........................ ok
t/00_CappedCollection/15_min_cleanup_bytes.t ........... ok
t/00_CappedCollection/17_min_cleanup_items.t ........... ok
t/00_CappedCollection/18_info.t ........................ ok
t/00_CappedCollection/19_drop.t ........................ ok
# cleanings on update present
# cleanings on update present
# cleanings on update present
# cleanings on update present
# cleanings on update present
# cleanings on update present
t/00_CappedCollection/20_cleaning.t .................... ok
t/00_CappedCollection/21_rollback.t .................... ok
t/00_CappedCollection/22_alarm.t ....................... ok
t/00_CappedCollection/23_cleaning_bench.t .............. ok
t/00_CappedCollection/24_timeout.t ..................... ok
# min_cleanup_bytes = 10000, min_cleanup_items = 0
# min_cleanup_bytes = 0, min_cleanup_items = 10
# min_cleanup_bytes = 10000, min_cleanup_items = 10
# min_cleanup_bytes = 1000, min_cleanup_items = 10
# min_cleanup_bytes = 0, min_cleanup_items = 0
t/00_CappedCollection/25_cleaning_correctness.t ........ ok
t/00_CappedCollection/26_script_variable_protection.t .. ok
t/00_compile.t ......................................... ok
All tests successful.
Files=26, Tests=97809, 59 wallclock secs ( 4.23 usr 0.53 sys + 38.23 cusr 16.55 csys = 59.54 CPU)
Result: PASS
------------------------------
PREREQUISITES
------------------------------
Prerequisite modules loaded:
requires:
Module Need Have
------------------- ----- --------
Const::Fast 0.014 0.014
Digest::SHA1 2.13 2.13
Mouse 0 v2.4.5
Params::Util 1.07 1.07
perl 5.010 5.025001
Redis 1.976 1.982
Try::Tiny 0.18 0.24
build_requires:
Module Need Have
------------------- ----- --------
Data::UUID 1.217 1.221
ExtUtils::MakeMaker 0 7.16
JSON::XS 3.01 3.02
Net::EmptyPort 0 0
Sys::SigAction 0.21 0.21
Test::Exception 0.31 0.43
Test::NoWarnings 1.04 1.04
Test::RedisServer 0.04 0.20
configure_requires:
Module Need Have
------------------- ----- --------
ExtUtils::MakeMaker 0 7.16
------------------------------
ENVIRONMENT AND OTHER CONTEXT
------------------------------
Environment variables:
AUTOMATED_TESTING = 1
LANG = C
PATH = /usr/lib/ccache:/home/sand/bin:/usr/local/bin:/usr/lib/ccache:/usr/bin:/bin:/usr/games:/usr/local/perl/bin:/usr/X11/bin:/sbin:/usr/sbin
PERL5LIB = /tmp/loop_over_bdir-13251-f0Oe6z/FusionInventory-Agent-2.3.17-0/blib/arch:/tmp/loop_over_bdir-13251-f0Oe6z/FusionInventory-Agent-2.3.17-0/blib/lib
PERL5OPT =
PERL5_CPANPLUS_IS_RUNNING = 13763
PERL5_CPAN_IS_RUNNING = 13763
PERL_CANARY_STABILITY_NOPROMPT = 1
PERL_MM_USE_DEFAULT = 1
SHELL = /usr/bin/zsh
TERM = screen
Perl special variables (and OS-specific diagnostics, for MSWin32):
$^X = /tmp/basesmoker-reloperl-dd9U/bin/perl
$UID/$EUID = 1005 / 1005
$GID = 1005 1005
$EGID = 1005 1005
Perl module toolchain versions installed:
Module Have
------------------- --------
CPAN 2.13
CPAN::Meta 2.150005
Cwd 3.63
ExtUtils::CBuilder 0.280225
ExtUtils::Command 7.16
ExtUtils::Install 2.04
ExtUtils::MakeMaker 7.16
ExtUtils::Manifest 1.70
ExtUtils::ParseXS 3.31
File::Spec 3.63
JSON 2.90
JSON::PP 2.27300
Module::Build 0.4218
Module::Signature 0.79
Parse::CPAN::Meta 1.4417
Test::Harness 3.36
Test::More 1.302021
YAML 1.15
YAML::Syck 1.29
version 0.9916
--
Summary of my perl5 (revision 5 version 25 subversion 1) configuration:
Commit id: 5b145eb412326b9b57276229cfde0ef09e7ca2bc
Platform:
osname=linux, osvers=4.5.0-2-amd64, archname=x86_64-linux-thread-multi-ld
uname='linux k93x64sid 4.5.0-2-amd64 #1 smp debian 4.5.4-1 (2016-05-16) x86_64 gnulinux '
config_args='-Dprefix=/home/sand/src/perl/repoperls/installed-perls/host/k93x64sid/v5.25.1/a3f9 -Dmyhostname=k93x64sid -Dinstallusrbinperl=n -Uversiononly -Dusedevel -des -Ui_db -Dlibswanted=cl pthread socket inet nsl gdbm dbm malloc dl ld sun m crypt sec util c cposix posix ucb BSD gdbm_compat -Duseithreads -Duselongdouble -DDEBUGGING=-g'
hint=recommended, useposix=true, d_sigaction=define
useithreads=define, usemultiplicity=define
use64bitint=define, use64bitall=define, uselongdouble=define
usemymalloc=n, bincompat5005=undef
Compiler:
cc='cc', ccflags ='-D_REENTRANT -D_GNU_SOURCE -fwrapv -fno-strict-aliasing -pipe -fstack-protector-strong -I/usr/local/include -D_LARGEFILE_SOURCE -D_FILE_OFFSET_BITS=64 -D_FORTIFY_SOURCE=2',
optimize='-O2 -g',
cppflags='-D_REENTRANT -D_GNU_SOURCE -fwrapv -fno-strict-aliasing -pipe -fstack-protector-strong -I/usr/local/include'
ccversion='', gccversion='5.3.1 20160519', gccosandvers=''
intsize=4, longsize=8, ptrsize=8, doublesize=8, byteorder=12345678, doublekind=3
d_longlong=define, longlongsize=8, d_longdbl=define, longdblsize=16, longdblkind=3
ivtype='long', ivsize=8, nvtype='long double', nvsize=16, Off_t='off_t', lseeksize=8
alignbytes=16, prototype=define
Linker and Libraries:
ld='cc', ldflags =' -fstack-protector-strong -L/usr/local/lib'
libpth=/usr/local/lib /usr/lib/gcc/x86_64-linux-gnu/5/include-fixed /usr/include/x86_64-linux-gnu /usr/lib /lib/x86_64-linux-gnu /lib/../lib /usr/lib/x86_64-linux-gnu /usr/lib/../lib /lib
libs=-lpthread -lnsl -ldl -lm -lcrypt -lutil -lc
perllibs=-lpthread -lnsl -ldl -lm -lcrypt -lutil -lc
libc=libc-2.22.so, so=so, useshrplib=false, libperl=libperl.a
gnulibc_version='2.22'
Dynamic Linking:
dlsrc=dl_dlopen.xs, dlext=so, d_dlsymun=undef, ccdlflags='-Wl,-E'
cccdlflags='-fPIC', lddlflags='-shared -O2 -g -L/usr/local/lib -fstack-protector-strong'
Characteristics of this binary (from libperl):
Compile-time options: HAS_TIMES MULTIPLICITY PERLIO_LAYERS
PERL_COPY_ON_WRITE PERL_DONT_CREATE_GVSV
PERL_HASH_FUNC_ONE_AT_A_TIME_HARD
PERL_IMPLICIT_CONTEXT PERL_MALLOC_WRAP PERL_OP_PARENT
PERL_PRESERVE_IVUV PERL_USE_DEVEL USE_64_BIT_ALL
USE_64_BIT_INT USE_ITHREADS USE_LARGE_FILES
USE_LOCALE USE_LOCALE_COLLATE USE_LOCALE_CTYPE
USE_LOCALE_NUMERIC USE_LOCALE_TIME USE_LONG_DOUBLE
USE_PERLIO USE_PERL_ATOF USE_REENTRANT_API
Built under linux
Compiled at Jan 1 1970 00:00:00
%ENV:
PERL5LIB="/tmp/loop_over_bdir-13251-f0Oe6z/FusionInventory-Agent-2.3.17-0/blib/arch:/tmp/loop_over_bdir-13251-f0Oe6z/FusionInventory-Agent-2.3.17-0/blib/lib"
PERL5OPT=""
PERL5_CPANPLUS_IS_RUNNING="13763"
PERL5_CPAN_IS_RUNNING="13763"
PERL_CANARY_STABILITY_NOPROMPT="1"
PERL_MM_USE_DEFAULT="1"
@INC:
/tmp/loop_over_bdir-13251-f0Oe6z/FusionInventory-Agent-2.3.17-0/blib/arch
/tmp/loop_over_bdir-13251-f0Oe6z/FusionInventory-Agent-2.3.17-0/blib/lib
/home/sand/src/perl/repoperls/installed-perls/host/k93x64sid/v5.25.1/a3f9/lib/site_perl/5.25.1/x86_64-linux-thread-multi-ld
/home/sand/src/perl/repoperls/installed-perls/host/k93x64sid/v5.25.1/a3f9/lib/site_perl/5.25.1
/home/sand/src/perl/repoperls/installed-perls/host/k93x64sid/v5.25.1/a3f9/lib/5.25.1/x86_64-linux-thread-multi-ld
/home/sand/src/perl/repoperls/installed-perls/host/k93x64sid/v5.25.1/a3f9/lib/5.25.1
.