Map-Tube-Plugin-FuzzyFind vv0.81.1 Perl 5 v5.41.5 x86_64-linux-ld
- Status
- Pass
- From
- Slaven Rezić
- Dist
-
Map-Tube-Plugin-FuzzyFind vv0.81.1
- Platform
- Perl 5 v5.41.5 x86_64-linux-ld
- Date
- 2024-11-20 16:53:07
- ID
- eaf08204-a75f-11ef-a54c-0d1c6e8775ea
This distribution has been tested as part of the CPAN Testers
project, supporting the Perl programming language. See
http://wiki.cpantesters.org/ for more information or email
questions to cpan-testers-discuss@perl.org
--
Dear Gisbert W. Selke,
This is a computer-generated report for Map-Tube-Plugin-FuzzyFind-v0.81.1
on perl 5.41.5, created by CPAN-Reporter-1.2020.
Thank you for uploading your work to CPAN. Congratulations!
All tests were successful.
Sections of this report:
* Tester comments
* Program output
* Prerequisites
* Environment and other context
------------------------------
TESTER COMMENTS
------------------------------
Additional comments from tester:
none provided
------------------------------
PROGRAM OUTPUT
------------------------------
Output from '/usr/bin/make test':
PERL_DL_NONLAZY=1 "/opt/perl-5.41.5D/bin/perl5.41.5" "-MExtUtils::Command::MM" "-MTest::Harness" "-e" "undef *Test::Harness::Switches; test_harness(0, 'blib/lib', 'blib/arch')" t/*.t
Possible precedence problem between ! and numeric eq (==) at /opt/perl-5.41.5D/lib/site_perl/5.41.5/XML/Twig.pm line 2364.
# Testing Map::Tube::Plugin::FuzzyFind v0.81.1, Perl 5.041005, /opt/perl-5.41.5D/bin/perl5.41.5
t/00-load.t ................. ok
Possible precedence problem between ! and numeric eq (==) at /opt/perl-5.41.5D/lib/site_perl/5.41.5/XML/Twig.pm line 2364.
t/01-exact.t ................ ok
Possible precedence problem between ! and numeric eq (==) at /opt/perl-5.41.5D/lib/site_perl/5.41.5/XML/Twig.pm line 2364.
t/02-start.t ................ ok
Possible precedence problem between ! and numeric eq (==) at /opt/perl-5.41.5D/lib/site_perl/5.41.5/XML/Twig.pm line 2364.
t/03-in.t ................... ok
Possible precedence problem between ! and numeric eq (==) at /opt/perl-5.41.5D/lib/site_perl/5.41.5/XML/Twig.pm line 2364.
t/04-re.t ................... ok
Possible precedence problem between ! and numeric eq (==) at /opt/perl-5.41.5D/lib/site_perl/5.41.5/XML/Twig.pm line 2364.
t/05-soundex.t .............. ok
Possible precedence problem between ! and numeric eq (==) at /opt/perl-5.41.5D/lib/site_perl/5.41.5/XML/Twig.pm line 2364.
t/06-phonix.t ............... skipped: Text::Phonetic::Phonix required for this test
Possible precedence problem between ! and numeric eq (==) at /opt/perl-5.41.5D/lib/site_perl/5.41.5/XML/Twig.pm line 2364.
t/07-daitch-mokotoff.t ...... skipped: Text::Phonetic::DaitchMokotoff required for this test
Possible precedence problem between ! and numeric eq (==) at /opt/perl-5.41.5D/lib/site_perl/5.41.5/XML/Twig.pm line 2364.
t/08-koeln.t ................ skipped: Text::Phonetic::Phonix required for this test
Possible precedence problem between ! and numeric eq (==) at /opt/perl-5.41.5D/lib/site_perl/5.41.5/XML/Twig.pm line 2364.
t/09-metaphone.t ............ skipped: Text::Metaphone required for this test
Possible precedence problem between ! and numeric eq (==) at /opt/perl-5.41.5D/lib/site_perl/5.41.5/XML/Twig.pm line 2364.
t/10-doublemetaphone.t ...... skipped: Text::DoubleMetaphone required for this test
Possible precedence problem between ! and numeric eq (==) at /opt/perl-5.41.5D/lib/site_perl/5.41.5/XML/Twig.pm line 2364.
t/11-phonem.t ............... skipped: Text::Phonetic::Phonem required for this test
Possible precedence problem between ! and numeric eq (==) at /opt/perl-5.41.5D/lib/site_perl/5.41.5/XML/Twig.pm line 2364.
t/12-levenshtein.t .......... skipped: Text::Levenshtein::XS or Text::Levenshtein required for this test
Possible precedence problem between ! and numeric eq (==) at /opt/perl-5.41.5D/lib/site_perl/5.41.5/XML/Twig.pm line 2364.
t/13-levenshtein-damerau.t .. skipped: Text::Levenshtein::Damerau::XS or Text::Levenshtein::Damerau required for this test
Possible precedence problem between ! and numeric eq (==) at /opt/perl-5.41.5D/lib/site_perl/5.41.5/XML/Twig.pm line 2364.
t/14-jaro-winkler.t ......... skipped: Text::JaroWinkler required for this test
Possible precedence problem between ! and numeric eq (==) at /opt/perl-5.41.5D/lib/site_perl/5.41.5/XML/Twig.pm line 2364.
t/15-ngrams.t ............... skipped: String::Trigram required for this test
Possible precedence problem between ! and numeric eq (==) at /opt/perl-5.41.5D/lib/site_perl/5.41.5/XML/Twig.pm line 2364.
t/49-args.t ................. ok
t/50-manifest.t ............. skipped: for authors only -- define $ENV{AUTHOR_TESTING}
t/51-meta-json.t ............ skipped: for authors only -- define $ENV{AUTHOR_TESTING}
t/52-meta-yml.t ............. skipped: for authors only -- define $ENV{AUTHOR_TESTING}
t/53-version.t .............. skipped: for authors only -- define $ENV{AUTHOR_TESTING}
t/54-signature.t ............ skipped: for authors only -- define $ENV{AUTHOR_TESTING}
t/60-pod.t .................. skipped: for authors only -- define $ENV{AUTHOR_TESTING}
t/61-pod-coverage.t ......... skipped: for authors only -- define $ENV{AUTHOR_TESTING}
t/62-changes.t .............. skipped: for authors only -- define $ENV{AUTHOR_TESTING}
All tests successful.
Files=25, Tests=106, 4 wallclock secs ( 0.05 usr 0.02 sys + 3.37 cusr 0.35 csys = 3.79 CPU)
Result: PASS
------------------------------
PREREQUISITES
------------------------------
Prerequisite modules loaded:
requires:
Module Need Have
------------------- ----- --------
Map::Tube 3.77 3.77
Moo 0 2.005005
Moo::Role 0 2.005005
namespace::clean 0 0.27
perl 5.010 5.041005
Try::Tiny 0 0.32
build_requires:
Module Need Have
------------------- ----- --------
ExtUtils::MakeMaker 0 7.70
Map::Tube 3.77 3.77
Map::Tube::London 1.39 1.39
Test::More 0.82 1.302204
configure_requires:
Module Need Have
------------------- ----- --------
ExtUtils::MakeMaker 6.64 7.70
------------------------------
ENVIRONMENT AND OTHER CONTEXT
------------------------------
Environment variables:
LANG = en_US.UTF-8
PATH = /usr/local/bin:/usr/bin:/bin:/usr/local/sbin:/usr/sbin:/sbin:/home/cpansand/bin/linux-gnu:/home/cpansand/bin/sh:/home/cpansand/bin:/usr/games:/home/cpansand/devel:/home/eserte/src/srezic-misc/scripts
PERL5LIB = /home/cpansand/.local/share/.cpan/build/2024112001/Map-Tube-London-1.39-1/blib/arch:/home/cpansand/.local/share/.cpan/build/2024112001/Map-Tube-London-1.39-1/blib/lib
PERL5OPT =
PERL5_CPANPLUS_IS_RUNNING = 3252101
PERL5_CPAN_IS_RUNNING = 3252101
PERL5_CPAN_IS_RUNNING_IN_RECURSION = 3252040,3252101
PERLDOC = -MPod::Perldoc::ToTextOverstrike
PERL_BATCH = yes
PERL_CANARY_STABILITY_NOPROMPT = 1
PERL_CPAN_REPORTER_CONFIG = /var/tmp/cpansmoker-1023/2024112001/cpanreporter_000_config.ini
PERL_EXTUTILS_AUTOINSTALL = --defaultdeps
PERL_USE_UNSAFE_INC = 1
SHELL = /usr/bin/zsh
TERM = screen
TMPDIR = /var/tmp/cpansmoker-1023/2024112001
Perl special variables (and OS-specific diagnostics, for MSWin32):
$^X = /opt/perl-5.41.5D/bin/perl5.41.5
$UID/$EUID = 1023 / 1023
$GID = 1023 1023
$EGID = 1023 1023
Perl module toolchain versions installed:
Module Have
------------------- --------
CPAN 2.37
CPAN::Meta 2.150010
Cwd 3.92
ExtUtils::CBuilder 0.280240
ExtUtils::Command 7.70
ExtUtils::Install 2.22
ExtUtils::MakeMaker 7.70
ExtUtils::Manifest 1.75
ExtUtils::ParseXS 3.55
File::Spec 3.93
JSON 4.10
JSON::PP 4.16
Module::Build 0.4234
Module::Signature n/a
Parse::CPAN::Meta 2.150010
Test2 1.302204
Test::Harness 3.50
Test::More 1.302204
YAML 1.31
YAML::Syck 1.34
version 0.9933
--
Summary of my perl5 (revision 5 version 41 subversion 5) configuration:
Platform:
osname=linux
osvers=5.10.0-33-amd64
archname=x86_64-linux-ld
uname='linux cloud7.bbbike.org 5.10.0-33-amd64 #1 smp debian 5.10.226-1 (2024-10-03) x86_64 gnulinux '
config_args='-ds -e -Dprefix=/opt/perl-5.41.5D -Dusedevel -Dusemallocwrap=no -Duselongdouble -Dcf_email=srezic@cpan.org'
hint=recommended
useposix=true
d_sigaction=define
useithreads=undef
usemultiplicity=undef
use64bitint=define
use64bitall=define
uselongdouble=define
usemymalloc=n
default_inc_excludes_dot=define
Compiler:
cc='cc'
ccflags ='-fwrapv -fno-strict-aliasing -pipe -fstack-protector-strong -I/usr/local/include -D_LARGEFILE_SOURCE -D_FILE_OFFSET_BITS=64 -D_FORTIFY_SOURCE=2'
optimize='-O2'
cppflags='-fwrapv -fno-strict-aliasing -pipe -fstack-protector-strong -I/usr/local/include'
ccversion=''
gccversion='10.2.1 20210110'
gccosandvers=''
intsize=4
longsize=8
ptrsize=8
doublesize=8
byteorder=12345678
doublekind=3
d_longlong=define
longlongsize=8
d_longdbl=define
longdblsize=16
longdblkind=3
ivtype='long'
ivsize=8
nvtype='long double'
nvsize=16
Off_t='off_t'
lseeksize=8
alignbytes=16
prototype=define
Linker and Libraries:
ld='cc'
ldflags =' -fstack-protector-strong -L/usr/local/lib'
libpth=/usr/local/lib /usr/lib/x86_64-linux-gnu /usr/lib /usr/lib64
libs=-lpthread -lgdbm -ldb -ldl -lm -lcrypt -lutil -lc
perllibs=-lpthread -ldl -lm -lcrypt -lutil -lc
libc=libc-2.31.so
so=so
useshrplib=false
libperl=libperl.a
gnulibc_version='2.31'
Dynamic Linking:
dlsrc=dl_dlopen.xs
dlext=so
d_dlsymun=undef
ccdlflags='-Wl,-E'
cccdlflags='-fPIC'
lddlflags='-shared -O2 -L/usr/local/lib -fstack-protector-strong'
Characteristics of this binary (from libperl):
Compile-time options:
HAS_LONG_DOUBLE
HAS_STRTOLD
HAS_TIMES
PERLIO_LAYERS
PERL_COPY_ON_WRITE
PERL_DONT_CREATE_GVSV
PERL_HASH_FUNC_SIPHASH13
PERL_HASH_USE_SBOX32
PERL_OP_PARENT
PERL_PRESERVE_IVUV
PERL_USE_DEVEL
PERL_USE_SAFE_PUTENV
USE_64_BIT_ALL
USE_64_BIT_INT
USE_LARGE_FILES
USE_LOCALE
USE_LOCALE_COLLATE
USE_LOCALE_CTYPE
USE_LOCALE_NUMERIC
USE_LOCALE_TIME
USE_LONG_DOUBLE
USE_PERLIO
USE_PERL_ATOF
Built under linux
Compiled at Oct 29 2024 20:16:10
%ENV:
PERL5LIB="/home/cpansand/.local/share/.cpan/build/2024112001/Map-Tube-London-1.39-1/blib/arch:/home/cpansand/.local/share/.cpan/build/2024112001/Map-Tube-London-1.39-1/blib/lib"
PERL5OPT=""
PERL5_CPANPLUS_IS_RUNNING="3252101"
PERL5_CPAN_IS_RUNNING="3252101"
PERL5_CPAN_IS_RUNNING_IN_RECURSION="3252040,3252101"
PERLDOC="-MPod::Perldoc::ToTextOverstrike"
PERL_BATCH="yes"
PERL_CANARY_STABILITY_NOPROMPT="1"
PERL_CPAN_REPORTER_CONFIG="/var/tmp/cpansmoker-1023/2024112001/cpanreporter_000_config.ini"
PERL_EXTUTILS_AUTOINSTALL="--defaultdeps"
PERL_USE_UNSAFE_INC="1"
@INC:
/home/cpansand/.local/share/.cpan/build/2024112001/Map-Tube-London-1.39-1/blib/arch
/home/cpansand/.local/share/.cpan/build/2024112001/Map-Tube-London-1.39-1/blib/lib
/opt/perl-5.41.5D/lib/site_perl/5.41.5/x86_64-linux-ld
/opt/perl-5.41.5D/lib/site_perl/5.41.5
/opt/perl-5.41.5D/lib/5.41.5/x86_64-linux-ld
/opt/perl-5.41.5D/lib/5.41.5
.