Test-Portability-Files v0.10 Perl 5 v5.28.2 darwin-thread-multi-2level
- Status
- Pass
- From
- Gintautas Grigelionis
- Dist
-
Test-Portability-Files v0.10
- Platform
- Perl 5 v5.28.2 darwin-thread-multi-2level
- Date
- 2020-12-08 17:29:25
- ID
- eb0f39da-397a-11eb-8834-99c4f2bcc32e
This distribution has been tested as part of the CPAN Testers
project, supporting the Perl programming language. See
http://wiki.cpantesters.org/ for more information or email
questions to cpan-testers-discuss@perl.org
--
Dear Alexander Hartmaier,
This is a computer-generated report for Test-Portability-Files-0.10
on perl 5.28.2, created by CPAN-Reporter-1.2018.
Thank you for uploading your work to CPAN. Congratulations!
All tests were successful.
Sections of this report:
* Tester comments
* Program output
* Prerequisites
* Environment and other context
------------------------------
TESTER COMMENTS
------------------------------
Additional comments from tester:
none provided
------------------------------
PROGRAM OUTPUT
------------------------------
Output from '/usr/bin/make test':
PERL_DL_NONLAZY=1 "/usr/bin/perl" "-MExtUtils::Command::MM" "-MTest::Harness" "-e" "undef *Test::Harness::Switches; test_harness(0, 'blib/lib', 'blib/arch')" t/*.t
t/00-compile.t .............. ok
t/01basic.t ................. ok
t/02filenames.t ............. ok
t/author-critic.t ........... skipped: these tests are for testing by the author
t/author-eol.t .............. skipped: these tests are for testing by the author
t/author-minimum-version.t .. skipped: these tests are for testing by the author
t/author-mojibake.t ......... skipped: these tests are for testing by the author
t/author-no-tabs.t .......... skipped: these tests are for testing by the author
t/author-pod-coverage.t ..... skipped: these tests are for testing by the author
t/author-pod-linkcheck.t .... skipped: these tests are for testing by the author
t/author-pod-syntax.t ....... skipped: these tests are for testing by the author
t/author-portability.t ...... skipped: these tests are for testing by the author
t/author-synopsis.t ......... skipped: these tests are for testing by the author
t/author-test-version.t ..... skipped: these tests are for testing by the author
t/portfs.t .................. ok
t/release-cpan-changes.t .... skipped: these tests are for release candidate testing
t/release-dist-manifest.t ... skipped: these tests are for release candidate testing
t/release-distmeta.t ........ skipped: these tests are for release candidate testing
t/release-kwalitee.t ........ skipped: these tests are for release candidate testing
t/release-meta-json.t ....... skipped: these tests are for release candidate testing
t/release-unused-vars.t ..... skipped: these tests are for release candidate testing
All tests successful.
Files=21, Tests=23, 1 wallclock secs ( 0.07 usr 0.05 sys + 0.55 cusr 0.22 csys = 0.89 CPU)
Result: PASS
------------------------------
PREREQUISITES
------------------------------
Prerequisite modules loaded:
requires:
Module Need Have
------------------- ------ --------
File::Basename 0 2.85
File::Find 0 1.34
File::Spec 0 3.75
perl 5.008 5.028002
Test::Builder 0 1.302183
build_requires:
Module Need Have
------------------- ------ --------
ExtUtils::MakeMaker 0 7.56
File::Spec 0 3.75
File::Temp 0.2304 0.2311
IO::Handle 0 1.39
IPC::Open3 0 1.20
Test::More 0.98 1.302183
configure_requires:
Module Need Have
------------------- ------ --------
ExtUtils::MakeMaker 0 7.56
------------------------------
ENVIRONMENT AND OTHER CONTEXT
------------------------------
Environment variables:
LC_CTYPE = UTF-8
PATH = /usr/local/bin:/usr/bin:/bin:/usr/sbin:/sbin:/usr/local/MacGPG2/bin:/opt/X11/bin:/Library/Apple/usr/bin
PERL5LIB = /Users/giegri/.cpan/build/CPAN-2.28-0/blib/arch:/Users/giegri/.cpan/build/CPAN-2.28-0/blib/lib:/Users/giegri/.cpan/build/IO-Zlib-1.11-0/blib/arch:/Users/giegri/.cpan/build/IO-Zlib-1.11-0/blib/lib
PERL5OPT =
PERL5_CPANPLUS_IS_RUNNING = 60527
PERL5_CPAN_IS_RUNNING = 60527
PERL_USE_UNSAFE_INC = 1
SHELL = /bin/bash
TERM = xterm-256color
TMPDIR = /var/folders/c5/867l5h614bs44szg7g2t48fr0000gn/T/
Perl special variables (and OS-specific diagnostics, for MSWin32):
$^X = /usr/bin/perl
$UID/$EUID = 501 / 501
$GID = 20 20 401 12 61 79 80 81 98 402 33 100 204 250 395 398 399 400
$EGID = 20 20 401 12 61 79 80 81 98 402 33 100 204 250 395 398 399 400
Perl module toolchain versions installed:
Module Have
------------------- --------
CPAN 2.28
CPAN::Meta 2.150010
Cwd 3.75
ExtUtils::CBuilder 0.280235
ExtUtils::Command 7.56
ExtUtils::Install 2.14
ExtUtils::MakeMaker 7.56
ExtUtils::Manifest 1.70
ExtUtils::ParseXS 3.39
File::Spec 3.75
JSON 4.02
JSON::PP 2.97001
Module::Build 0.4231
Module::Signature 0.87
Parse::CPAN::Meta 2.150010
Test::Harness 3.42
Test::More 1.302183
YAML 1.30
YAML::Syck 1.32
version 0.9928
--
Summary of my perl5 (revision 5 version 28 subversion 2) configuration:
Platform:
osname=darwin
osvers=20.0
archname=darwin-thread-multi-2level
uname='darwin osx413.ta10.sd.apple.com 20.0 darwin kernel version 19.0.0: mon apr 27 10:16:52 pdt 2020; root:xnu-6153.11.26.100.4~1development_x86_64 x86_64 '
config_args='-ds -e -Dprefix=/usr -Dccflags=-g -pipe -Dldflags= -Dman3ext=3pm -Duseithreads -Duseshrplib -Dinc_version_list=none -Dcc=cc'
hint=recommended
useposix=true
d_sigaction=define
useithreads=define
usemultiplicity=define
use64bitint=define
use64bitall=define
uselongdouble=undef
usemymalloc=n
default_inc_excludes_dot=define
bincompat5005=undef
Compiler:
cc='cc'
ccflags =' -g -pipe -fno-strict-aliasing -fstack-protector-strong -DPERL_USE_SAFE_PUTENV'
optimize='-Os'
cppflags='-g -pipe -fno-strict-aliasing -fstack-protector-strong'
ccversion=''
gccversion='Apple LLVM 12.0.0 (clang-1200.0.30.4) [+internal-os, ptrauth-isa=sign+strip]'
gccosandvers=''
intsize=4
longsize=8
ptrsize=8
doublesize=8
byteorder=12345678
doublekind=3
d_longlong=define
longlongsize=8
d_longdbl=define
longdblsize=16
longdblkind=3
ivtype='long'
ivsize=8
nvtype='double'
nvsize=8
Off_t='off_t'
lseeksize=8
alignbytes=8
prototype=define
Linker and Libraries:
ld='cc'
ldflags =' -fstack-protector-strong'
libpth=/AppleInternal/BuildRoot/Applications/Xcode.app/Contents/Developer/Platforms/MacOSX.platform/Developer/SDKs/MacOSX11.0.Internal.sdk/usr/local/lib /AppleInternal/BuildRoot/Applications/Xcode.app/Contents/Developer/Toolchains/OSX11.0.xctoolchain/usr/lib/clang/12.0.0/lib /AppleInternal/BuildRoot/Applications/Xcode.app/Contents/Developer/Platforms/MacOSX.platform/Developer/SDKs/MacOSX11.0.Internal.sdk/usr/lib /AppleInternal/BuildRoot/Applications/Xcode.app/Contents/Developer/Toolchains/OSX11.0.xctoolchain/usr/lib /AppleInternal/BuildRoot/Applications/Xcode.app/Contents/Developer/Toolchains/XcodeDefault.xctoolchain/usr/lib /usr/lib /usr/local/lib
libs=
perllibs=
libc=
so=dylib
useshrplib=true
libperl=libperl.dylib
gnulibc_version=''
Dynamic Linking:
dlsrc=dl_dlopen.xs
dlext=bundle
d_dlsymun=undef
ccdlflags=' '
cccdlflags=' '
lddlflags=' -bundle -undefined dynamic_lookup -fstack-protector-strong'
Characteristics of this binary (from libperl):
Compile-time options:
HAS_TIMES
MULTIPLICITY
PERLIO_LAYERS
PERL_COPY_ON_WRITE
PERL_DONT_CREATE_GVSV
PERL_IMPLICIT_CONTEXT
PERL_MALLOC_WRAP
PERL_OP_PARENT
PERL_PRESERVE_IVUV
PERL_USE_SAFE_PUTENV
USE_64_BIT_ALL
USE_64_BIT_INT
USE_ITHREADS
USE_LARGE_FILES
USE_LOCALE
USE_LOCALE_COLLATE
USE_LOCALE_CTYPE
USE_LOCALE_NUMERIC
USE_LOCALE_TIME
USE_PERLIO
USE_PERL_ATOF
USE_REENTRANT_API
Locally applied patches:
/Library/Perl/Updates/<version> comes before system perl directories
installprivlib and installarchlib points to the Updates directory
Built under darwin
Compiled at Oct 29 2020 17:56:15
%ENV:
PERL5LIB="/Users/giegri/.cpan/build/CPAN-2.28-0/blib/arch:/Users/giegri/.cpan/build/CPAN-2.28-0/blib/lib:/Users/giegri/.cpan/build/IO-Zlib-1.11-0/blib/arch:/Users/giegri/.cpan/build/IO-Zlib-1.11-0/blib/lib"
PERL5OPT=""
PERL5_CPANPLUS_IS_RUNNING="60527"
PERL5_CPAN_IS_RUNNING="60527"
PERL_USE_UNSAFE_INC="1"
@INC:
/Users/giegri/.cpan/build/CPAN-2.28-0/blib/arch
/Users/giegri/.cpan/build/CPAN-2.28-0/blib/lib
/Users/giegri/.cpan/build/IO-Zlib-1.11-0/blib/arch
/Users/giegri/.cpan/build/IO-Zlib-1.11-0/blib/lib
/Library/Perl/5.28/darwin-thread-multi-2level
/Library/Perl/5.28
/Network/Library/Perl/5.28/darwin-thread-multi-2level
/Network/Library/Perl/5.28
/Library/Perl/Updates/5.28.2/darwin-thread-multi-2level
/Library/Perl/Updates/5.28.2
/System/Library/Perl/5.28/darwin-thread-multi-2level
/System/Library/Perl/5.28
/System/Library/Perl/Extras/5.28/darwin-thread-multi-2level
/System/Library/Perl/Extras/5.28
.