Report for Rose-DB-Object-0.815

Back
From: metabase:user:320bfe00-2aae-11df-837a-5e0a49663a4f
Subject: PASS Rose-DB-Object-0.815 v5.21.11 GNU/Linux
Date: 2015-03-31T07:16:58Z

This distribution has been tested as part of the CPAN Testers
project, supporting the Perl programming language.  See
http://wiki.cpantesters.org/ for more information or email
questions to cpan-testers-discuss@perl.org


--
Dear John Siracusa,

This is a computer-generated report for Rose-DB-Object-0.815
on perl 5.21.11, created by CPAN-Reporter-1.2011.

Thank you for uploading your work to CPAN.  Congratulations!
All tests were successful.

Sections of this report:

    * Tester comments
    * Program output
    * Prerequisites
    * Environment and other context

------------------------------
TESTER COMMENTS
------------------------------

Additional comments from tester:

this report is from an automated smoke testing program
and was not reviewed by a human for accuracy

------------------------------
PROGRAM OUTPUT
------------------------------

Output from '/usr/bin/make test':

PERL_DL_NONLAZY=1 "/home/sand/src/perl/repoperls/installed-perls/host/k83x386w/v5.21.10-46-gcb74824/37ba/bin/perl" "-MExtUtils::Command::MM" "-MTest::Harness" "-e" "undef *Test::Harness::Switches; test_harness(0, 'blib/lib', 'blib/arch')" t/*.t

##
## DBI             1.633
## DBD::mysql      4.031
## DBD::SQLite     1.46
## JSON            2.90
##
## WARNING: Almost all the tests in this module distribution need to connect
## to a database in order to run.  The tests need full privileges on this
## database: the ability to create and drop tables, insert, update, and delete
## rows, create schemas, sequences, functions, triggers, the works.
## 
## By default, the tests will try to connect to the database named "test"
## running on "localhost" using the default superuser username for each
## database type and an empty password.
## 
## If you have setup your database in a secure manner, these connection
## attempts will fail, and the tests will be skipped.  If you want to override
## these values, set the following environment variables before running tests.
## (The current values are shown in parentheses.)
## 
## PostgreSQL:
## 
##     RDBO_PG_DSN      (dbi:Pg:dbname=test;host=localhost)
##     RDBO_PG_USER     (postgres)
##     RDBO_PG_PASS     (<none>)
## 
## MySQL:
## 
##     RDBO_MYSQL_DSN   (dbi:mysql:database=test;host=localhost)
##     RDBO_MYSQL_USER  (root)
##     RDBO_MYSQL_PASS  (<none>)
##
## Oracle:
## 
##     RDBO_ORACLE_DSN  (dbi:Oracle:dbname=test)
##     RDBO_ORACLE_USER (<none>)
##     RDBO_ORACLE_PASS (<none>)
##
## Informix:
## 
##     RDBO_INFORMIX_DSN   (dbi:Informix:test@test)
##     RDBO_INFORMIX_USER  (<none>)
##     RDBO_INFORMIX_PASS  (<none>)
## 
## SQLite: To disable the SQLite tests, set this environment varible
##
##     RDBO_NO_SQLITE  (<undef>)
##
## Press return to continue (or wait 60 seconds)
t/00-warning.t ..................... ok
Unescaped left brace in regex is deprecated, passed through in regex; marked by <-- HERE in m/
                    (%{ <-- HERE \w+})
                / at /home/sand/src/perl/repoperls/installed-perls/host/k83x386w/v5.21.10-46-gcb74824/37ba/lib/site_perl/5.21.11/Convert/NLS_DATE_FORMAT.pm line 116.
t/as-tree.t ........................ ok
Unescaped left brace in regex is deprecated, passed through in regex; marked by <-- HERE in m/
                    (%{ <-- HERE \w+})
                / at /home/sand/src/perl/repoperls/installed-perls/host/k83x386w/v5.21.10-46-gcb74824/37ba/lib/site_perl/5.21.11/Convert/NLS_DATE_FORMAT.pm line 116.
t/auto-setup.t ..................... ok
Unescaped left brace in regex is deprecated, passed through in regex; marked by <-- HERE in m/
                    (%{ <-- HERE \w+})
                / at /home/sand/src/perl/repoperls/installed-perls/host/k83x386w/v5.21.10-46-gcb74824/37ba/lib/site_perl/5.21.11/Convert/NLS_DATE_FORMAT.pm line 116.
t/bind-param.t ..................... ok
Unescaped left brace in regex is deprecated, passed through in regex; marked by <-- HERE in m/
                    (%{ <-- HERE \w+})
                / at /home/sand/src/perl/repoperls/installed-perls/host/k83x386w/v5.21.10-46-gcb74824/37ba/lib/site_perl/5.21.11/Convert/NLS_DATE_FORMAT.pm line 116.
t/column-triggers.t ................ ok
Unescaped left brace in regex is deprecated, passed through in regex; marked by <-- HERE in m/
                    (%{ <-- HERE \w+})
                / at /home/sand/src/perl/repoperls/installed-perls/host/k83x386w/v5.21.10-46-gcb74824/37ba/lib/site_perl/5.21.11/Convert/NLS_DATE_FORMAT.pm line 116.
t/column-values.t .................. ok
Unescaped left brace in regex is deprecated, passed through in regex; marked by <-- HERE in m/
                    (%{ <-- HERE \w+})
                / at /home/sand/src/perl/repoperls/installed-perls/host/k83x386w/v5.21.10-46-gcb74824/37ba/lib/site_perl/5.21.11/Convert/NLS_DATE_FORMAT.pm line 116.
t/db-migration.t ................... ok
Unescaped left brace in regex is deprecated, passed through in regex; marked by <-- HERE in m/
                    (%{ <-- HERE \w+})
                / at /home/sand/src/perl/repoperls/installed-perls/host/k83x386w/v5.21.10-46-gcb74824/37ba/lib/site_perl/5.21.11/Convert/NLS_DATE_FORMAT.pm line 116.
t/db-object-auto.t ................. ok
Unescaped left brace in regex is deprecated, passed through in regex; marked by <-- HERE in m/
                    (%{ <-- HERE \w+})
                / at /home/sand/src/perl/repoperls/installed-perls/host/k83x386w/v5.21.10-46-gcb74824/37ba/lib/site_perl/5.21.11/Convert/NLS_DATE_FORMAT.pm line 116.
t/db-object-cached.t ............... ok
Unescaped left brace in regex is deprecated, passed through in regex; marked by <-- HERE in m/
                    (%{ <-- HERE \w+})
                / at /home/sand/src/perl/repoperls/installed-perls/host/k83x386w/v5.21.10-46-gcb74824/37ba/lib/site_perl/5.21.11/Convert/NLS_DATE_FORMAT.pm line 116.
t/db-object-changes-only-1.t ....... ok
Unescaped left brace in regex is deprecated, passed through in regex; marked by <-- HERE in m/
                    (%{ <-- HERE \w+})
                / at /home/sand/src/perl/repoperls/installed-perls/host/k83x386w/v5.21.10-46-gcb74824/37ba/lib/site_perl/5.21.11/Convert/NLS_DATE_FORMAT.pm line 116.
t/db-object-changes-only-2.t ....... ok
Unescaped left brace in regex is deprecated, passed through in regex; marked by <-- HERE in m/
                    (%{ <-- HERE \w+})
                / at /home/sand/src/perl/repoperls/installed-perls/host/k83x386w/v5.21.10-46-gcb74824/37ba/lib/site_perl/5.21.11/Convert/NLS_DATE_FORMAT.pm line 116.
t/db-object-convention.t ........... ok
Unescaped left brace in regex is deprecated, passed through in regex; marked by <-- HERE in m/
                    (%{ <-- HERE \w+})
                / at /home/sand/src/perl/repoperls/installed-perls/host/k83x386w/v5.21.10-46-gcb74824/37ba/lib/site_perl/5.21.11/Convert/NLS_DATE_FORMAT.pm line 116.
t/db-object-foreign-key-auto.t ..... ok
Unescaped left brace in regex is deprecated, passed through in regex; marked by <-- HERE in m/
                    (%{ <-- HERE \w+})
                / at /home/sand/src/perl/repoperls/installed-perls/host/k83x386w/v5.21.10-46-gcb74824/37ba/lib/site_perl/5.21.11/Convert/NLS_DATE_FORMAT.pm line 116.
t/db-object-foreign-key.t .......... ok
Unescaped left brace in regex is deprecated, passed through in regex; marked by <-- HERE in m/
                    (%{ <-- HERE \w+})
                / at /home/sand/src/perl/repoperls/installed-perls/host/k83x386w/v5.21.10-46-gcb74824/37ba/lib/site_perl/5.21.11/Convert/NLS_DATE_FORMAT.pm line 116.
t/db-object-helpers.t .............. ok
Unescaped left brace in regex is deprecated, passed through in regex; marked by <-- HERE in m/
                    (%{ <-- HERE \w+})
                / at /home/sand/src/perl/repoperls/installed-perls/host/k83x386w/v5.21.10-46-gcb74824/37ba/lib/site_perl/5.21.11/Convert/NLS_DATE_FORMAT.pm line 116.
t/db-object-loader-2.t ............. ok
Unescaped left brace in regex is deprecated, passed through in regex; marked by <-- HERE in m/
                    (%{ <-- HERE \w+})
                / at /home/sand/src/perl/repoperls/installed-perls/host/k83x386w/v5.21.10-46-gcb74824/37ba/lib/site_perl/5.21.11/Convert/NLS_DATE_FORMAT.pm line 116.
t/db-object-loader-3.t ............. ok
Unescaped left brace in regex is deprecated, passed through in regex; marked by <-- HERE in m/
                    (%{ <-- HERE \w+})
                / at /home/sand/src/perl/repoperls/installed-perls/host/k83x386w/v5.21.10-46-gcb74824/37ba/lib/site_perl/5.21.11/Convert/NLS_DATE_FORMAT.pm line 116.
t/db-object-loader-4.t ............. ok
Unescaped left brace in regex is deprecated, passed through in regex; marked by <-- HERE in m/
                    (%{ <-- HERE \w+})
                / at /home/sand/src/perl/repoperls/installed-perls/host/k83x386w/v5.21.10-46-gcb74824/37ba/lib/site_perl/5.21.11/Convert/NLS_DATE_FORMAT.pm line 116.
t/db-object-loader-5.t ............. ok
Unescaped left brace in regex is deprecated, passed through in regex; marked by <-- HERE in m/
                    (%{ <-- HERE \w+})
                / at /home/sand/src/perl/repoperls/installed-perls/host/k83x386w/v5.21.10-46-gcb74824/37ba/lib/site_perl/5.21.11/Convert/NLS_DATE_FORMAT.pm line 116.
t/db-object-loader-6.t ............. ok
Unescaped left brace in regex is deprecated, passed through in regex; marked by <-- HERE in m/
                    (%{ <-- HERE \w+})
                / at /home/sand/src/perl/repoperls/installed-perls/host/k83x386w/v5.21.10-46-gcb74824/37ba/lib/site_perl/5.21.11/Convert/NLS_DATE_FORMAT.pm line 116.
t/db-object-loader-7.t ............. ok
Unescaped left brace in regex is deprecated, passed through in regex; marked by <-- HERE in m/
                    (%{ <-- HERE \w+})
                / at /home/sand/src/perl/repoperls/installed-perls/host/k83x386w/v5.21.10-46-gcb74824/37ba/lib/site_perl/5.21.11/Convert/NLS_DATE_FORMAT.pm line 116.
t/db-object-loader-8.t ............. ok
Unescaped left brace in regex is deprecated, passed through in regex; marked by <-- HERE in m/
                    (%{ <-- HERE \w+})
                / at /home/sand/src/perl/repoperls/installed-perls/host/k83x386w/v5.21.10-46-gcb74824/37ba/lib/site_perl/5.21.11/Convert/NLS_DATE_FORMAT.pm line 116.
t/db-object-loader-9.t ............. ok
Unescaped left brace in regex is deprecated, passed through in regex; marked by <-- HERE in m/
                    (%{ <-- HERE \w+})
                / at /home/sand/src/perl/repoperls/installed-perls/host/k83x386w/v5.21.10-46-gcb74824/37ba/lib/site_perl/5.21.11/Convert/NLS_DATE_FORMAT.pm line 116.
t/db-object-loader.t ............... ok
Unescaped left brace in regex is deprecated, passed through in regex; marked by <-- HERE in m/
                    (%{ <-- HERE \w+})
                / at /home/sand/src/perl/repoperls/installed-perls/host/k83x386w/v5.21.10-46-gcb74824/37ba/lib/site_perl/5.21.11/Convert/NLS_DATE_FORMAT.pm line 116.
t/db-object-manager-bulk-ops.t ..... ok
Unescaped left brace in regex is deprecated, passed through in regex; marked by <-- HERE in m/
                    (%{ <-- HERE \w+})
                / at /home/sand/src/perl/repoperls/installed-perls/host/k83x386w/v5.21.10-46-gcb74824/37ba/lib/site_perl/5.21.11/Convert/NLS_DATE_FORMAT.pm line 116.
t/db-object-manager.t .............. ok
Unescaped left brace in regex is deprecated, passed through in regex; marked by <-- HERE in m/
                    (%{ <-- HERE \w+})
                / at /home/sand/src/perl/repoperls/installed-perls/host/k83x386w/v5.21.10-46-gcb74824/37ba/lib/site_perl/5.21.11/Convert/NLS_DATE_FORMAT.pm line 116.
t/db-object-mapper.t ............... ok
Unescaped left brace in regex is deprecated, passed through in regex; marked by <-- HERE in m/
                    (%{ <-- HERE \w+})
                / at /home/sand/src/perl/repoperls/installed-perls/host/k83x386w/v5.21.10-46-gcb74824/37ba/lib/site_perl/5.21.11/Convert/NLS_DATE_FORMAT.pm line 116.
t/db-object-metadata.t ............. ok
Unescaped left brace in regex is deprecated, passed through in regex; marked by <-- HERE in m/
                    (%{ <-- HERE \w+})
                / at /home/sand/src/perl/repoperls/installed-perls/host/k83x386w/v5.21.10-46-gcb74824/37ba/lib/site_perl/5.21.11/Convert/NLS_DATE_FORMAT.pm line 116.
t/db-object-relationship-auto-2.t .. ok
Unescaped left brace in regex is deprecated, passed through in regex; marked by <-- HERE in m/
                    (%{ <-- HERE \w+})
                / at /home/sand/src/perl/repoperls/installed-perls/host/k83x386w/v5.21.10-46-gcb74824/37ba/lib/site_perl/5.21.11/Convert/NLS_DATE_FORMAT.pm line 116.
t/db-object-relationship-auto.t .... ok
Unescaped left brace in regex is deprecated, passed through in regex; marked by <-- HERE in m/
                    (%{ <-- HERE \w+})
                / at /home/sand/src/perl/repoperls/installed-perls/host/k83x386w/v5.21.10-46-gcb74824/37ba/lib/site_perl/5.21.11/Convert/NLS_DATE_FORMAT.pm line 116.
t/db-object-relationship.t ......... ok
Unescaped left brace in regex is deprecated, passed through in regex; marked by <-- HERE in m/
                    (%{ <-- HERE \w+})
                / at /home/sand/src/perl/repoperls/installed-perls/host/k83x386w/v5.21.10-46-gcb74824/37ba/lib/site_perl/5.21.11/Convert/NLS_DATE_FORMAT.pm line 116.
t/db-object-std-cached.t ........... ok
Unescaped left brace in regex is deprecated, passed through in regex; marked by <-- HERE in m/
                    (%{ <-- HERE \w+})
                / at /home/sand/src/perl/repoperls/installed-perls/host/k83x386w/v5.21.10-46-gcb74824/37ba/lib/site_perl/5.21.11/Convert/NLS_DATE_FORMAT.pm line 116.
t/db-object-std.t .................. ok
Unescaped left brace in regex is deprecated, passed through in regex; marked by <-- HERE in m/
                    (%{ <-- HERE \w+})
                / at /home/sand/src/perl/repoperls/installed-perls/host/k83x386w/v5.21.10-46-gcb74824/37ba/lib/site_perl/5.21.11/Convert/NLS_DATE_FORMAT.pm line 116.
t/db-object.t ...................... ok
Unescaped left brace in regex is deprecated, passed through in regex; marked by <-- HERE in m/
                    (%{ <-- HERE \w+})
                / at /home/sand/src/perl/repoperls/installed-perls/host/k83x386w/v5.21.10-46-gcb74824/37ba/lib/site_perl/5.21.11/Convert/NLS_DATE_FORMAT.pm line 116.
t/deep-joins.t ..................... ok
Unescaped left brace in regex is deprecated, passed through in regex; marked by <-- HERE in m/
                    (%{ <-- HERE \w+})
                / at /home/sand/src/perl/repoperls/installed-perls/host/k83x386w/v5.21.10-46-gcb74824/37ba/lib/site_perl/5.21.11/Convert/NLS_DATE_FORMAT.pm line 116.
t/inheritance.t .................... ok
Unescaped left brace in regex is deprecated, passed through in regex; marked by <-- HERE in m/
                    (%{ <-- HERE \w+})
                / at /home/sand/src/perl/repoperls/installed-perls/host/k83x386w/v5.21.10-46-gcb74824/37ba/lib/site_perl/5.21.11/Convert/NLS_DATE_FORMAT.pm line 116.
t/lazy-columns.t ................... ok
Unescaped left brace in regex is deprecated, passed through in regex; marked by <-- HERE in m/
                    (%{ <-- HERE \w+})
                / at /home/sand/src/perl/repoperls/installed-perls/host/k83x386w/v5.21.10-46-gcb74824/37ba/lib/site_perl/5.21.11/Convert/NLS_DATE_FORMAT.pm line 116.
t/leaks.t .......................... ok
Unescaped left brace in regex is deprecated, passed through in regex; marked by <-- HERE in m/
                    (%{ <-- HERE \w+})
                / at /home/sand/src/perl/repoperls/installed-perls/host/k83x386w/v5.21.10-46-gcb74824/37ba/lib/site_perl/5.21.11/Convert/NLS_DATE_FORMAT.pm line 116.
Unescaped left brace in regex is deprecated, passed through in regex; marked by <-- HERE in m/
                    (%{ <-- HERE \w+})
                / at /home/sand/src/perl/repoperls/installed-perls/host/k83x386w/v5.21.10-46-gcb74824/37ba/lib/site_perl/5.21.11/Convert/NLS_DATE_FORMAT.pm line 116.
t/make-modules.t ................... ok
Unescaped left brace in regex is deprecated, passed through in regex; marked by <-- HERE in m/
                    (%{ <-- HERE \w+})
                / at /home/sand/src/perl/repoperls/installed-perls/host/k83x386w/v5.21.10-46-gcb74824/37ba/lib/site_perl/5.21.11/Convert/NLS_DATE_FORMAT.pm line 116.
t/makemethods-db.t ................. ok
Unescaped left brace in regex is deprecated, passed through in regex; marked by <-- HERE in m/
                    (%{ <-- HERE \w+})
                / at /home/sand/src/perl/repoperls/installed-perls/host/k83x386w/v5.21.10-46-gcb74824/37ba/lib/site_perl/5.21.11/Convert/NLS_DATE_FORMAT.pm line 116.
t/makemethods.t .................... ok
Unescaped left brace in regex is deprecated, passed through in regex; marked by <-- HERE in m/
                    (%{ <-- HERE \w+})
                / at /home/sand/src/perl/repoperls/installed-perls/host/k83x386w/v5.21.10-46-gcb74824/37ba/lib/site_perl/5.21.11/Convert/NLS_DATE_FORMAT.pm line 116.
t/multi-many-the-hard-way.t ........ ok
Unescaped left brace in regex is deprecated, passed through in regex; marked by <-- HERE in m/
                    (%{ <-- HERE \w+})
                / at /home/sand/src/perl/repoperls/installed-perls/host/k83x386w/v5.21.10-46-gcb74824/37ba/lib/site_perl/5.21.11/Convert/NLS_DATE_FORMAT.pm line 116.
t/multi-pk-sequences.t ............. ok
Unescaped left brace in regex is deprecated, passed through in regex; marked by <-- HERE in m/
                    (%{ <-- HERE \w+})
                / at /home/sand/src/perl/repoperls/installed-perls/host/k83x386w/v5.21.10-46-gcb74824/37ba/lib/site_perl/5.21.11/Convert/NLS_DATE_FORMAT.pm line 116.
t/nested-joins.t ................... ok
Unescaped left brace in regex is deprecated, passed through in regex; marked by <-- HERE in m/
                    (%{ <-- HERE \w+})
                / at /home/sand/src/perl/repoperls/installed-perls/host/k83x386w/v5.21.10-46-gcb74824/37ba/lib/site_perl/5.21.11/Convert/NLS_DATE_FORMAT.pm line 116.
t/one-to-many-reset.t .............. ok
Unescaped left brace in regex is deprecated, passed through in regex; marked by <-- HERE in m/
                    (%{ <-- HERE \w+})
                / at /home/sand/src/perl/repoperls/installed-perls/host/k83x386w/v5.21.10-46-gcb74824/37ba/lib/site_perl/5.21.11/Convert/NLS_DATE_FORMAT.pm line 116.
t/pk-fk-columns.t .................. ok
t/pod.t ............................ ok
Unescaped left brace in regex is deprecated, passed through in regex; marked by <-- HERE in m/
                    (%{ <-- HERE \w+})
                / at /home/sand/src/perl/repoperls/installed-perls/host/k83x386w/v5.21.10-46-gcb74824/37ba/lib/site_perl/5.21.11/Convert/NLS_DATE_FORMAT.pm line 116.
t/query-builder.t .................. ok
Unescaped left brace in regex is deprecated, passed through in regex; marked by <-- HERE in m/
                    (%{ <-- HERE \w+})
                / at /home/sand/src/perl/repoperls/installed-perls/host/k83x386w/v5.21.10-46-gcb74824/37ba/lib/site_perl/5.21.11/Convert/NLS_DATE_FORMAT.pm line 116.
t/rt-cpan-45836.t .................. ok
Unescaped left brace in regex is deprecated, passed through in regex; marked by <-- HERE in m/
                    (%{ <-- HERE \w+})
                / at /home/sand/src/perl/repoperls/installed-perls/host/k83x386w/v5.21.10-46-gcb74824/37ba/lib/site_perl/5.21.11/Convert/NLS_DATE_FORMAT.pm line 116.
t/save-cascade.t ................... ok
Unescaped left brace in regex is deprecated, passed through in regex; marked by <-- HERE in m/
                    (%{ <-- HERE \w+})
                / at /home/sand/src/perl/repoperls/installed-perls/host/k83x386w/v5.21.10-46-gcb74824/37ba/lib/site_perl/5.21.11/Convert/NLS_DATE_FORMAT.pm line 116.
t/schema-override.t ................ ok
Unescaped left brace in regex is deprecated, passed through in regex; marked by <-- HERE in m/
                    (%{ <-- HERE \w+})
                / at /home/sand/src/perl/repoperls/installed-perls/host/k83x386w/v5.21.10-46-gcb74824/37ba/lib/site_perl/5.21.11/Convert/NLS_DATE_FORMAT.pm line 116.
t/spot-check-01.t .................. ok
Unescaped left brace in regex is deprecated, passed through in regex; marked by <-- HERE in m/
                    (%{ <-- HERE \w+})
                / at /home/sand/src/perl/repoperls/installed-perls/host/k83x386w/v5.21.10-46-gcb74824/37ba/lib/site_perl/5.21.11/Convert/NLS_DATE_FORMAT.pm line 116.
t/spot-check-02.t .................. ok
t/spot-check-03.t .................. ok
Unescaped left brace in regex is deprecated, passed through in regex; marked by <-- HERE in m/
                    (%{ <-- HERE \w+})
                / at /home/sand/src/perl/repoperls/installed-perls/host/k83x386w/v5.21.10-46-gcb74824/37ba/lib/site_perl/5.21.11/Convert/NLS_DATE_FORMAT.pm line 116.
t/spot-check-04.t .................. ok
Unescaped left brace in regex is deprecated, passed through in regex; marked by <-- HERE in m/
                    (%{ <-- HERE \w+})
                / at /home/sand/src/perl/repoperls/installed-perls/host/k83x386w/v5.21.10-46-gcb74824/37ba/lib/site_perl/5.21.11/Convert/NLS_DATE_FORMAT.pm line 116.
t/spot-check-05.t .................. ok
Unescaped left brace in regex is deprecated, passed through in regex; marked by <-- HERE in m/
                    (%{ <-- HERE \w+})
                / at /home/sand/src/perl/repoperls/installed-perls/host/k83x386w/v5.21.10-46-gcb74824/37ba/lib/site_perl/5.21.11/Convert/NLS_DATE_FORMAT.pm line 116.
t/spot-check-06.t .................. ok
Unescaped left brace in regex is deprecated, passed through in regex; marked by <-- HERE in m/
                    (%{ <-- HERE \w+})
                / at /home/sand/src/perl/repoperls/installed-perls/host/k83x386w/v5.21.10-46-gcb74824/37ba/lib/site_perl/5.21.11/Convert/NLS_DATE_FORMAT.pm line 116.
t/spot-check-07.t .................. ok
Unescaped left brace in regex is deprecated, passed through in regex; marked by <-- HERE in m/
                    (%{ <-- HERE \w+})
                / at /home/sand/src/perl/repoperls/installed-perls/host/k83x386w/v5.21.10-46-gcb74824/37ba/lib/site_perl/5.21.11/Convert/NLS_DATE_FORMAT.pm line 116.
t/spot-check-08.t .................. ok
Unescaped left brace in regex is deprecated, passed through in regex; marked by <-- HERE in m/
                    (%{ <-- HERE \w+})
                / at /home/sand/src/perl/repoperls/installed-perls/host/k83x386w/v5.21.10-46-gcb74824/37ba/lib/site_perl/5.21.11/Convert/NLS_DATE_FORMAT.pm line 116.
t/spot-check-09.t .................. ok
Unescaped left brace in regex is deprecated, passed through in regex; marked by <-- HERE in m/
                    (%{ <-- HERE \w+})
                / at /home/sand/src/perl/repoperls/installed-perls/host/k83x386w/v5.21.10-46-gcb74824/37ba/lib/site_perl/5.21.11/Convert/NLS_DATE_FORMAT.pm line 116.
t/spot-check-10.t .................. ok
Unescaped left brace in regex is deprecated, passed through in regex; marked by <-- HERE in m/
                    (%{ <-- HERE \w+})
                / at /home/sand/src/perl/repoperls/installed-perls/host/k83x386w/v5.21.10-46-gcb74824/37ba/lib/site_perl/5.21.11/Convert/NLS_DATE_FORMAT.pm line 116.
t/spot-check-11.t .................. ok
Unescaped left brace in regex is deprecated, passed through in regex; marked by <-- HERE in m/
                    (%{ <-- HERE \w+})
                / at /home/sand/src/perl/repoperls/installed-perls/host/k83x386w/v5.21.10-46-gcb74824/37ba/lib/site_perl/5.21.11/Convert/NLS_DATE_FORMAT.pm line 116.
t/spot-check-12.t .................. ok
Unescaped left brace in regex is deprecated, passed through in regex; marked by <-- HERE in m/
                    (%{ <-- HERE \w+})
                / at /home/sand/src/perl/repoperls/installed-perls/host/k83x386w/v5.21.10-46-gcb74824/37ba/lib/site_perl/5.21.11/Convert/NLS_DATE_FORMAT.pm line 116.
t/spot-check-13.t .................. ok
Unescaped left brace in regex is deprecated, passed through in regex; marked by <-- HERE in m/
                    (%{ <-- HERE \w+})
                / at /home/sand/src/perl/repoperls/installed-perls/host/k83x386w/v5.21.10-46-gcb74824/37ba/lib/site_perl/5.21.11/Convert/NLS_DATE_FORMAT.pm line 116.
t/spot-check-14.t .................. ok
Unescaped left brace in regex is deprecated, passed through in regex; marked by <-- HERE in m/
                    (%{ <-- HERE \w+})
                / at /home/sand/src/perl/repoperls/installed-perls/host/k83x386w/v5.21.10-46-gcb74824/37ba/lib/site_perl/5.21.11/Convert/NLS_DATE_FORMAT.pm line 116.
t/undef-overrides-default.t ........ ok
Unescaped left brace in regex is deprecated, passed through in regex; marked by <-- HERE in m/
                    (%{ <-- HERE \w+})
                / at /home/sand/src/perl/repoperls/installed-perls/host/k83x386w/v5.21.10-46-gcb74824/37ba/lib/site_perl/5.21.11/Convert/NLS_DATE_FORMAT.pm line 116.
t/unique-key-prefs.t ............... ok
All tests successful.
Files=67, Tests=15335, 63 wallclock secs ( 1.30 usr  0.48 sys + 31.16 cusr  5.42 csys = 38.36 CPU)
Result: PASS

------------------------------
PREREQUISITES
------------------------------

Prerequisite modules loaded:

requires:

    Module               Need     Have    
    -------------------- -------- --------
    Bit::Vector          0        7.4     
    Clone                0.29     0.38    
    Cwd                  0        3.56    
    Data::Dumper         2.121    2.158   
    DateTime             0        1.18    
    DBI                  1.40     1.633   
    File::Path           0        2.09    
    File::Spec           0        3.56    
    List::MoreUtils      0        0.410   
    Math::BigInt         1.77     1.9997  
    perl                 5.006000 5.021011
    Rose::DateTime::Util 0.532    0.540   
    Rose::DB             0.763    0.777   
    Rose::Object         0.854    0.860   
    Scalar::Util         0        1.41    
    Test::More           0        1.001014
    Time::Clock          1.00     1.03    

build_requires:

    Module               Need     Have    
    -------------------- -------- --------
    ExtUtils::MakeMaker  0        7.04    

configure_requires:

    Module               Need     Have    
    -------------------- -------- --------
    ExtUtils::MakeMaker  0        7.04    


------------------------------
ENVIRONMENT AND OTHER CONTEXT
------------------------------

Environment variables:

    AUTOMATED_TESTING = 1
    LANG = C
    PATH = /home/sand/bin:/usr/local/bin:/usr/bin:/bin:/usr/bin/X11:/usr/games:/usr/local/perl/bin:/usr/X11/bin:/sbin:/usr/sbin
    PERL = /home/sand/src/perl/repoperls/installed-perls/host/k83x386w/v5.21.10-46-gcb74824/37ba/bin/perl
    PERL5LIB = 
    PERL5OPT = 
    PERL5_CPANPLUS_IS_RUNNING = 12636
    PERL5_CPAN_IS_RUNNING = 12636
    PERL_MM_USE_DEFAULT = 1
    SHELL = /usr/bin/zsh
    TERM = screen

Perl special variables (and OS-specific diagnostics, for MSWin32):

    $^X = /home/sand/src/perl/repoperls/installed-perls/host/k83x386w/v5.21.10-46-gcb74824/37ba/bin/perl
    $UID/$EUID = 1005 / 1005
    $GID = 1005 1005
    $EGID = 1005 1005

Perl module toolchain versions installed:

    Module              Have    
    ------------------- --------
    CPAN                2.10    
    CPAN::Meta          2.150001
    Cwd                 3.56    
    ExtUtils::CBuilder  0.280221
    ExtUtils::Command   1.20    
    ExtUtils::Install   2.04    
    ExtUtils::MakeMaker 7.04    
    ExtUtils::Manifest  1.70    
    ExtUtils::ParseXS   3.28    
    File::Spec          3.56    
    JSON                2.90    
    JSON::PP            2.27300 
    Module::Build       0.4211  
    Module::Signature   0.73    
    Parse::CPAN::Meta   1.4414  
    Test::Harness       3.35    
    Test::More          1.001014
    YAML                1.14    
    YAML::Syck          1.29    
    version             0.9909  


--

Summary of my perl5 (revision 5 version 21 subversion 11) configuration:
  Commit id: cb74824085db788b8cbf6dbde3c1f1f39d978811
  Platform:
    osname=linux, osvers=3.2.0-4-686-pae, archname=i686-linux-ld
    uname='linux k83x386w 3.2.0-4-686-pae #1 smp debian 3.2.65-1+deb7u2 i686 gnulinux '
    config_args='-Dprefix=/home/sand/src/perl/repoperls/installed-perls/host/k83x386w/v5.21.10-46-gcb74824/37ba -Dmyhostname=k83x386w -Dinstallusrbinperl=n -Uversiononly -Dusedevel -des -Ui_db -Uuseithreads -Duselongdouble -DDEBUGGING=-g'
    hint=recommended, useposix=true, d_sigaction=define
    useithreads=undef, usemultiplicity=undef
    use64bitint=undef, use64bitall=undef, uselongdouble=define
    usemymalloc=n, bincompat5005=undef
  Compiler:
    cc='cc', ccflags ='-fwrapv -fno-strict-aliasing -pipe -fstack-protector -I/usr/local/include -D_LARGEFILE_SOURCE -D_FILE_OFFSET_BITS=64 -D_FORTIFY_SOURCE=2',
    optimize='-O2 -g',
    cppflags='-fwrapv -fno-strict-aliasing -pipe -fstack-protector -I/usr/local/include'
    ccversion='', gccversion='4.7.2', gccosandvers=''
    intsize=4, longsize=4, ptrsize=4, doublesize=8, byteorder=1234, doublekind=3
    d_longlong=define, longlongsize=8, d_longdbl=define, longdblsize=12, longdblkind=3
    ivtype='long', ivsize=4, nvtype='long double', nvsize=12, Off_t='off_t', lseeksize=8
    alignbytes=4, prototype=define
  Linker and Libraries:
    ld='cc', ldflags =' -fstack-protector -L/usr/local/lib'
    libpth=/usr/local/lib /usr/lib/gcc/i486-linux-gnu/4.7/include-fixed /usr/include/i386-linux-gnu /usr/lib /lib/i386-linux-gnu /lib/../lib /usr/lib/i386-linux-gnu /usr/lib/../lib /lib
    libs=-lpthread -lnsl -ldb -ldl -lm -lcrypt -lutil -lc
    perllibs=-lpthread -lnsl -ldl -lm -lcrypt -lutil -lc
    libc=libc-2.13.so, so=so, useshrplib=false, libperl=libperl.a
    gnulibc_version='2.13'
  Dynamic Linking:
    dlsrc=dl_dlopen.xs, dlext=so, d_dlsymun=undef, ccdlflags='-Wl,-E'
    cccdlflags='-fPIC', lddlflags='-shared -O2 -g -L/usr/local/lib -fstack-protector'


Characteristics of this binary (from libperl): 
  Compile-time options: HAS_TIMES PERLIO_LAYERS PERL_DONT_CREATE_GVSV
                        PERL_HASH_FUNC_ONE_AT_A_TIME_HARD PERL_MALLOC_WRAP
                        PERL_NEW_COPY_ON_WRITE PERL_PRESERVE_IVUV
                        PERL_USE_DEVEL USE_LARGE_FILES USE_LOCALE
                        USE_LOCALE_COLLATE USE_LOCALE_CTYPE
                        USE_LOCALE_NUMERIC USE_LOCALE_TIME USE_LONG_DOUBLE
                        USE_PERLIO USE_PERL_ATOF
  Built under linux
  Compiled at Mar 30 2015 22:00:46
  %ENV:
    PERL="/home/sand/src/perl/repoperls/installed-perls/host/k83x386w/v5.21.10-46-gcb74824/37ba/bin/perl"
    PERL5LIB=""
    PERL5OPT=""
    PERL5_CPANPLUS_IS_RUNNING="12636"
    PERL5_CPAN_IS_RUNNING="12636"
    PERL_MM_USE_DEFAULT="1"
  @INC:
    /home/sand/src/perl/repoperls/installed-perls/host/k83x386w/v5.21.10-46-gcb74824/37ba/lib/site_perl/5.21.11/i686-linux-ld
    /home/sand/src/perl/repoperls/installed-perls/host/k83x386w/v5.21.10-46-gcb74824/37ba/lib/site_perl/5.21.11
    /home/sand/src/perl/repoperls/installed-perls/host/k83x386w/v5.21.10-46-gcb74824/37ba/lib/5.21.11/i686-linux-ld
    /home/sand/src/perl/repoperls/installed-perls/host/k83x386w/v5.21.10-46-gcb74824/37ba/lib/5.21.11
    .