App-Codeowners v0.46 Perl 5 v5.20.2 x86_64-linux-thread-multi
- Status
- Pass
- From
- David Cantrell (DCANTRELL)
- Dist
-
App-Codeowners v0.46
- Platform
- Perl 5 v5.20.2 x86_64-linux-thread-multi
- Date
- 2019-11-18 22:01:05
- ID
- eb1eba10-0a4e-11ea-829c-703a052d0de1
This distribution has been tested as part of the CPAN Testers
project, supporting the Perl programming language. See
http://wiki.cpantesters.org/ for more information or email
questions to cpan-testers-discuss@perl.org
--
Dear Charles McGarvey,
This is a computer-generated report for App-Codeowners-0.46
on perl 5.20.2, created by CPAN-Reporter-1.2018.
Thank you for uploading your work to CPAN. Congratulations!
All tests were successful.
Sections of this report:
* Tester comments
* Program output
* Prerequisites
* Environment and other context
------------------------------
TESTER COMMENTS
------------------------------
Additional comments from tester:
this report is from an automated smoke testing program
and was not reviewed by a human for accuracy
------------------------------
PROGRAM OUTPUT
------------------------------
Output from '/usr/bin/make test':
PERL_DL_NONLAZY=1 "/home/david/cpantesting/perl-5.20.2/bin/perl" "-MExtUtils::Command::MM" "-MTest::Harness" "-e" "undef *Test::Harness::Switches; test_harness(0, 'blib/lib', 'blib/arch')" t/*.t
t/00-compile.t ........... ok
#
# Versions for all modules listed in MYMETA.json (including optional ones):
#
# === Configure Requires ===
#
# Module Want Have
# ------------------- ---- -------
# ExtUtils::MakeMaker any 7.39_03
#
# === Build Requires ===
#
# Module Want Have
# ------------------- ---- -------
# ExtUtils::MakeMaker any 7.39_03
#
# === Test Requires ===
#
# Module Want Have
# ------------------- ---- --------
# Capture::Tiny any 0.48
# ExtUtils::MakeMaker any 7.39_03
# File::Spec any 3.48_01
# File::pushd any 1.016
# FindBin any 1.51
# IO::Handle any 1.35
# IPC::Open3 any 1.16
# Test::Exit any 0.11
# Test::More any 1.302162
#
# === Test Recommends ===
#
# Module Want Have
# ---------- -------- --------
# CPAN::Meta 2.120900 2.143240
#
# === Runtime Requires ===
#
# Module Want Have
# ----------------- ----- --------
# Carp any 1.3301
# Color::ANSI::Util 0.03 0.163
# Encode any 2.60
# Exporter any 5.71
# Getopt::Long 2.39 2.42
# IPC::Open2 any 1.04
# Module::Load any 0.32
# Path::Tiny 0.089 0.108
# Scalar::Util any 1.38
# Test::Builder any 1.302162
# Text::Gitignore any 0.02
# parent any 0.228
# strict any 1.08
# utf8 any 1.13_01
# warnings any 1.23
#
# === Runtime Recommends ===
#
# Module Want Have
# ---------------------- ---- -------
# Pod::Usage any 1.63
# Term::Detect::Software any missing
# Unicode::GCString any missing
#
# === Runtime Suggests ===
#
# Module Want Have
# ---------------- ---- --------
# JSON::MaybeXS any 1.004000
# Text::CSV any missing
# Text::Table::Any any missing
# YAML any missing
#
t/00-report-prereqs.t .... ok
t/app-codeowners-util.t .. ok
t/app-codeowners.t ....... ok
t/file-codeowners.t ...... ok
All tests successful.
Files=5, Tests=27, 10 wallclock secs ( 0.04 usr 0.00 sys + 1.02 cusr 0.14 csys = 1.20 CPU)
Result: PASS
------------------------------
PREREQUISITES
------------------------------
Prerequisite modules loaded:
requires:
Module Need Have
------------------- -------- --------
Carp 0 1.3301
Color::ANSI::Util 0.03 0.163
Encode 0 2.60
Exporter 0 5.71
Getopt::Long 2.39 2.42
IPC::Open2 0 1.04
Module::Load 0 0.32
parent 0 0.228
Path::Tiny 0.089 0.108
perl 5.010001 5.020002
Scalar::Util 0 1.38
strict 0 1.08
Test::Builder 0 1.302162
Text::Gitignore 0 0.02
utf8 0 1.13_01
warnings 0 1.23
build_requires:
Module Need Have
------------------- -------- --------
Capture::Tiny 0 0.48
ExtUtils::MakeMaker 0 7.39_03
File::pushd 0 1.016
File::Spec 0 3.48_01
FindBin 0 1.51
IO::Handle 0 1.35
IPC::Open3 0 1.16
Test::Exit 0 0.11
Test::More 0 1.302162
configure_requires:
Module Need Have
------------------- -------- --------
ExtUtils::MakeMaker 0 7.39_03
------------------------------
ENVIRONMENT AND OTHER CONTEXT
------------------------------
Environment variables:
AUTOMATED_TESTING = 1
LANG = en_US.UTF-8
NONINTERACTIVE_TESTING = 1
PATH = /usr/local/bin:/usr/bin:/bin:/usr/local/games:/usr/games
PERL = 5.20.2
PERL5LIB =
PERL5OPT =
PERL5_CPANPLUS_IS_RUNNING = 14005
PERL5_CPAN_IS_RUNNING = 14005
PERLVER = 5.20.2
PERL_INLINE_DIRECTORY = /home/david/.Inline-5.20.2
PERL_MM_USE_DEFAULT = 1
PERL_USE_UNSAFE_INC = 0
SHELL = /bin/bash
TERM = screen
Perl special variables (and OS-specific diagnostics, for MSWin32):
$^X = /home/david/cpantesting/perl-5.20.2/bin/perl
$UID/$EUID = 1000 / 1000
$GID = 1000 27 1000
$EGID = 1000 27 1000
Perl module toolchain versions installed:
Module Have
------------------- --------
CPAN 2.05
CPAN::Meta 2.143240
Cwd 3.48_01
ExtUtils::CBuilder 0.280217
ExtUtils::Command 7.39_03
ExtUtils::Install 2.06
ExtUtils::MakeMaker 7.39_03
ExtUtils::Manifest 1.70
ExtUtils::ParseXS 3.24
File::Spec 3.48_01
JSON n/a
JSON::PP 4.02
Module::Build 0.4205
Module::Signature n/a
Parse::CPAN::Meta 1.4414
Test::Harness 3.30
Test::More 1.302162
YAML n/a
YAML::Syck n/a
version 0.9909
--
Summary of my perl5 (revision 5 version 20 subversion 2) configuration:
Platform:
osname=linux, osvers=4.9.0-8-amd64, archname=x86_64-linux-thread-multi
uname='linux pigsty 4.9.0-8-amd64 #1 smp debian 4.9.144-3 (2019-02-02) x86_64 gnulinux '
config_args='-de -Duse64bitall -Dusethreads -Dprefix=/home/david/cpantesting/perl-5.20.2'
hint=previous, useposix=true, d_sigaction=define
useithreads=define, usemultiplicity=define
use64bitint=define, use64bitall=define, uselongdouble=undef
usemymalloc=n, bincompat5005=undef
Compiler:
cc='cc', ccflags ='-D_REENTRANT -D_GNU_SOURCE -fwrapv -fno-strict-aliasing -pipe -fstack-protector -I/usr/local/include -D_LARGEFILE_SOURCE -D_FILE_OFFSET_BITS=64',
optimize='-O2',
cppflags='-D_REENTRANT -D_GNU_SOURCE -fwrapv -fno-strict-aliasing -pipe -fstack-protector -I/usr/local/include -D_REENTRANT -D_GNU_SOURCE -fwrapv -fno-strict-aliasing -pipe -fstack-protector -I/usr/local/include -D_LARGEFILE_SOURCE -D_FILE_OFFSET_BITS=64'
ccversion='', gccversion='6.3.0 20170516', gccosandvers=''
intsize=4, longsize=8, ptrsize=8, doublesize=8, byteorder=12345678
d_longlong=define, longlongsize=8, d_longdbl=define, longdblsize=16
ivtype='long', ivsize=8, nvtype='double', nvsize=8, Off_t='off_t', lseeksize=8
alignbytes=8, prototype=define
Linker and Libraries:
ld='cc', ldflags =' -fstack-protector -L/usr/local/lib'
libpth=/usr/local/lib /usr/lib/gcc/x86_64-linux-gnu/6/include-fixed /usr/include/x86_64-linux-gnu /usr/lib /lib/x86_64-linux-gnu /lib/../lib /usr/lib/x86_64-linux-gnu /usr/lib/../lib /lib /usr/local/lib /usr/lib/gcc/x86_64-linux-gnu/6/include-fixed /usr/include/x86_64-linux-gnu /usr/lib
libs=-lnsl -ldb -ldl -lm -lcrypt -lutil -lpthread -lc
perllibs=-lnsl -ldl -lm -lcrypt -lutil -lpthread -lc
libc=libc-2.24.so, so=so, useshrplib=false, libperl=libperl.a
gnulibc_version='2.24'
Dynamic Linking:
dlsrc=dl_dlopen.xs, dlext=so, d_dlsymun=undef, ccdlflags='-Wl,-E'
cccdlflags='-fPIC', lddlflags='-shared -O2 -L/usr/local/lib -fstack-protector'
Characteristics of this binary (from libperl):
Compile-time options: HAS_TIMES MULTIPLICITY PERLIO_LAYERS
PERL_DONT_CREATE_GVSV
PERL_HASH_FUNC_ONE_AT_A_TIME_HARD
PERL_IMPLICIT_CONTEXT PERL_MALLOC_WRAP
PERL_NEW_COPY_ON_WRITE PERL_PRESERVE_IVUV
USE_64_BIT_ALL USE_64_BIT_INT USE_ITHREADS
USE_LARGE_FILES USE_LOCALE USE_LOCALE_COLLATE
USE_LOCALE_CTYPE USE_LOCALE_NUMERIC USE_PERLIO
USE_PERL_ATOF USE_REENTRANT_API
Locally applied patches:
Devel::PatchPerl 1.56
Built under linux
Compiled at Apr 25 2019 17:17:34
%ENV:
PERL="5.20.2"
PERL5LIB=""
PERL5OPT=""
PERL5_CPANPLUS_IS_RUNNING="14005"
PERL5_CPAN_IS_RUNNING="14005"
PERLVER="5.20.2"
PERL_INLINE_DIRECTORY="/home/david/.Inline-5.20.2"
PERL_MM_USE_DEFAULT="1"
PERL_USE_UNSAFE_INC="0"
@INC:
/home/david/cpantesting/perl-5.20.2/lib/site_perl/5.20.2/x86_64-linux-thread-multi
/home/david/cpantesting/perl-5.20.2/lib/site_perl/5.20.2
/home/david/cpantesting/perl-5.20.2/lib/5.20.2/x86_64-linux-thread-multi
/home/david/cpantesting/perl-5.20.2/lib/5.20.2
.