IPC-Run v0.96 Perl 5 v5.24.0 armv7l-linux-thread-multi

Status
Pass
From
Nigel Horne
Dist
IPC-Run v0.96
Platform
Perl 5 v5.24.0 armv7l-linux-thread-multi
Date
2018-01-31 03:00:39
ID
eb3b4be8-0632-11e8-af2b-acaf1d79aee4
This distribution has been tested as part of the CPAN Testers
project, supporting the Perl programming language.  See
http://wiki.cpantesters.org/ for more information or email
questions to cpan-testers-discuss@perl.org


--
Dear Todd Rinaldo,

This is a computer-generated report for IPC-Run-0.96
on perl 5.24.0, created by CPAN-Reporter-1.2018.

Thank you for uploading your work to CPAN.  Congratulations!
All tests were successful.

Sections of this report:

    * Tester comments
    * Program output
    * Prerequisites
    * Environment and other context

------------------------------
TESTER COMMENTS
------------------------------

Additional comments from tester:

this report is from an automated smoke testing program
and was not reviewed by a human for accuracy

------------------------------
PROGRAM OUTPUT
------------------------------

Output from '/usr/bin/make test':

PERL_DL_NONLAZY=1 "/home/njh/perl5/perlbrew/perls/perl-5.24.0/bin/perl5.24.0" "-MExtUtils::Command::MM" "-MTest::Harness" "-e" "undef *Test::Harness::Switches; test_harness(0, 'blib/lib', 'blib/arch')" t/*.t
t/97_meta.t .................. skipped: Test::CPAN::Meta 0.12 not available for testing
t/99_perl_minimum_version.t .. skipped: Perl::MinimumVersion 1.20 not available for testing
t/adopt.t .................... skipped: adopt not implemented yet
t/98_pod_coverage.t .......... ok
t/bogus.t .................... ok
t/98_pod.t ................... ok
t/binmode.t .................. ok
t/filter.t ................... ok
t/io.t ....................... ok
t/harness.t .................. ok
t/parallel.t ................. ok
# IO::Tty 1.12, IO::Pty 1.12
t/pump.t ..................... ok
t/pty.t ...................... ok
t/signal.t ................... ok
t/kill_kill.t ................ ok
Constant subroutine IPPROTO_TCP redefined at /home/njh/perl5/perlbrew/perls/perl-5.24.0/lib/5.24.0/armv7l-linux-thread-multi/Socket.pm line -1.
t/win32_compile.t ............ ok
t/run.t ...................... ok
t/windows_search_path.t ...... ok
t/timer.t .................... ok
t/timeout.t .................. ok
All tests successful.
Files=20, Tests=707, 11 wallclock secs ( 1.08 usr  0.06 sys + 16.75 cusr  2.70 csys = 20.59 CPU)
Result: PASS

------------------------------
PREREQUISITES
------------------------------

Prerequisite modules loaded:

requires:

    Module              Need Have    
    ------------------- ---- --------
    IO::Pty             1.08 1.12    
    Test::More          0.47 1.302073

build_requires:

    Module              Need Have    
    ------------------- ---- --------
    ExtUtils::MakeMaker 0    7.30    

configure_requires:

    Module              Need Have    
    ------------------- ---- --------
    ExtUtils::MakeMaker 0    7.30    


------------------------------
ENVIRONMENT AND OTHER CONTEXT
------------------------------

Environment variables:

    AUTOMATED_TESTING = 1
    HARNESS_OPTIONS = j4
    LANG = en_GB.UTF-8
    PATH = /home/njh/perl5/perlbrew/bin:/home/njh/perl5/perlbrew/perls/perl-5.24.0/bin:src/njh/smoker/bin:/usr/bin:/bin
    PERL5LIB = /home/njh/.cpan/build/Config-Entities-1.07-0/blib/arch:/home/njh/.cpan/build/Config-Entities-1.07-0/blib/lib:/home/njh/.cpan/build/App-Cmd-0.331-2/blib/arch:/home/njh/.cpan/build/App-Cmd-0.331-2/blib/lib:/home/njh/.cpan/build/String-RewritePrefix-0.007-0/blib/arch:/home/njh/.cpan/build/String-RewritePrefix-0.007-0/blib/lib:/home/njh/.cpan/build/IO-TieCombine-1.005-2/blib/arch:/home/njh/.cpan/build/IO-TieCombine-1.005-2/blib/lib:/home/njh/.cpan/build/Getopt-Long-Descriptive-0.101-2/blib/arch:/home/njh/.cpan/build/Getopt-Long-Descriptive-0.101-2/blib/lib:/home/njh/.cpan/build/DBD-CSV-0.49-0/blib/arch:/home/njh/.cpan/build/DBD-CSV-0.49-0/blib/lib:/home/njh/.cpan/build/Text-CSV_XS-1.34-0/blib/arch:/home/njh/.cpan/build/Text-CSV_XS-1.34-0/blib/lib:/home/njh/.cpan/build/SQL-Statement-1.412-0/blib/arch:/home/njh/.cpan/build/SQL-Statement-1.412-0/blib/lib:/home/njh/.cpan/build/Math-Base-Convert-0.11-0/blib/arch:/home/njh/.cpan/build/Math-Base-Convert-0.11-0/blib/lib:/home/njh/.cpan/build/Clone-0.39-0/blib/arch:/home/njh/.cpan/build/Clone-0.39-0/blib/lib
    PERL5OPT = 
    PERL5_CPANPLUS_IS_RUNNING = 930
    PERL5_CPAN_IS_RUNNING = 930
    PERLBREW_BASHRC_VERSION = 0.80
    PERLBREW_HOME = /home/njh/.perlbrew
    PERLBREW_MANPATH = /home/njh/perl5/perlbrew/perls/perl-5.24.0/man
    PERLBREW_PATH = /home/njh/perl5/perlbrew/bin:/home/njh/perl5/perlbrew/perls/perl-5.24.0/bin
    PERLBREW_PERL = perl-5.24.0
    PERLBREW_ROOT = /home/njh/perl5/perlbrew
    PERLBREW_VERSION = 0.80
    SHELL = /bin/sh

Perl special variables (and OS-specific diagnostics, for MSWin32):

    $^X = /home/njh/perl5/perlbrew/perls/perl-5.24.0/bin/perl5.24.0
    $UID/$EUID = 1000 / 1000
    $GID = 1000 4 20 24 25 27 29 30 44 46 60 100 101 108 997 998 999 1000
    $EGID = 1000 4 20 24 25 27 29 30 44 46 60 100 101 108 997 998 999 1000

Perl module toolchain versions installed:

    Module              Have    
    ------------------- --------
    CPAN                2.16    
    CPAN::Meta          2.150010
    Cwd                 3.63    
    ExtUtils::CBuilder  0.280225
    ExtUtils::Command   7.30    
    ExtUtils::Install   2.06    
    ExtUtils::MakeMaker 7.30    
    ExtUtils::Manifest  1.70    
    ExtUtils::ParseXS   3.31    
    File::Spec          3.63    
    JSON                2.94    
    JSON::PP            2.27300 
    Module::Build       0.4220  
    Module::Signature   n/a     
    Parse::CPAN::Meta   2.150010
    Test::Harness       3.36    
    Test::More          1.302073
    YAML                1.24    
    YAML::Syck          1.30    
    version             0.9916  


--

Summary of my perl5 (revision 5 version 24 subversion 0) configuration:
   
  Platform:
    osname=linux, osvers=4.4.9-v7+, archname=armv7l-linux-thread-multi
    uname='linux pi2.bandsman.co.uk 4.4.9-v7+ #884 smp fri may 6 17:28:59 bst 2016 armv7l gnulinux '
    config_args='-de -Dprefix=/home/njh/perl5/perlbrew/perls/perl-5.24.0 -Duseithreads -Dusemultiplicity -Dusedevel -Accflags=-O2 -W -Wformat=2 -Wswitch -Wshadow -Wwrite-strings -Wuninitialized -Wall -pipe -fomit-frame-pointer -D_FORTIFY_SOURCE=2 -Wpointer-arith -Wstrict-prototypes -fstack-protector -Wstack-protector -Wextra -Wbad-function-cast -Wcast-align -Wcast-qual -Wdisabled-optimization -Wendif-labels -Wfloat-equal -Wformat-nonliteral -Winline -Wmissing-declarations -Wmissing-prototypes -Wnested-externs -Wpointer-arith -Wundef -Wformat-security -mtune=native -march=native -mfpu=vfp -mfloat-abi=hard -Aeval:scriptdir=/home/njh/perl5/perlbrew/perls/perl-5.24.0/bin'
    hint=recommended, useposix=true, d_sigaction=define
    useithreads=define, usemultiplicity=define
    use64bitint=undef, use64bitall=undef, uselongdouble=undef
    usemymalloc=n, bincompat5005=undef
  Compiler:
    cc='cc', ccflags ='-D_REENTRANT -D_GNU_SOURCE -O2 -W -Wformat=2 -Wswitch -Wshadow -Wwrite-strings -Wuninitialized -Wall -pipe -fomit-frame-pointer -D_FORTIFY_SOURCE=2 -Wpointer-arith -Wstrict-prototypes -fstack-protector -Wstack-protector -Wextra -Wbad-function-cast -Wcast-align -Wcast-qual -Wdisabled-optimization -Wendif-labels -Wfloat-equal -Wformat-nonliteral -Winline -Wmissing-declarations -Wmissing-prototypes -Wnested-externs -Wpointer-arith -Wundef -Wformat-security -mtune=native -march=native -mfpu=vfp -mfloat-abi=hard -fwrapv -fno-strict-aliasing -fstack-protector-strong -I/usr/local/include -D_LARGEFILE_SOURCE -D_FILE_OFFSET_BITS=64',
    optimize='-O2',
    cppflags='-D_REENTRANT -D_GNU_SOURCE -O2 -W -Wformat=2 -Wswitch -Wshadow -Wwrite-strings -Wuninitialized -Wall -pipe -fomit-frame-pointer -D_FORTIFY_SOURCE=2 -Wpointer-arith -Wstrict-prototypes -fstack-protector -Wstack-protector -Wextra -Wbad-function-cast -Wcast-align -Wcast-qual -Wdisabled-optimization -Wendif-labels -Wfloat-equal -Wformat-nonliteral -Winline -Wmissing-declarations -Wmissing-prototypes -Wnested-externs -Wpointer-arith -Wundef -Wformat-security -mtune=native -march=native -mfpu=vfp -mfloat-abi=hard -fwrapv -fno-strict-aliasing -fstack-protector-strong -I/usr/local/include'
    ccversion='', gccversion='4.9.2', gccosandvers=''
    intsize=4, longsize=4, ptrsize=4, doublesize=8, byteorder=1234, doublekind=3
    d_longlong=define, longlongsize=8, d_longdbl=define, longdblsize=8, longdblkind=0
    ivtype='long', ivsize=4, nvtype='double', nvsize=8, Off_t='off_t', lseeksize=8
    alignbytes=8, prototype=define
  Linker and Libraries:
    ld='cc', ldflags =' -fstack-protector-strong -L/usr/local/lib'
    libpth=/usr/local/lib /usr/lib/gcc/arm-linux-gnueabihf/4.9/include-fixed /usr/include/arm-linux-gnueabihf /usr/lib /lib/arm-linux-gnueabihf /lib /usr/lib/arm-linux-gnueabihf
    libs=-lpthread -lnsl -lgdbm -ldb -ldl -lm -lcrypt -lutil -lc -lgdbm_compat
    perllibs=-lpthread -lnsl -ldl -lm -lcrypt -lutil -lc
    libc=libc-2.19.so, so=so, useshrplib=false, libperl=libperl.a
    gnulibc_version='2.19'
  Dynamic Linking:
    dlsrc=dl_dlopen.xs, dlext=so, d_dlsymun=undef, ccdlflags='-Wl,-E'
    cccdlflags='-fPIC', lddlflags='-shared -O2 -L/usr/local/lib -fstack-protector-strong'


Characteristics of this binary (from libperl): 
  Compile-time options: HAS_TIMES MULTIPLICITY PERLIO_LAYERS
                        PERL_COPY_ON_WRITE PERL_DONT_CREATE_GVSV
                        PERL_HASH_FUNC_ONE_AT_A_TIME_HARD
                        PERL_IMPLICIT_CONTEXT PERL_MALLOC_WRAP
                        PERL_PRESERVE_IVUV PERL_USE_DEVEL USE_ITHREADS
                        USE_LARGE_FILES USE_LOCALE USE_LOCALE_COLLATE
                        USE_LOCALE_CTYPE USE_LOCALE_NUMERIC USE_LOCALE_TIME
                        USE_PERLIO USE_PERL_ATOF USE_REENTRANT_API
  Built under linux
  Compiled at May 10 2016 19:35:27
  %ENV:
    PERL5LIB="/home/njh/.cpan/build/Config-Entities-1.07-0/blib/arch:/home/njh/.cpan/build/Config-Entities-1.07-0/blib/lib:/home/njh/.cpan/build/App-Cmd-0.331-2/blib/arch:/home/njh/.cpan/build/App-Cmd-0.331-2/blib/lib:/home/njh/.cpan/build/String-RewritePrefix-0.007-0/blib/arch:/home/njh/.cpan/build/String-RewritePrefix-0.007-0/blib/lib:/home/njh/.cpan/build/IO-TieCombine-1.005-2/blib/arch:/home/njh/.cpan/build/IO-TieCombine-1.005-2/blib/lib:/home/njh/.cpan/build/Getopt-Long-Descriptive-0.101-2/blib/arch:/home/njh/.cpan/build/Getopt-Long-Descriptive-0.101-2/blib/lib:/home/njh/.cpan/build/DBD-CSV-0.49-0/blib/arch:/home/njh/.cpan/build/DBD-CSV-0.49-0/blib/lib:/home/njh/.cpan/build/Text-CSV_XS-1.34-0/blib/arch:/home/njh/.cpan/build/Text-CSV_XS-1.34-0/blib/lib:/home/njh/.cpan/build/SQL-Statement-1.412-0/blib/arch:/home/njh/.cpan/build/SQL-Statement-1.412-0/blib/lib:/home/njh/.cpan/build/Math-Base-Convert-0.11-0/blib/arch:/home/njh/.cpan/build/Math-Base-Convert-0.11-0/blib/lib:/home/njh/.cpan/build/Clone-0.39-0/blib/arch:/home/njh/.cpan/build/Clone-0.39-0/blib/lib"
    PERL5OPT=""
    PERL5_CPANPLUS_IS_RUNNING="930"
    PERL5_CPAN_IS_RUNNING="930"
    PERLBREW_BASHRC_VERSION="0.80"
    PERLBREW_HOME="/home/njh/.perlbrew"
    PERLBREW_MANPATH="/home/njh/perl5/perlbrew/perls/perl-5.24.0/man"
    PERLBREW_PATH="/home/njh/perl5/perlbrew/bin:/home/njh/perl5/perlbrew/perls/perl-5.24.0/bin"
    PERLBREW_PERL="perl-5.24.0"
    PERLBREW_ROOT="/home/njh/perl5/perlbrew"
    PERLBREW_VERSION="0.80"
  @INC:
    /home/njh/.cpan/build/Config-Entities-1.07-0/blib/arch
    /home/njh/.cpan/build/Config-Entities-1.07-0/blib/lib
    /home/njh/.cpan/build/App-Cmd-0.331-2/blib/arch
    /home/njh/.cpan/build/App-Cmd-0.331-2/blib/lib
    /home/njh/.cpan/build/String-RewritePrefix-0.007-0/blib/arch
    /home/njh/.cpan/build/String-RewritePrefix-0.007-0/blib/lib
    /home/njh/.cpan/build/IO-TieCombine-1.005-2/blib/arch
    /home/njh/.cpan/build/IO-TieCombine-1.005-2/blib/lib
    /home/njh/.cpan/build/Getopt-Long-Descriptive-0.101-2/blib/arch
    /home/njh/.cpan/build/Getopt-Long-Descriptive-0.101-2/blib/lib
    /home/njh/.cpan/build/DBD-CSV-0.49-0/blib/arch
    /home/njh/.cpan/build/DBD-CSV-0.49-0/blib/lib
    /home/njh/.cpan/build/Text-CSV_XS-1.34-0/blib/arch
    /home/njh/.cpan/build/Text-CSV_XS-1.34-0/blib/lib
    /home/njh/.cpan/build/SQL-Statement-1.412-0/blib/arch
    /home/njh/.cpan/build/SQL-Statement-1.412-0/blib/lib
    /home/njh/.cpan/build/Math-Base-Convert-0.11-0/blib/arch
    /home/njh/.cpan/build/Math-Base-Convert-0.11-0/blib/lib
    /home/njh/.cpan/build/Clone-0.39-0/blib/arch
    /home/njh/.cpan/build/Clone-0.39-0/blib/lib
    /home/njh/perl5/perlbrew/perls/perl-5.24.0/lib/site_perl/5.24.0/armv7l-linux-thread-multi
    /home/njh/perl5/perlbrew/perls/perl-5.24.0/lib/site_perl/5.24.0
    /home/njh/perl5/perlbrew/perls/perl-5.24.0/lib/5.24.0/armv7l-linux-thread-multi
    /home/njh/perl5/perlbrew/perls/perl-5.24.0/lib/5.24.0
    .