Iterator-Simple v0.07 Perl 5 v5.28.1 evbarm-netbsd

Status
Pass
From
Nigel Horne
Dist
Iterator-Simple v0.07
Platform
Perl 5 v5.28.1 evbarm-netbsd
Date
2019-07-07 07:57:51
ID
eb3dd5d4-a08c-11e9-8fa9-99a29f1e7dde
This distribution has been tested as part of the CPAN Testers
project, supporting the Perl programming language.  See
http://wiki.cpantesters.org/ for more information or email
questions to cpan-testers-discuss@perl.org


--
Dear Michael Roberts,

This is a computer-generated report for Iterator-Simple-0.07
on perl 5.28.1, created by CPAN-Reporter-1.2018.

Thank you for uploading your work to CPAN.  Congratulations!
All tests were successful.

Sections of this report:

    * Tester comments
    * Program output
    * Prerequisites
    * Environment and other context

------------------------------
TESTER COMMENTS
------------------------------

Additional comments from tester:

this report is from an automated smoke testing program
and was not reviewed by a human for accuracy

------------------------------
PROGRAM OUTPUT
------------------------------

Output from '/usr/bin/make test':

PERL_DL_NONLAZY=1 "/mnt/nas/home/pi2c/njh/perl5/perlbrew/perls/perl-5.28.1/bin/perl5.28.1" "-MExtUtils::Command::MM" "-MTest::Harness" "-e" "undef *Test::Harness::Switches; test_harness(0, 'inc', 'blib/lib', 'blib/arch')" t/*.t
t/00_compile.t ... ok
t/10_basic.t ..... ok
t/11_iter.t ...... ok
t/12_list.t ...... ok
t/21_mapgrep.t ... ok
t/22_ifilter.t ... ok
t/23_iflatten.t .. ok
t/24_imisc.t ..... ok
t/25_islice.t .... ok
t/30_oo.t ........ ok
t/40_defval.t .... ok
All tests successful.
Files=11, Tests=67, 22 wallclock secs ( 0.40 usr  0.41 sys +  8.48 cusr 10.61 csys = 19.90 CPU)
Result: PASS

------------------------------
PREREQUISITES
------------------------------

Prerequisite modules loaded:

requires:

    Module              Need Have    
    ------------------- ---- --------
    Scalar::Util        0    1.50    
    Test::More          0    1.302162

build_requires:

    Module              Need Have    
    ------------------- ---- --------
    ExtUtils::MakeMaker 0    7.34    


------------------------------
ENVIRONMENT AND OTHER CONTEXT
------------------------------

Environment variables:

    AUTOMATED_TESTING = 1
    PATH = /home/njh/perl5/perlbrew/bin:/home/njh/perl5/perlbrew/perls/perl-5.28.1/bin:/usr/bin:/bin:/usr/pkg/bin:/usr/local/bin:/home/njh/src/njh/smoker/bin
    PERL5LIB = /var/tmp/build/Data-Dump-1.23-2/blib/arch:/var/tmp/build/Data-Dump-1.23-2/blib/lib:/var/tmp/build/Bit-Vector-7.4-2/blib/arch:/var/tmp/build/Bit-Vector-7.4-2/blib/lib:/var/tmp/build/Carp-Clan-6.07-2/blib/arch:/var/tmp/build/Carp-Clan-6.07-2/blib/lib:/var/tmp/build/Asm-Z80-Table-0.03-2/blib/arch:/var/tmp/build/Asm-Z80-Table-0.03-2/blib/lib:/var/tmp/build/Text-Template-1.55-2/blib/arch:/var/tmp/build/Text-Template-1.55-2/blib/lib:/var/tmp/build/Test-More-UTF8-0.05-2/blib/arch:/var/tmp/build/Test-More-UTF8-0.05-2/blib/lib:/var/tmp/build/List-MoreUtils-0.428-1/blib/arch:/var/tmp/build/List-MoreUtils-0.428-1/blib/lib:/var/tmp/build/Test-LeakTrace-0.16-1/blib/arch:/var/tmp/build/Test-LeakTrace-0.16-1/blib/lib:/var/tmp/build/List-MoreUtils-XS-0.428-1/blib/arch:/var/tmp/build/List-MoreUtils-XS-0.428-1/blib/lib:/var/tmp/build/Exporter-Tiny-1.002001-1/blib/arch:/var/tmp/build/Exporter-Tiny-1.002001-1/blib/lib:/var/tmp/build/Iterator-Array-Jagged-0.05-2/blib/arch:/var/tmp/build/Iterator-Array-Jagged-0.05-2/blib/lib:/var/tmp/build/File-Slurp-9999.27-1/blib/arch:/var/tmp/build/File-Slurp-9999.27-1/blib/lib
    PERL5OPT = 
    PERL5_CPANPLUS_IS_RUNNING = 6455
    PERL5_CPAN_IS_RUNNING = 6455
    PERL5_CPAN_IS_RUNNING_IN_RECURSION = 5664,6455
    PERLBREW_HOME = /home/njh/.perlbrew
    PERLBREW_MANPATH = /home/njh/perl5/perlbrew/perls/perl-5.28.1/man
    PERLBREW_PATH = /home/njh/perl5/perlbrew/bin:/home/njh/perl5/perlbrew/perls/perl-5.28.1/bin
    PERLBREW_PERL = perl-5.28.1
    PERLBREW_ROOT = /home/njh/perl5/perlbrew
    PERLBREW_SHELLRC_VERSION = 0.86
    PERLBREW_VERSION = 0.86
    PERL_USE_UNSAFE_INC = 1
    SHELL = /bin/sh
    TMPDIR = /tmp/testwrapper.6118

Perl special variables (and OS-specific diagnostics, for MSWin32):

    $^X = /mnt/nas/home/pi2c/njh/perl5/perlbrew/perls/perl-5.28.1/bin/perl5.28.1
    $UID/$EUID = 1000 / 1000
    $GID = 1000 1000 0
    $EGID = 1000 1000 0

Perl module toolchain versions installed:

    Module              Have    
    ------------------- --------
    CPAN                2.26    
    CPAN::Meta          2.150010
    Cwd                 3.74    
    ExtUtils::CBuilder  0.280230
    ExtUtils::Command   7.34    
    ExtUtils::Install   2.14    
    ExtUtils::MakeMaker 7.34    
    ExtUtils::Manifest  1.70    
    ExtUtils::ParseXS   3.39    
    File::Spec          3.74    
    JSON                4.02    
    JSON::PP            2.97001 
    Module::Build       0.4224  
    Module::Signature   n/a     
    Parse::CPAN::Meta   2.150010
    Test::Harness       3.42    
    Test::More          1.302162
    YAML                1.29    
    YAML::Syck          1.31    
    version             0.9923  


--

Summary of my perl5 (revision 5 version 28 subversion 1) configuration:
   
  Platform:
    osname=netbsd
    osvers=8.0_beta
    archname=evbarm-netbsd
    uname='netbsd pi2c.bandsman.co.uk 8.0_beta netbsd 8.0_beta (rpi2.201710161240z) evbarm '
    config_args='-de -Dprefix=/home/njh/perl5/perlbrew/perls/perl-5.28.1 -Dusedevel -Accflags=-O2 -W -Wformat=2 -Wswitch -Wshadow -Wwrite-strings -Wuninitialized -Wall -pipe -fomit-frame-pointer -D_FORTIFY_SOURCE=2 -Wpointer-arith -Wstrict-prototypes -fstack-protector -Wstack-protector -Wextra -Wbad-function-cast -Wcast-align -Wcast-qual -Wdisabled-optimization -Wendif-labels -Wfloat-equal -Wformat-nonliteral -Winline -Wmissing-declarations -Wmissing-prototypes -Wnested-externs -Wpointer-arith -Wundef -Wformat-security -mfpu=neon-vfpv4 -mfloat-abi=hard -mtune=cortex-a7 -Aeval:scriptdir=/home/njh/perl5/perlbrew/perls/perl-5.28.1/bin'
    hint=recommended
    useposix=true
    d_sigaction=define
    useithreads=undef
    usemultiplicity=undef
    use64bitint=undef
    use64bitall=undef
    uselongdouble=undef
    usemymalloc=n
    default_inc_excludes_dot=define
    bincompat5005=undef
  Compiler:
    cc='cc'
    ccflags ='-O2 -W -Wformat=2 -Wswitch -Wshadow -Wwrite-strings -Wuninitialized -Wall -pipe -fomit-frame-pointer -D_FORTIFY_SOURCE=2 -Wpointer-arith -Wstrict-prototypes -fstack-protector -Wstack-protector -Wextra -Wbad-function-cast -Wcast-align -Wcast-qual -Wdisabled-optimization -Wendif-labels -Wfloat-equal -Wformat-nonliteral -Winline -Wmissing-declarations -Wmissing-prototypes -Wnested-externs -Wpointer-arith -Wundef -Wformat-security -mfpu=neon-vfpv4 -mfloat-abi=hard -mtune=cortex-a7 -fwrapv -fno-strict-aliasing -fstack-protector-strong -I/usr/pkg/include'
    optimize='-O'
    cppflags='-O2 -W -Wformat=2 -Wswitch -Wshadow -Wwrite-strings -Wuninitialized -Wall -pipe -fomit-frame-pointer -D_FORTIFY_SOURCE=2 -Wpointer-arith -Wstrict-prototypes -fstack-protector -Wstack-protector -Wextra -Wbad-function-cast -Wcast-align -Wcast-qual -Wdisabled-optimization -Wendif-labels -Wfloat-equal -Wformat-nonliteral -Winline -Wmissing-declarations -Wmissing-prototypes -Wnested-externs -Wpointer-arith -Wundef -Wformat-security -mfpu=neon-vfpv4 -mfloat-abi=hard -mtune=cortex-a7 -fwrapv -fno-strict-aliasing -fstack-protector-strong -I/usr/pkg/include'
    ccversion=''
    gccversion='5.4.0'
    gccosandvers=''
    intsize=4
    longsize=4
    ptrsize=4
    doublesize=8
    byteorder=1234
    doublekind=3
    d_longlong=define
    longlongsize=8
    d_longdbl=define
    longdblsize=8
    longdblkind=0
    ivtype='long'
    ivsize=4
    nvtype='double'
    nvsize=8
    Off_t='off_t'
    lseeksize=8
    alignbytes=8
    prototype=define
  Linker and Libraries:
    ld='cc'
    ldflags =' -Wl,-rpath,/usr/pkg/lib -Wl,-rpath,/usr/local/lib -fstack-protector-strong -L/usr/pkg/lib'
    libpth=/usr/include/gcc-5 /usr/lib /usr/pkg/lib /lib
    libs=-lpthread -lm -lcrypt -lutil -lc -lposix
    perllibs=-lpthread -lm -lcrypt -lutil -lc -lposix
    libc=/lib/libc.so
    so=so
    useshrplib=false
    libperl=libperl.a
    gnulibc_version=''
  Dynamic Linking:
    dlsrc=dl_dlopen.xs
    dlext=so
    d_dlsymun=undef
    ccdlflags='-Wl,-E '
    cccdlflags='-DPIC -fPIC '
    lddlflags='-shared  -L/usr/pkg/lib -fstack-protector-strong'


Characteristics of this binary (from libperl): 
  Compile-time options:
    HAS_TIMES
    PERLIO_LAYERS
    PERL_COPY_ON_WRITE
    PERL_DONT_CREATE_GVSV
    PERL_MALLOC_WRAP
    PERL_OP_PARENT
    PERL_PRESERVE_IVUV
    PERL_USE_DEVEL
    USE_LARGE_FILES
    USE_LOCALE
    USE_LOCALE_COLLATE
    USE_LOCALE_CTYPE
    USE_LOCALE_NUMERIC
    USE_LOCALE_TIME
    USE_PERLIO
    USE_PERL_ATOF
  Locally applied patches:
    Devel::PatchPerl 1.38
  Built under netbsd
  Compiled at Dec 11 2018 09:00:56
  %ENV:
    PERL5LIB="/var/tmp/build/Data-Dump-1.23-2/blib/arch:/var/tmp/build/Data-Dump-1.23-2/blib/lib:/var/tmp/build/Bit-Vector-7.4-2/blib/arch:/var/tmp/build/Bit-Vector-7.4-2/blib/lib:/var/tmp/build/Carp-Clan-6.07-2/blib/arch:/var/tmp/build/Carp-Clan-6.07-2/blib/lib:/var/tmp/build/Asm-Z80-Table-0.03-2/blib/arch:/var/tmp/build/Asm-Z80-Table-0.03-2/blib/lib:/var/tmp/build/Text-Template-1.55-2/blib/arch:/var/tmp/build/Text-Template-1.55-2/blib/lib:/var/tmp/build/Test-More-UTF8-0.05-2/blib/arch:/var/tmp/build/Test-More-UTF8-0.05-2/blib/lib:/var/tmp/build/List-MoreUtils-0.428-1/blib/arch:/var/tmp/build/List-MoreUtils-0.428-1/blib/lib:/var/tmp/build/Test-LeakTrace-0.16-1/blib/arch:/var/tmp/build/Test-LeakTrace-0.16-1/blib/lib:/var/tmp/build/List-MoreUtils-XS-0.428-1/blib/arch:/var/tmp/build/List-MoreUtils-XS-0.428-1/blib/lib:/var/tmp/build/Exporter-Tiny-1.002001-1/blib/arch:/var/tmp/build/Exporter-Tiny-1.002001-1/blib/lib:/var/tmp/build/Iterator-Array-Jagged-0.05-2/blib/arch:/var/tmp/build/Iterator-Array-Jagged-0.05-2/blib/lib:/var/tmp/build/File-Slurp-9999.27-1/blib/arch:/var/tmp/build/File-Slurp-9999.27-1/blib/lib"
    PERL5OPT=""
    PERL5_CPANPLUS_IS_RUNNING="6455"
    PERL5_CPAN_IS_RUNNING="6455"
    PERL5_CPAN_IS_RUNNING_IN_RECURSION="5664,6455"
    PERLBREW_HOME="/home/njh/.perlbrew"
    PERLBREW_MANPATH="/home/njh/perl5/perlbrew/perls/perl-5.28.1/man"
    PERLBREW_PATH="/home/njh/perl5/perlbrew/bin:/home/njh/perl5/perlbrew/perls/perl-5.28.1/bin"
    PERLBREW_PERL="perl-5.28.1"
    PERLBREW_ROOT="/home/njh/perl5/perlbrew"
    PERLBREW_SHELLRC_VERSION="0.86"
    PERLBREW_VERSION="0.86"
    PERL_USE_UNSAFE_INC="1"
  @INC:
    /var/tmp/build/Data-Dump-1.23-2/blib/arch
    /var/tmp/build/Data-Dump-1.23-2/blib/lib
    /var/tmp/build/Bit-Vector-7.4-2/blib/arch
    /var/tmp/build/Bit-Vector-7.4-2/blib/lib
    /var/tmp/build/Carp-Clan-6.07-2/blib/arch
    /var/tmp/build/Carp-Clan-6.07-2/blib/lib
    /var/tmp/build/Asm-Z80-Table-0.03-2/blib/arch
    /var/tmp/build/Asm-Z80-Table-0.03-2/blib/lib
    /var/tmp/build/Text-Template-1.55-2/blib/arch
    /var/tmp/build/Text-Template-1.55-2/blib/lib
    /var/tmp/build/Test-More-UTF8-0.05-2/blib/arch
    /var/tmp/build/Test-More-UTF8-0.05-2/blib/lib
    /var/tmp/build/List-MoreUtils-0.428-1/blib/arch
    /var/tmp/build/List-MoreUtils-0.428-1/blib/lib
    /var/tmp/build/Test-LeakTrace-0.16-1/blib/arch
    /var/tmp/build/Test-LeakTrace-0.16-1/blib/lib
    /var/tmp/build/List-MoreUtils-XS-0.428-1/blib/arch
    /var/tmp/build/List-MoreUtils-XS-0.428-1/blib/lib
    /var/tmp/build/Exporter-Tiny-1.002001-1/blib/arch
    /var/tmp/build/Exporter-Tiny-1.002001-1/blib/lib
    /var/tmp/build/Iterator-Array-Jagged-0.05-2/blib/arch
    /var/tmp/build/Iterator-Array-Jagged-0.05-2/blib/lib
    /var/tmp/build/File-Slurp-9999.27-1/blib/arch
    /var/tmp/build/File-Slurp-9999.27-1/blib/lib
    /home/njh/perl5/perlbrew/perls/perl-5.28.1/lib/site_perl/5.28.1/evbarm-netbsd
    /home/njh/perl5/perlbrew/perls/perl-5.28.1/lib/site_perl/5.28.1
    /home/njh/perl5/perlbrew/perls/perl-5.28.1/lib/5.28.1/evbarm-netbsd
    /home/njh/perl5/perlbrew/perls/perl-5.28.1/lib/5.28.1
    .