Report for Data-Nested-3.12

Back
From: metabase:user:320bfe00-2aae-11df-837a-5e0a49663a4f
Subject: PASS Data-Nested-3.12 v5.15.8 GNU/Linux
Date: 2012-03-06T19:59:44Z

This distribution has been tested as part of the CPAN Testers
project, supporting the Perl programming language.  See
http://wiki.cpantesters.org/ for more information or email
questions to cpan-testers-discuss@perl.org


--
Dear Sullivan Beck,

This is a computer-generated report for Data-Nested-3.12
on perl 5.15.8, created by CPAN-Reporter-1.2004.

Thank you for uploading your work to CPAN.  Congratulations!
All tests were successful.

Sections of this report:

    * Tester comments
    * Program output
    * Prerequisites
    * Environment and other context

------------------------------
TESTER COMMENTS
------------------------------

Additional comments from tester:

this report is from an automated smoke testing program
and was not reviewed by a human for accuracy

------------------------------
PROGRAM OUTPUT
------------------------------

Output from './Build test':

t/dn_check_structure.t ......... ok
t/dn_check_value.t ............. ok
t/dn_delim.t ................... ok
t/dn_empty_1.t ................. ok
t/dn_empty_2.t ................. ok
t/dn_erase_1.t ................. ok
t/dn_erase_2.t ................. ok
t/dn_erase_3.t ................. ok
t/dn_get_merge.t ............... ok
t/dn_get_structure.t ........... ok
t/dn_identical.t ............... ok
t/dn_keys.t .................... ok
t/dn_merge_1.t ................. ok
t/dn_merge_2.t ................. ok
t/dn_merge_path_1.t ............ ok
t/dn_merge_path_2.t ............ ok
t/dn_merge_path_3.t ............ ok
t/dn_nds_1.t ................... ok
t/dn_nds_2.t ................... ok
t/dn_nds_3.t ................... ok
t/dn_path_1.t .................. ok
t/dn_path_2.t .................. ok
t/dn_paths.t ................... ok
t/dn_ruleset.t ................. ok
t/dn_ruleset_valid.t ........... ok
t/dn_set_merge.t ............... ok
t/dn_set_structure.t ........... ok
t/dn_test_conditions.hash.t .... ok
t/dn_test_conditions.list.t .... ok
t/dn_test_conditions.scalar.t .. ok
t/dn_value.t ................... ok
t/dn_values.t .................. ok
t/dn_which_1.t ................. ok
t/dn_which_2.t ................. ok
t/me.add_ele.hash.t ............ ok
t/me.add_ele.list.t ............ ok
t/me.add_ele.olist.t ........... ok
t/me.copy_hash.t ............... ok
t/me.copy_list.t ............... ok
t/me.default_element.hash.t .... ok
t/me.default_element.list.t .... ok
t/me.default_element.olist.t ... ok
t/me.delete_ele.hash.t ......... ok
t/me.delete_ele.list.t ......... ok
t/me.ele.hash.t ................ ok
t/me.ele.list.t ................ ok
t/me.eles.hash.t ............... ok
t/me.eles.list.t ............... ok
t/me.file.hash.error.t ......... ok
t/me.file.hash.t ............... ok
t/me.file.list.error.t ......... ok
t/me.file.list.t ............... ok
t/me.is_default_value.hash.t ... ok
t/me.keys.t .................... ok
t/me.path_in_use.t ............. ok
t/me.path_valid.t .............. ok
t/me.path_values.hash.t ........ ok
t/me.path_values.list.t ........ ok
t/me.rename_ele.hash.t ......... ok
t/me.rename_ele.olist.t ........ ok
t/me.update_ele.t .............. ok
t/me.value.t ................... ok
t/me.values.t .................. ok
t/me.which.hash.t .............. ok
t/me.which.list.t .............. ok
t/mf.add_ele.hash.t ............ ok
t/mf.add_ele.list.t ............ ok
t/mf.copy_hash.t ............... ok
t/mf.copy_list.t ............... ok
t/mf.default_element.hash.t .... ok
t/mf.default_element.list.t .... ok
t/mf.delete_ele.hash.t ......... ok
t/mf.delete_ele.list.t ......... ok
t/mf.ele.hash.t ................ ok
t/mf.ele.list.t ................ ok
t/mf.eles.hash.t ............... ok
t/mf.eles.list.t ............... ok
t/mf.file.hash.error.t ......... ok
t/mf.file.hash.t ............... ok
t/mf.file.list.error.t ......... ok
t/mf.file.list.t ............... ok
t/mf.is_default_value.hash.t ... ok
t/mf.keys.t .................... ok
t/mf.path_in_use.t ............. ok
t/mf.path_valid.t .............. ok
t/mf.path_values.hash.t ........ ok
t/mf.path_values.list.t ........ ok
t/mf.rename_ele.hash.t ......... ok
t/mf.update_ele.t .............. ok
t/mf.value.t ................... ok
t/mf.values.t .................. ok
t/mf.which.hash.t .............. ok
t/mf.which.list.t .............. ok
t/pod.t ........................ ok
t/pod_coverage.t ............... ok
All tests successful.
Files=95, Tests=850,  8 wallclock secs ( 0.23 usr  0.10 sys +  4.36 cusr  0.72 csys =  5.41 CPU)
Result: PASS

------------------------------
PREREQUISITES
------------------------------

Prerequisite modules loaded:

requires:

    Module             Need  Have    
    ------------------ ----- --------
    Algorithm::Permute 0     0.12    
    IO::File           0     1.16    
    perl               5.001 5.015008
    Storable           0     2.34    
    YAML::Syck         0     1.20    

configure_requires:

    Module             Need  Have    
    ------------------ ----- --------
    Module::Build      0.36  0.40    


------------------------------
ENVIRONMENT AND OTHER CONTEXT
------------------------------

Environment variables:

    AUTOMATED_TESTING = 1
    LANG = en_US.UTF-8
    LANGUAGE = en_US:en
    PATH = /home/sand/bin:/usr/local/bin:/usr/bin:/bin:/usr/bin/X11:/usr/games:/usr/local/perl/bin:/usr/X11/bin:/sbin:/usr/sbin
    PERL5LIB = 
    PERL5OPT = 
    PERL5_CPANPLUS_IS_RUNNING = 7923
    PERL5_CPAN_IS_RUNNING = 7923
    PERL_MM_USE_DEFAULT = 1
    SHELL = /usr/bin/zsh
    TERM = screen

Perl special variables (and OS-specific diagnostics, for MSWin32):

    $^X = /home/sand/src/perl/repoperls/installed-perls/perl/v5.15.8-65-g3562d44/a2da/bin/perl
    $UID/$EUID = 1005 / 1005
    $GID = 1005 1005
    $EGID = 1005 1005

Perl module toolchain versions installed:

    Module              Have    
    ------------------- --------
    CPAN                1.9800  
    CPAN::Meta          2.120351
    Cwd                 3.39_02 
    ExtUtils::CBuilder  0.280206
    ExtUtils::Command   1.17    
    ExtUtils::Install   1.58    
    ExtUtils::MakeMaker 6.63_02 
    ExtUtils::Manifest  1.61    
    ExtUtils::ParseXS   3.16    
    File::Spec          3.39_02 
    JSON                2.53    
    JSON::PP            2.27200 
    Module::Build       0.40    
    Module::Signature   0.68    
    Parse::CPAN::Meta   1.4402  
    Test::Harness       3.23    
    Test::More          0.98    
    YAML                0.80    
    YAML::Syck          1.20    
    version             0.96    


--

Summary of my perl5 (revision 5 version 15 subversion 8) configuration:
  Commit id: 3562d4444938144e590f084fe30b4d0abe5270b2
  Platform:
    osname=linux, osvers=3.2.0-1-amd64, archname=x86_64-linux-thread-multi-ld
    uname='linux k83 3.2.0-1-amd64 #1 smp sun feb 5 15:17:15 utc 2012 x86_64 gnulinux '
    config_args='-Dprefix=/home/src/perl/repoperls/installed-perls/perl/v5.15.8-65-g3562d44/a2da -Dmyhostname=k83 -Dinstallusrbinperl=n -Uversiononly -Dusedevel -des -Ui_db -Duseithreads -Duselongdouble -DDEBUGGING=-g'
    hint=recommended, useposix=true, d_sigaction=define
    useithreads=define, usemultiplicity=define
    useperlio=define, d_sfio=undef, uselargefiles=define, usesocks=undef
    use64bitint=define, use64bitall=define, uselongdouble=define
    usemymalloc=n, bincompat5005=undef
  Compiler:
    cc='cc', ccflags ='-D_REENTRANT -D_GNU_SOURCE -fno-strict-aliasing -pipe -fstack-protector -I/usr/local/include -D_LARGEFILE_SOURCE -D_FILE_OFFSET_BITS=64',
    optimize='-O2 -g',
    cppflags='-D_REENTRANT -D_GNU_SOURCE -fno-strict-aliasing -pipe -fstack-protector -I/usr/local/include'
    ccversion='', gccversion='4.6.2', gccosandvers=''
    intsize=4, longsize=8, ptrsize=8, doublesize=8, byteorder=12345678
    d_longlong=define, longlongsize=8, d_longdbl=define, longdblsize=16
    ivtype='long', ivsize=8, nvtype='long double', nvsize=16, Off_t='off_t', lseeksize=8
    alignbytes=16, prototype=define
  Linker and Libraries:
    ld='cc', ldflags =' -fstack-protector -L/usr/local/lib'
    libpth=/usr/local/lib /lib/x86_64-linux-gnu /lib/../lib /usr/lib/x86_64-linux-gnu /usr/lib/../lib /lib /usr/lib
    libs=-lnsl -ldb -ldl -lm -lcrypt -lutil -lpthread -lc
    perllibs=-lnsl -ldl -lm -lcrypt -lutil -lpthread -lc
    libc=, so=so, useshrplib=false, libperl=libperl.a
    gnulibc_version='2.13'
  Dynamic Linking:
    dlsrc=dl_dlopen.xs, dlext=so, d_dlsymun=undef, ccdlflags='-Wl,-E'
    cccdlflags='-fPIC', lddlflags='-shared -O2 -g -L/usr/local/lib -fstack-protector'


Characteristics of this binary (from libperl): 
  Compile-time options: HAS_TIMES MULTIPLICITY PERLIO_LAYERS
                        PERL_DONT_CREATE_GVSV PERL_IMPLICIT_CONTEXT
                        PERL_MALLOC_WRAP PERL_PRESERVE_IVUV PERL_USE_DEVEL
                        USE_64_BIT_ALL USE_64_BIT_INT USE_ITHREADS
                        USE_LARGE_FILES USE_LOCALE USE_LOCALE_COLLATE
                        USE_LOCALE_CTYPE USE_LOCALE_NUMERIC USE_LONG_DOUBLE
                        USE_PERLIO USE_PERL_ATOF USE_REENTRANT_API
  Built under linux
  Compiled at Mar  2 2012 00:41:05
  %ENV:
    PERL5LIB=""
    PERL5OPT=""
    PERL5_CPANPLUS_IS_RUNNING="7923"
    PERL5_CPAN_IS_RUNNING="7923"
    PERL_MM_USE_DEFAULT="1"
  @INC:
    /home/src/perl/repoperls/installed-perls/perl/v5.15.8-65-g3562d44/a2da/lib/site_perl/5.15.8/x86_64-linux-thread-multi-ld
    /home/src/perl/repoperls/installed-perls/perl/v5.15.8-65-g3562d44/a2da/lib/site_perl/5.15.8
    /home/src/perl/repoperls/installed-perls/perl/v5.15.8-65-g3562d44/a2da/lib/5.15.8/x86_64-linux-thread-multi-ld
    /home/src/perl/repoperls/installed-perls/perl/v5.15.8-65-g3562d44/a2da/lib/5.15.8
    .